BEGIN:VCALENDAR
VERSION:2.0
PRODID:-//Office de tourisme Aumale blangy sur bresle - ECPv6.0.9//NONSGML v1.0//EN
CALSCALE:GREGORIAN
METHOD:PUBLISH
X-WR-CALNAME:Office de tourisme Aumale blangy sur bresle
X-ORIGINAL-URL:https://www.tourisme-aumale-blangy.fr
X-WR-CALDESC:évènements pour Office de tourisme Aumale blangy sur bresle
REFRESH-INTERVAL;VALUE=DURATION:PT1H
X-Robots-Tag:noindex
X-PUBLISHED-TTL:PT1H
BEGIN:VTIMEZONE
TZID:Europe/Paris
BEGIN:DAYLIGHT
TZOFFSETFROM:+0100
TZOFFSETTO:+0200
TZNAME:CEST
DTSTART:20230326T010000
END:DAYLIGHT
BEGIN:STANDARD
TZOFFSETFROM:+0200
TZOFFSETTO:+0100
TZNAME:CET
DTSTART:20231029T010000
END:STANDARD
BEGIN:DAYLIGHT
TZOFFSETFROM:+0100
TZOFFSETTO:+0200
TZNAME:CEST
DTSTART:20240331T010000
END:DAYLIGHT
BEGIN:STANDARD
TZOFFSETFROM:+0200
TZOFFSETTO:+0100
TZNAME:CET
DTSTART:20241027T010000
END:STANDARD
BEGIN:DAYLIGHT
TZOFFSETFROM:+0100
TZOFFSETTO:+0200
TZNAME:CEST
DTSTART:20250330T010000
END:DAYLIGHT
BEGIN:STANDARD
TZOFFSETFROM:+0200
TZOFFSETTO:+0100
TZNAME:CET
DTSTART:20251026T010000
END:STANDARD
BEGIN:DAYLIGHT
TZOFFSETFROM:+0100
TZOFFSETTO:+0200
TZNAME:CEST
DTSTART:20260329T010000
END:DAYLIGHT
BEGIN:STANDARD
TZOFFSETFROM:+0200
TZOFFSETTO:+0100
TZNAME:CET
DTSTART:20261025T010000
END:STANDARD
END:VTIMEZONE
BEGIN:VEVENT
DTSTART;VALUE=DATE:20231206
DTEND;VALUE=DATE:20260106
DTSTAMP:20260424T165042
CREATED:20231201T161211Z
LAST-MODIFIED:20251212T105758Z
UID:258545-1701820800-1767657599@www.tourisme-aumale-blangy.fr
SUMMARY:Les menus pour les fêtes de fin d'année
DESCRIPTION:Vous n’avez pas envie de cuisiner pour les fêtes de fin d’année ? \nLes restaurateurs et traiteurs du territoire vous proposent leur carte spéciale. \nLes idées menus :\n\n\n  \n\n  \nVous pouvez également commandez vos plateaux de fromages\, charcuteries\, fruits secs dans vos épiceries : Le grenier fromager de Blangy-sur-Bresle / Le bon marché Aumalois. \nRetrouvez toutes les cartes de menus\, desserts et autres accompagnements chez vos commerçants !
URL:https://www.tourisme-aumale-blangy.fr/agenda/menus-de-fin-dannee/
CATEGORIES:Adulte,Animations,Mise en avant sur l'accueil,Repas
ATTACH;FMTTYPE=image/jpeg:https://www.tourisme-aumale-blangy.fr/wp-content/uploads/2023/12/table-de-Noel-©Pixabay.jpg
END:VEVENT
BEGIN:VEVENT
DTSTART;TZID=Europe/Paris:20240404T000100
DTEND;TZID=Europe/Paris:20250531T235900
DTSTAMP:20260424T165042
CREATED:20211202T124704Z
LAST-MODIFIED:20250325T234907Z
UID:100435-1712188860-1748735940@www.tourisme-aumale-blangy.fr
SUMMARY:Joyeux anniversaire la BibOC
DESCRIPTION:Cette année\, la bibOC fête ses 20 ans\, et pour fêter l’évènement ensemble\, nous vous proposons une ou plusieurs animations spéciales chaque mois.\nCe mois-ci\, plongez dans une exposition inédite ! Vernissage : Vendredi 4 avril : 18h\nDécouvrez les temps forts de ces 20 dernières années\, portrait d’Odette CLERE\, les évolutions de la bibliothèque\, etc …\nA cette occasion\, un tirage au sort sera effectué du jeu concours : 20 abonnements offerts\nEntrée gratuite – Ouvert à tous aux horaires suivants :\n– Mardi 14h – 18h\n– Mercredi : 9h30 – 12h / 14h – 18h\n– Vendredi : 14h-19h\n– Samedi : 9h30 – 12h / 14h – 16h\nInfos : 02 35 93 23 31 \n\n\n                                    \n                                   \n\n                                    \n                                   \n\n                                    \n                                   \n\n                                    \n                                   \nReservation : Sans
URL:https://www.tourisme-aumale-blangy.fr/agenda/joyeux-anniversaire-la-biboc-fmanor076v51jk8i/
LOCATION:76340 Place Georges Durand – BLANGY-SUR-BRESLE\, 76340 Place Georges Durand\, BLANGY-SUR-BRESLE\, 76340\, France
CATEGORIES:Apéritif,Atelier / Stage,Contes et jeux,Exposition,Jeux de société,Mise en avant sur l'accueil
ATTACH;FMTTYPE=image/jpg:https://www.tourisme-aumale-blangy.fr/wp-content/uploads/tourinsoft/bibliothèque.jpg
ORGANIZER;CN="Biblioth%C3%A8que%20Odette%20Cl%C3%A9r%C3%A9":MAILTO:biboc76@gmail.com
END:VEVENT
BEGIN:VEVENT
DTSTART;TZID=Europe/Paris:20240414T113000
DTEND;TZID=Europe/Paris:20250414T173000
DTSTAMP:20260424T165042
CREATED:20200926T144704Z
LAST-MODIFIED:20250314T234905Z
UID:54230-1713094200-1744651800@www.tourisme-aumale-blangy.fr
SUMMARY:Sortie au Parc Canadien "Rêve de Bisons"
DESCRIPTION:Moment magique à Muchedent au parc « Rêve de bisons »  à découvrir à bord des camions miliaires ! \nDépart : 11h45 – Place Roger Thiebault / Retour vers 17h30\nCovoiturage \nTarifs « adhérent » : 16€/Adulte – Enfant à partir de 3 ans\nTarif « non adhérent » : + de 10 ans : 18€ / – de 10 ans : 11€\nPrévoir votre repas – Sortie ouverte à tous ! \nTel : 02 32 97 12 64 – accueil.latelier@outlook.fr \n\n\n                                    \n                                   \n\n                                    \n                                   \nReservation : Obligatoire pour individuelObligatoire pour groupe
URL:https://www.tourisme-aumale-blangy.fr/agenda/sortie-au-parc-canadien-reve-de-bisons-fmanor076v51eekv/
LOCATION:Place Roger Thiebault – BLANGY-SUR-BRESLE\, Place Roger Thiebault\, BLANGY-SUR-BRESLE\, 76340\, France
CATEGORIES:Autre,Spectacle
ATTACH;FMTTYPE=image/jpg:https://www.tourisme-aumale-blangy.fr/wp-content/uploads/tourinsoft/Muchedent.jpg
END:VEVENT
BEGIN:VEVENT
DTSTART;VALUE=DATE:20241001
DTEND;VALUE=DATE:20241224
DTSTAMP:20260424T165042
CREATED:20241008T093710Z
LAST-MODIFIED:20241025T124424Z
UID:416783-1727740800-1734998399@www.tourisme-aumale-blangy.fr
SUMMARY:Les animations de la bibliothèque Odette Cléré
DESCRIPTION:Voici le programme des animations à venir :\n\n\n\nLa bibliothèque propose plus de 13 000 documents : romans\, documentaires\, bande-dessinées\, magazines etc… \nSix postes informatiques sont à disposition\, ainsi qu’un coin cafétéria pour la pause détente. \nLe réseau Wi-Fi est en accès libre et gratuit ! \n\nLES AFFICHES DE FIN D’ANNÉE\n\n\n\nHORAIRES\n  \nLa bibliothèque est ouverte : \n\n Mardi de 14h à 18h\nMercredi de 9h30 à 12h et de 14h à 18h\nVendredi de 14h à 19h\nSamedi de 9h30 à 12h et de 14h à 16h\n\n  \nFermeture hebdomadaire : \n\nLundi\, jeudi et dimanche la journée\nMardi et vendredi matin\n\n  \nPour plus d’information\, veuillez contacter : 02 35 93 23 31 / biboc76@gmail.com
URL:https://www.tourisme-aumale-blangy.fr/agenda/les-animations-de-la-bibliotheque-odette-clere/
LOCATION:Bibliothèque Odette CLERE de Blangy-sur-Bresle\, 1 Place Georges DURAND\, Blangy-sur-Bresle\, 76340\, France
ATTACH;FMTTYPE=image/jpeg:https://www.tourisme-aumale-blangy.fr/wp-content/uploads/2024/10/©biboc.jpg
ORGANIZER;CN="Biblioth%C3%A8que%20Odette%20Cl%C3%A9r%C3%A9":MAILTO:biboc76@gmail.com
END:VEVENT
BEGIN:VEVENT
DTSTART;VALUE=DATE:20241130
DTEND;VALUE=DATE:20250107
DTSTAMP:20260424T165042
CREATED:20241126T143344Z
LAST-MODIFIED:20241127T105155Z
UID:431604-1732928400-1736125199@www.tourisme-aumale-blangy.fr
SUMMARY:Que faire avec les enfants en décembre et pendant les vacances de Noël ?
DESCRIPTION:Ce sont les vacances de Noël … l’Office de Tourisme Aumale – Blangy-sur-Bresle vous proposent de nombreuses activités et sorties ! \nAu programme : Ateliers créatifs\, séances de cinéma\, marché de Noël … \nCoup d’œil sur le calendrier :\n\nSamedi 30 novembre\n\nDu 29 novembre au 1er décembre\n\nJusqu’au 18 décembre\n\nLundi 4 décembre\n\nVendredi 6 décembre\n\nLes 7 et 8 décembre\n\nMercredi 11 et vendredi 18 décembre\n\nDu 16 au 30 décembre\n\nEn décembre\n\nEt pour les vacances de Noël :\n Vendredi 20 décembre\n\n Samedi 21 décembre\n\n Les 21 et 22 décembre\n\n Vacances de Noël aux écuries du Mesnil David\n\n\n 
URL:https://www.tourisme-aumale-blangy.fr/agenda/que-faire-pendant-les-vacances-de-noel-2/
CATEGORIES:Animations,Atelier / Stage,Autre,Conférence / Atelier,Contes et jeux,Enfants,Mise en avant sur l'accueil,Voyages / Sorties
ATTACH;FMTTYPE=image/jpeg:https://www.tourisme-aumale-blangy.fr/wp-content/uploads/2024/10/Vacances-de-noel.jpg
END:VEVENT
BEGIN:VEVENT
DTSTART;TZID=Europe/Paris:20241209T000100
DTEND;TZID=Europe/Paris:20241228T235900
DTSTAMP:20260424T165042
CREATED:20230111T103233Z
LAST-MODIFIED:20241217T234904Z
UID:163601-1733702460-1735430340@www.tourisme-aumale-blangy.fr
SUMMARY:Menu de Noël au Resto Zoy
DESCRIPTION:Menu fêtes de fin d’année\n– Entrées : Saumon Gravlax sur toast et espuma de citron vert /ou/ médaillon de foie gras\, copeaux d’oignon frit et sa brioche feuilletée\n– Plats : chapon rôti et sa farce aux cèpes\, écrasé de patate douce et marron /ou/ Saint-Jacques avec son risotto à l’huile de truffe\n– Desserts : Bonhomme de neige chantilly vanille et son coeur praliné /ou/ boule chocolat et croquant caramel /ou/ boule citron et coeur de mangue /ou/ boule fruits rouges et chocolat blanc\nMenu complet : 33.90€ \nLes bûches (à partir de 4 personnes) :\n– Chocolat et croquant caramel\n– Citron vert et cœur de mangue\n– Fruits rouges et chocolat blanc \nCommande pour Noël jusqu’au 21/12 et commande pour la Saint-Sylvestre jusqu’au 28/12.\nInfos et réservations : 02 32 97 30 05\nCommande pour Noël jusqu’au 21/12 et commande pour la Saint-Sylvestre jusqu’au 28/12.\nInfos et réservations : 02 32 97 30 05 \n\nReservation : Avant le 21/12 pour Noël et avant le 28/12 pour la Saint-SylvestreConseillée pour individuel
URL:https://www.tourisme-aumale-blangy.fr/agenda/menu-de-noel-au-resto-zoy-fmanor076v51at5c/
LOCATION:32 Grande Rue – BLANGY-SUR-BRESLE\, 32 Grande Rue\, BLANGY-SUR-BRESLE\, 76340\, France
CATEGORIES:Apéritif,Autre,Mise en avant sur l'accueil
END:VEVENT
BEGIN:VEVENT
DTSTART;TZID=Europe/Paris:20241220T000100
DTEND;TZID=Europe/Paris:20241230T235900
DTSTAMP:20260424T165042
CREATED:20241205T224907Z
LAST-MODIFIED:20241205T234907Z
UID:433175-1734652860-1735603140@www.tourisme-aumale-blangy.fr
SUMMARY:Village de Noël à Vismes
DESCRIPTION:Retrouvez un parc de jeux gonflables géant au Domaine du Plouy du 20 au 30 décembre.\nOuvert tous les jours sauf le 24 et 25 décembre\nInfos : 03 75 06 88 88
URL:https://www.tourisme-aumale-blangy.fr/agenda/village-de-noel-a-vismes-fmapic080v51issh/
LOCATION:Rue du Plouy – VISMES\, Rue du Plouy\, VISMES\, 80140\, France
CATEGORIES:Jeune public
ATTACH;FMTTYPE=image/jpg:https://www.tourisme-aumale-blangy.fr/wp-content/uploads/tourinsoft/château gonflable.jpg
ORGANIZER;CN="Office%20de%20tourisme%20de%20Blangy":MAILTO:contact@domainedepenthievre.fr
END:VEVENT
BEGIN:VEVENT
DTSTART;TZID=Europe/Paris:20241222T140000
DTEND;TZID=Europe/Paris:20241222T160000
DTSTAMP:20260424T165042
CREATED:20200903T104702Z
LAST-MODIFIED:20241126T234905Z
UID:50949-1734876000-1734883200@www.tourisme-aumale-blangy.fr
SUMMARY:Après-midi jeux à Illois
DESCRIPTION:Venez participer aux nombreux jeux proposés de 14h à 16h que ce soit à cheval\, à poney ou à pied. Animations pour tous âges et pour tous niveaux.\nRécompenses par le père Noël pour les meilleurs déguisements et distribution de bonbons.\nTarif : 20€/pers.\nInfos : 06 10 71 49 59 \n\n\n                                    \n                                   \nReservation : Conseillée pour individuelConseillée pour groupe
URL:https://www.tourisme-aumale-blangy.fr/agenda/apres-midi-jeux-a-illois-fmanor076v51dv8j/
LOCATION:Mesnil David Hameau – ILLOIS\, Mesnil David Hameau\, ILLOIS\, 76390\, France
CATEGORIES:Autre,Evènements équestres
ATTACH;FMTTYPE=image/jpg:https://www.tourisme-aumale-blangy.fr/wp-content/uploads/tourinsoft/équestre ©pixabay.jpg
END:VEVENT
END:VCALENDAR