BEGIN:VCALENDAR
VERSION:2.0
PRODID:-//Office de tourisme Aumale blangy sur bresle - ECPv6.0.9//NONSGML v1.0//EN
CALSCALE:GREGORIAN
METHOD:PUBLISH
X-ORIGINAL-URL:https://www.tourisme-aumale-blangy.fr
X-WR-CALDESC:évènements pour Office de tourisme Aumale blangy sur bresle
REFRESH-INTERVAL;VALUE=DURATION:PT1H
X-Robots-Tag:noindex
X-PUBLISHED-TTL:PT1H
BEGIN:VTIMEZONE
TZID:Europe/Paris
BEGIN:DAYLIGHT
TZOFFSETFROM:+0100
TZOFFSETTO:+0200
TZNAME:CEST
DTSTART:20230326T010000
END:DAYLIGHT
BEGIN:STANDARD
TZOFFSETFROM:+0200
TZOFFSETTO:+0100
TZNAME:CET
DTSTART:20231029T010000
END:STANDARD
BEGIN:DAYLIGHT
TZOFFSETFROM:+0100
TZOFFSETTO:+0200
TZNAME:CEST
DTSTART:20240331T010000
END:DAYLIGHT
BEGIN:STANDARD
TZOFFSETFROM:+0200
TZOFFSETTO:+0100
TZNAME:CET
DTSTART:20241027T010000
END:STANDARD
BEGIN:DAYLIGHT
TZOFFSETFROM:+0100
TZOFFSETTO:+0200
TZNAME:CEST
DTSTART:20250330T010000
END:DAYLIGHT
BEGIN:STANDARD
TZOFFSETFROM:+0200
TZOFFSETTO:+0100
TZNAME:CET
DTSTART:20251026T010000
END:STANDARD
BEGIN:DAYLIGHT
TZOFFSETFROM:+0100
TZOFFSETTO:+0200
TZNAME:CEST
DTSTART:20260329T010000
END:DAYLIGHT
BEGIN:STANDARD
TZOFFSETFROM:+0200
TZOFFSETTO:+0100
TZNAME:CET
DTSTART:20261025T010000
END:STANDARD
END:VTIMEZONE
BEGIN:VEVENT
DTSTART;VALUE=DATE:20231206
DTEND;VALUE=DATE:20260106
DTSTAMP:20260421T213558
CREATED:20231201T161211Z
LAST-MODIFIED:20251212T105758Z
UID:258545-1701820800-1767657599@www.tourisme-aumale-blangy.fr
SUMMARY:Les menus pour les fêtes de fin d'année
DESCRIPTION:Vous n’avez pas envie de cuisiner pour les fêtes de fin d’année ? \nLes restaurateurs et traiteurs du territoire vous proposent leur carte spéciale. \nLes idées menus :\n\n\n  \n\n  \nVous pouvez également commandez vos plateaux de fromages\, charcuteries\, fruits secs dans vos épiceries : Le grenier fromager de Blangy-sur-Bresle / Le bon marché Aumalois. \nRetrouvez toutes les cartes de menus\, desserts et autres accompagnements chez vos commerçants !
URL:https://www.tourisme-aumale-blangy.fr/agenda/menus-de-fin-dannee/
CATEGORIES:Adulte,Animations,Mise en avant sur l'accueil,Repas
ATTACH;FMTTYPE=image/jpeg:https://www.tourisme-aumale-blangy.fr/wp-content/uploads/2023/12/table-de-Noel-©Pixabay.jpg
END:VEVENT
BEGIN:VEVENT
DTSTART;TZID=Europe/Paris:20240404T000100
DTEND;TZID=Europe/Paris:20250531T235900
DTSTAMP:20260421T213558
CREATED:20211202T124704Z
LAST-MODIFIED:20250325T234907Z
UID:100435-1712188860-1748735940@www.tourisme-aumale-blangy.fr
SUMMARY:Joyeux anniversaire la BibOC
DESCRIPTION:Cette année\, la bibOC fête ses 20 ans\, et pour fêter l’évènement ensemble\, nous vous proposons une ou plusieurs animations spéciales chaque mois.\nCe mois-ci\, plongez dans une exposition inédite ! Vernissage : Vendredi 4 avril : 18h\nDécouvrez les temps forts de ces 20 dernières années\, portrait d’Odette CLERE\, les évolutions de la bibliothèque\, etc …\nA cette occasion\, un tirage au sort sera effectué du jeu concours : 20 abonnements offerts\nEntrée gratuite – Ouvert à tous aux horaires suivants :\n– Mardi 14h – 18h\n– Mercredi : 9h30 – 12h / 14h – 18h\n– Vendredi : 14h-19h\n– Samedi : 9h30 – 12h / 14h – 16h\nInfos : 02 35 93 23 31 \n\n\n                                    \n                                   \n\n                                    \n                                   \n\n                                    \n                                   \n\n                                    \n                                   \nReservation : Sans
URL:https://www.tourisme-aumale-blangy.fr/agenda/joyeux-anniversaire-la-biboc-fmanor076v51jk8i/
LOCATION:76340 Place Georges Durand – BLANGY-SUR-BRESLE\, 76340 Place Georges Durand\, BLANGY-SUR-BRESLE\, 76340\, France
CATEGORIES:Apéritif,Atelier / Stage,Contes et jeux,Exposition,Jeux de société,Mise en avant sur l'accueil
ATTACH;FMTTYPE=image/jpg:https://www.tourisme-aumale-blangy.fr/wp-content/uploads/tourinsoft/bibliothèque.jpg
ORGANIZER;CN="Biblioth%C3%A8que%20Odette%20Cl%C3%A9r%C3%A9":MAILTO:biboc76@gmail.com
END:VEVENT
BEGIN:VEVENT
DTSTART;TZID=Europe/Paris:20240414T113000
DTEND;TZID=Europe/Paris:20250414T173000
DTSTAMP:20260421T213558
CREATED:20200926T144704Z
LAST-MODIFIED:20250314T234905Z
UID:54230-1713094200-1744651800@www.tourisme-aumale-blangy.fr
SUMMARY:Sortie au Parc Canadien "Rêve de Bisons"
DESCRIPTION:Moment magique à Muchedent au parc « Rêve de bisons »  à découvrir à bord des camions miliaires ! \nDépart : 11h45 – Place Roger Thiebault / Retour vers 17h30\nCovoiturage \nTarifs « adhérent » : 16€/Adulte – Enfant à partir de 3 ans\nTarif « non adhérent » : + de 10 ans : 18€ / – de 10 ans : 11€\nPrévoir votre repas – Sortie ouverte à tous ! \nTel : 02 32 97 12 64 – accueil.latelier@outlook.fr \n\n\n                                    \n                                   \n\n                                    \n                                   \nReservation : Obligatoire pour individuelObligatoire pour groupe
URL:https://www.tourisme-aumale-blangy.fr/agenda/sortie-au-parc-canadien-reve-de-bisons-fmanor076v51eekv/
LOCATION:Place Roger Thiebault – BLANGY-SUR-BRESLE\, Place Roger Thiebault\, BLANGY-SUR-BRESLE\, 76340\, France
CATEGORIES:Autre,Spectacle
ATTACH;FMTTYPE=image/jpg:https://www.tourisme-aumale-blangy.fr/wp-content/uploads/tourinsoft/Muchedent.jpg
END:VEVENT
BEGIN:VEVENT
DTSTART;VALUE=DATE:20250301
DTEND;VALUE=DATE:20250501
DTSTAMP:20260421T213558
CREATED:20250304T130537Z
LAST-MODIFIED:20250314T150149Z
UID:450524-1740787200-1746057599@www.tourisme-aumale-blangy.fr
SUMMARY:Les animations de la bibliothèque Odette Cléré
DESCRIPTION:Voici le programme des animations à venir :\n\n\nLa bibliothèque propose plus de 13 000 documents : romans\, documentaires\, bande-dessinées\, magazines etc… \nSix postes informatiques sont à disposition\, ainsi qu’un coin cafétéria pour la pause détente. \nLe réseau Wi-Fi est en accès libre et gratuit ! \n\n\n\n\n\n\nLa bibOC fête cette année ses 20 ans !\nPour fêter l’évènement ensemble\, nous vous proposons une ou plusieurs animations spéciales chaque mois. \nAu mois de mars\, nous vous proposons un concours pour tenter de gagner votre abonnement à la bibOC pour 2025 et une animation manuelle de création d’objet à base de livre recyclé\n\n\n\n\n\n\n\nLES AFFICHES DU MOIS\n\n\n\nHORAIRES\n  \nLa bibliothèque est ouverte : \n\n Mardi de 14h à 18h\nMercredi de 9h30 à 12h et de 14h à 18h\nVendredi de 14h à 19h\nSamedi de 9h30 à 12h et de 14h à 16h\n\n  \nFermeture hebdomadaire : \n\nLundi\, jeudi et dimanche la journée\nMardi et vendredi matin\n\n  \nPour plus d’information\, veuillez contacter : 02 35 93 23 31 / biboc76@gmail.com
URL:https://www.tourisme-aumale-blangy.fr/agenda/les-animations-de-la-bibliotheque-odette-clere-mars-avril-2025/
LOCATION:Bibliothèque Odette CLERE de Blangy-sur-Bresle\, 1 Place Georges DURAND\, Blangy-sur-Bresle\, 76340\, France
ATTACH;FMTTYPE=image/jpeg:https://www.tourisme-aumale-blangy.fr/wp-content/uploads/2024/10/©biboc.jpg
ORGANIZER;CN="Biblioth%C3%A8que%20Odette%20Cl%C3%A9r%C3%A9":MAILTO:biboc76@gmail.com
END:VEVENT
BEGIN:VEVENT
DTSTART;TZID=Europe/Paris:20250307T000100
DTEND;TZID=Europe/Paris:20250309T235900
DTSTAMP:20260421T213558
CREATED:20200109T114707Z
LAST-MODIFIED:20250218T234906Z
UID:27191-1741305660-1741564740@www.tourisme-aumale-blangy.fr
SUMMARY:Collecte des restos du coeur
DESCRIPTION:Les 7\, 8 et 9 mars prochains\, les Restos du Cœur se mobilisent pour un grand week-end de collecte.\nUn temps fort essentiel pour remplir les étagères et\, surtout\, les assiettes de ceux qui en ont le plus besoin.\nUn week-end indispensable pour faire face à une précarité grandissante \nChaque année\, la collecte des Restos mobilise une incroyable chaîne humaine : bénévoles\, salariés\, partenaires\, et bien sûr les donateurs en magasins. \nL’année dernière\, grâce à 89 000 bénévoles engagés dans plus de 7 500 points de collecte\, 9 100 tonnes de denrées ont été récoltées\, soit l’équivalent de 9\,1 millions de repas pour ceux qui comptent sur nous. \nSeulement voilà : chaque année\, les besoins augmentent. Avec 1\,3 million de personnes accueillies et 163 millions de repas distribués en 2023-2024\, on a plus que jamais besoin de renfort.\nEt si on faisait équipe ? Devenez bénévole\, même pour quelques heures \nÉtudiants\, actifs\, retraités\, mais aussi entreprises désireuses de mobiliser leurs collaborateurs\, rejoignez-nous ! Plus on est nombreux\, plus on collecte. \nOn compte sur vous  !! \n\n\n                                    \n                                   \nReservation : Sans
URL:https://www.tourisme-aumale-blangy.fr/agenda/collecte-des-restos-du-coeur-fmanor076v51ahi6/
LOCATION:Super U – BLANGY-SUR-BRESLE\, Super U\, BLANGY-SUR-BRESLE\, 76340\, France
CATEGORIES:Autre
ATTACH;FMTTYPE=image/jpg:https://www.tourisme-aumale-blangy.fr/wp-content/uploads/tourinsoft/visuel collecte nationale des restos du coeur.jpg
ORGANIZER;CN="Restos%20du%20coeur":MAILTO:julien.boulenger@restosducoeru.org
END:VEVENT
BEGIN:VEVENT
DTSTART;VALUE=DATE:20250308
DTEND;VALUE=DATE:20250310
DTSTAMP:20260421T213558
CREATED:20250116T102725Z
LAST-MODIFIED:20250124T130533Z
UID:5096-1741395600-1741481999@www.tourisme-aumale-blangy.fr
SUMMARY:Le samedi des familles à Blangy-sur-Bresle
DESCRIPTION:De 9h30 à 11h30 – Au centre social l’ATELIER de Blangy-sur-Bresle (18 rue Brianchon) \nVenez découvrir d’autres familles\, boire un café et jouer avec votre enfant \nOuvert aux enfants de 0 à 10 ans – Accompagné d’un parent \nAccès libre et sans inscription \n1 autre rendez-vous à venir : \n\nSamedi 5 avril\n\nContacts : 02 32 97 12 64 / 06 58 61 77 38/ parentalite.latelier@outlook.fr \n@CentreSociallatelier \nProposé par le Centre social l’Atelier \n \n 
URL:https://www.tourisme-aumale-blangy.fr/agenda/le-samedi-des-familles-2/
CATEGORIES:Animations,Loto
ATTACH;FMTTYPE=image/jpeg:https://www.tourisme-aumale-blangy.fr/wp-content/uploads/2016/12/Animation-de-Janvier-2051.jpg
END:VEVENT
BEGIN:VEVENT
DTSTART;TZID=Europe/Paris:20250308T000100
DTEND;TZID=Europe/Paris:20250308T235900
DTSTAMP:20260421T213558
CREATED:20250203T144905Z
LAST-MODIFIED:20250203T234906Z
UID:443517-1741392060-1741478340@www.tourisme-aumale-blangy.fr
SUMMARY:Elections miss et mister EHPAD à Aumale
DESCRIPTION:Rendez-vous à l’EHPAD résidence du Duc d’Aumale\nProjet imagé et réalisé par Olivia et Jeanne\nEn collaboration avec l’équipe d’animation\nTenues pour les résidents fournies par ABC aux couleurs du temps\nPrésence des miss et mannequins d’artistes et modèles en Seine dont Lucie\, misse Coup de Coeur AMS 2024 et Olivia\, deuxième dauphine Miss Pays de Caux 2024.\nInfos : 02 32 97 52 30 \n\n\n                                    \n                                   \nReservation : Sans
URL:https://www.tourisme-aumale-blangy.fr/agenda/elections-miss-et-mister-ehpad-a-aumale-fmanor076v5201r2/
LOCATION:3 Rue Soeur Badiou – AUMALE\, 3 Rue Soeur Badiou\, AUMALE\, 76390\, France
CATEGORIES:Autre,Défilé Cortège Parade
ATTACH;FMTTYPE=image/jpg:https://www.tourisme-aumale-blangy.fr/wp-content/uploads/tourinsoft/miss et mister ehpad - 8 mars.jpg
END:VEVENT
BEGIN:VEVENT
DTSTART;TZID=Europe/Paris:20250308T100000
DTEND;TZID=Europe/Paris:20250308T123000
DTSTAMP:20260421T213558
CREATED:20231206T144904Z
LAST-MODIFIED:20250306T234932Z
UID:259433-1741428000-1741437000@www.tourisme-aumale-blangy.fr
SUMMARY:Balade naturaliste en basse forêt d'Eu
DESCRIPTION:Balade découverte des oiseaux (pics\, mésanges\, etc) et des amphibiens (grenouilles\, tritons\, salamandre) peuplant nos forêts normandes.\n10h : Rendez-vous à la mairie (10 route de l’Abbé Delforge) – Durée : 2h / 2h30\nSortie animée par le groupe ornithologique normand\nPrévoyez les chaussures de randonnées et vêtements adaptés en fonction de la météo.\nPossibilité de prendre des jumelles\nRéservation obligatoire : www.seinemaritime.fr/ens\nInfos :  02 32 81 68 70 / enslittoral@seinemaritime.fr \n\n\n                                    \n                                   \nReservation : Obligatoire pour individuel
URL:https://www.tourisme-aumale-blangy.fr/agenda/balade-naturaliste-en-basse-foret-deu-fmanor076v51uw0o/
LOCATION:10 Route de l’Abbé Delforge – LE CAULE-SAINTE-BEUVE\, 10 Route de l'Abbé Delforge\, LE CAULE-SAINTE-BEUVE\, 76390\, France
CATEGORIES:Autre,Mise en avant sur l'accueil,Randonnées/Balades,Visite
ATTACH;FMTTYPE=image/jpg:https://www.tourisme-aumale-blangy.fr/wp-content/uploads/tourinsoft/oiseau .jpg
ORGANIZER;CN="ENS":MAILTO:enslittoral@seinemaritime.fr
END:VEVENT
BEGIN:VEVENT
DTSTART;TZID=Europe/Paris:20250308T140000
DTEND;TZID=Europe/Paris:20250308T235900
DTSTAMP:20260421T213558
CREATED:20250131T144906Z
LAST-MODIFIED:20250217T234909Z
UID:442754-1741442400-1741478340@www.tourisme-aumale-blangy.fr
SUMMARY:Marche éco-nettoyage à Saint-Martin-au-Bosc
DESCRIPTION:14h00 : Rendez-vous à la salle Evelyne Couet\nInfos et inscription : 02 32 97 27 67 / 06 48 53 79 45 \n\nReservation : Conseillée pour individuel
URL:https://www.tourisme-aumale-blangy.fr/agenda/marche-eco-nettoyage-a-saint-martin-au-bosc-fmanor076v5201aj/
LOCATION:Route Principale – SAINT-MARTIN-AU-BOSC\, Route Principale\, SAINT-MARTIN-AU-BOSC\, 76340\, France
CATEGORIES:Autre,Randonnées/Balades
ATTACH;FMTTYPE=image/jpg:https://www.tourisme-aumale-blangy.fr/wp-content/uploads/tourinsoft/forêt propre st martin ©page facebook - 2024.jpg
END:VEVENT
BEGIN:VEVENT
DTSTART;TZID=Europe/Paris:20250308T190000
DTEND;TZID=Europe/Paris:20250308T235900
DTSTAMP:20260421T213558
CREATED:20210826T144703Z
LAST-MODIFIED:20250131T234905Z
UID:89154-1741460400-1741478340@www.tourisme-aumale-blangy.fr
SUMMARY:Soirée dansante à Guimerville
DESCRIPTION:A partir de 19h à la salle des fêtes de Guimerville\nSoirée fluo\nAdulte : kir offert – choucroute ou paella – flan\nEnfant : pâte saucisses – une boisson – flan\nTarifs : 18€/Adulte – 5€/Enfant (-12 ans)\nRéservations au 06 45 18 65 10 \n\nReservation : Obligatoire pour individuelObligatoire pour groupe
URL:https://www.tourisme-aumale-blangy.fr/agenda/soiree-dansante-a-guimerville-fmanor076v51i6o5/
LOCATION:Salle des fêtes – HODENG-AU-BOSC\, Salle des fêtes\, HODENG-AU-BOSC\, 76340\, France
CATEGORIES:Apéritif,Autre,Bal,Carnaval,Danse
ATTACH;FMTTYPE=image/jpg:https://www.tourisme-aumale-blangy.fr/wp-content/uploads/tourinsoft/DJ.jpg
END:VEVENT
END:VCALENDAR