BEGIN:VCALENDAR
VERSION:2.0
PRODID:-//Office de tourisme Aumale blangy sur bresle - ECPv6.0.9//NONSGML v1.0//EN
CALSCALE:GREGORIAN
METHOD:PUBLISH
X-WR-CALNAME:Office de tourisme Aumale blangy sur bresle
X-ORIGINAL-URL:https://www.tourisme-aumale-blangy.fr
X-WR-CALDESC:évènements pour Office de tourisme Aumale blangy sur bresle
REFRESH-INTERVAL;VALUE=DURATION:PT1H
X-Robots-Tag:noindex
X-PUBLISHED-TTL:PT1H
BEGIN:VTIMEZONE
TZID:Europe/Paris
BEGIN:DAYLIGHT
TZOFFSETFROM:+0100
TZOFFSETTO:+0200
TZNAME:CEST
DTSTART:20230326T010000
END:DAYLIGHT
BEGIN:STANDARD
TZOFFSETFROM:+0200
TZOFFSETTO:+0100
TZNAME:CET
DTSTART:20231029T010000
END:STANDARD
BEGIN:DAYLIGHT
TZOFFSETFROM:+0100
TZOFFSETTO:+0200
TZNAME:CEST
DTSTART:20240331T010000
END:DAYLIGHT
BEGIN:STANDARD
TZOFFSETFROM:+0200
TZOFFSETTO:+0100
TZNAME:CET
DTSTART:20241027T010000
END:STANDARD
BEGIN:DAYLIGHT
TZOFFSETFROM:+0100
TZOFFSETTO:+0200
TZNAME:CEST
DTSTART:20250330T010000
END:DAYLIGHT
BEGIN:STANDARD
TZOFFSETFROM:+0200
TZOFFSETTO:+0100
TZNAME:CET
DTSTART:20251026T010000
END:STANDARD
BEGIN:DAYLIGHT
TZOFFSETFROM:+0100
TZOFFSETTO:+0200
TZNAME:CEST
DTSTART:20260329T010000
END:DAYLIGHT
BEGIN:STANDARD
TZOFFSETFROM:+0200
TZOFFSETTO:+0100
TZNAME:CET
DTSTART:20261025T010000
END:STANDARD
END:VTIMEZONE
BEGIN:VEVENT
DTSTART;VALUE=DATE:20231206
DTEND;VALUE=DATE:20260106
DTSTAMP:20260421T213408
CREATED:20231201T161211Z
LAST-MODIFIED:20251212T105758Z
UID:258545-1701820800-1767657599@www.tourisme-aumale-blangy.fr
SUMMARY:Les menus pour les fêtes de fin d'année
DESCRIPTION:Vous n’avez pas envie de cuisiner pour les fêtes de fin d’année ? \nLes restaurateurs et traiteurs du territoire vous proposent leur carte spéciale. \nLes idées menus :\n\n\n  \n\n  \nVous pouvez également commandez vos plateaux de fromages\, charcuteries\, fruits secs dans vos épiceries : Le grenier fromager de Blangy-sur-Bresle / Le bon marché Aumalois. \nRetrouvez toutes les cartes de menus\, desserts et autres accompagnements chez vos commerçants !
URL:https://www.tourisme-aumale-blangy.fr/agenda/menus-de-fin-dannee/
CATEGORIES:Adulte,Animations,Mise en avant sur l'accueil,Repas
ATTACH;FMTTYPE=image/jpeg:https://www.tourisme-aumale-blangy.fr/wp-content/uploads/2023/12/table-de-Noel-©Pixabay.jpg
END:VEVENT
BEGIN:VEVENT
DTSTART;TZID=Europe/Paris:20240404T000100
DTEND;TZID=Europe/Paris:20250531T235900
DTSTAMP:20260421T213408
CREATED:20211202T124704Z
LAST-MODIFIED:20250325T234907Z
UID:100435-1712188860-1748735940@www.tourisme-aumale-blangy.fr
SUMMARY:Joyeux anniversaire la BibOC
DESCRIPTION:Cette année\, la bibOC fête ses 20 ans\, et pour fêter l’évènement ensemble\, nous vous proposons une ou plusieurs animations spéciales chaque mois.\nCe mois-ci\, plongez dans une exposition inédite ! Vernissage : Vendredi 4 avril : 18h\nDécouvrez les temps forts de ces 20 dernières années\, portrait d’Odette CLERE\, les évolutions de la bibliothèque\, etc …\nA cette occasion\, un tirage au sort sera effectué du jeu concours : 20 abonnements offerts\nEntrée gratuite – Ouvert à tous aux horaires suivants :\n– Mardi 14h – 18h\n– Mercredi : 9h30 – 12h / 14h – 18h\n– Vendredi : 14h-19h\n– Samedi : 9h30 – 12h / 14h – 16h\nInfos : 02 35 93 23 31 \n\n\n                                    \n                                   \n\n                                    \n                                   \n\n                                    \n                                   \n\n                                    \n                                   \nReservation : Sans
URL:https://www.tourisme-aumale-blangy.fr/agenda/joyeux-anniversaire-la-biboc-fmanor076v51jk8i/
LOCATION:76340 Place Georges Durand – BLANGY-SUR-BRESLE\, 76340 Place Georges Durand\, BLANGY-SUR-BRESLE\, 76340\, France
CATEGORIES:Apéritif,Atelier / Stage,Contes et jeux,Exposition,Jeux de société,Mise en avant sur l'accueil
ATTACH;FMTTYPE=image/jpg:https://www.tourisme-aumale-blangy.fr/wp-content/uploads/tourinsoft/bibliothèque.jpg
ORGANIZER;CN="Biblioth%C3%A8que%20Odette%20Cl%C3%A9r%C3%A9":MAILTO:biboc76@gmail.com
END:VEVENT
BEGIN:VEVENT
DTSTART;TZID=Europe/Paris:20240414T113000
DTEND;TZID=Europe/Paris:20250414T173000
DTSTAMP:20260421T213408
CREATED:20200926T144704Z
LAST-MODIFIED:20250314T234905Z
UID:54230-1713094200-1744651800@www.tourisme-aumale-blangy.fr
SUMMARY:Sortie au Parc Canadien "Rêve de Bisons"
DESCRIPTION:Moment magique à Muchedent au parc « Rêve de bisons »  à découvrir à bord des camions miliaires ! \nDépart : 11h45 – Place Roger Thiebault / Retour vers 17h30\nCovoiturage \nTarifs « adhérent » : 16€/Adulte – Enfant à partir de 3 ans\nTarif « non adhérent » : + de 10 ans : 18€ / – de 10 ans : 11€\nPrévoir votre repas – Sortie ouverte à tous ! \nTel : 02 32 97 12 64 – accueil.latelier@outlook.fr \n\n\n                                    \n                                   \n\n                                    \n                                   \nReservation : Obligatoire pour individuelObligatoire pour groupe
URL:https://www.tourisme-aumale-blangy.fr/agenda/sortie-au-parc-canadien-reve-de-bisons-fmanor076v51eekv/
LOCATION:Place Roger Thiebault – BLANGY-SUR-BRESLE\, Place Roger Thiebault\, BLANGY-SUR-BRESLE\, 76340\, France
CATEGORIES:Autre,Spectacle
ATTACH;FMTTYPE=image/jpg:https://www.tourisme-aumale-blangy.fr/wp-content/uploads/tourinsoft/Muchedent.jpg
END:VEVENT
BEGIN:VEVENT
DTSTART;VALUE=DATE:20250301
DTEND;VALUE=DATE:20250501
DTSTAMP:20260421T213408
CREATED:20250304T130537Z
LAST-MODIFIED:20250314T150149Z
UID:450524-1740787200-1746057599@www.tourisme-aumale-blangy.fr
SUMMARY:Les animations de la bibliothèque Odette Cléré
DESCRIPTION:Voici le programme des animations à venir :\n\n\nLa bibliothèque propose plus de 13 000 documents : romans\, documentaires\, bande-dessinées\, magazines etc… \nSix postes informatiques sont à disposition\, ainsi qu’un coin cafétéria pour la pause détente. \nLe réseau Wi-Fi est en accès libre et gratuit ! \n\n\n\n\n\n\nLa bibOC fête cette année ses 20 ans !\nPour fêter l’évènement ensemble\, nous vous proposons une ou plusieurs animations spéciales chaque mois. \nAu mois de mars\, nous vous proposons un concours pour tenter de gagner votre abonnement à la bibOC pour 2025 et une animation manuelle de création d’objet à base de livre recyclé\n\n\n\n\n\n\n\nLES AFFICHES DU MOIS\n\n\n\nHORAIRES\n  \nLa bibliothèque est ouverte : \n\n Mardi de 14h à 18h\nMercredi de 9h30 à 12h et de 14h à 18h\nVendredi de 14h à 19h\nSamedi de 9h30 à 12h et de 14h à 16h\n\n  \nFermeture hebdomadaire : \n\nLundi\, jeudi et dimanche la journée\nMardi et vendredi matin\n\n  \nPour plus d’information\, veuillez contacter : 02 35 93 23 31 / biboc76@gmail.com
URL:https://www.tourisme-aumale-blangy.fr/agenda/les-animations-de-la-bibliotheque-odette-clere-mars-avril-2025/
LOCATION:Bibliothèque Odette CLERE de Blangy-sur-Bresle\, 1 Place Georges DURAND\, Blangy-sur-Bresle\, 76340\, France
ATTACH;FMTTYPE=image/jpeg:https://www.tourisme-aumale-blangy.fr/wp-content/uploads/2024/10/©biboc.jpg
ORGANIZER;CN="Biblioth%C3%A8que%20Odette%20Cl%C3%A9r%C3%A9":MAILTO:biboc76@gmail.com
END:VEVENT
BEGIN:VEVENT
DTSTART;TZID=Europe/Paris:20250320T190000
DTEND;TZID=Europe/Paris:20250320T235900
DTSTAMP:20260421T213408
CREATED:20210920T144703Z
LAST-MODIFIED:20250222T234905Z
UID:91365-1742497200-1742515140@www.tourisme-aumale-blangy.fr
SUMMARY:Radio SUPERCAMBROUSSE à Blangy-sur-Bresle
DESCRIPTION:Jeudi 20 Mars\nRADIO – SUPERCAMBROUSSE – Blangy-sur-Bresle\n*** Supercambrousse\, vous connaissez ? ***\nSupercambrousse \, c’est le projet qui fait vibrer les habitants en les invitant à créer leur propre Web-radio éphémère !\n Du 3 au 6 mars et du 17 au 20 mars 2025\, une équipe artistique débarque à Blangy-sur-Bresle pour concocter des podcasts et garnir la grille des programmes de leur radio collective (playlists\, chroniques\, interviews\, coups de gueule\, débats\, portraits…).\nVous souhaitez participer avec vos enfants rendez-vous à l’accueil de loisirs le mercredi 5 et le mercredi 19mars de 10h00 à 11h00.  \n On y cause principalement de notre ville\, de nos coups de cœur (ou pas)\, et de toutes les petites choses à améliorer… et bien sûr\, c’est l’occasion de croiser des élus\, des voisins et des têtes inconnues !\nLa radio\, c’est SUPERCAMBROUSSE \, et elle envoie du son 24h/24 et 7j/7 sur supercambrousse.com\, où que vous soyez dans le monde ! \nSupercambrousse donne la parole aux ados de nos villages. Et pour clore chaque résidence en beauté\, on se retrouve autour d’un grand banquet radiophonique et sonore en LIVE !  \n Rendez-vous le jeudi 20 mars à 19h à la salle des fêtes  … ou sinon ressortez tout simplement votre poste radio !
URL:https://www.tourisme-aumale-blangy.fr/agenda/radio-supercambrousse-a-blangy-sur-bresle-fmanor076v5184r9/
LOCATION:Rue Notre-dame – BLANGY-SUR-BRESLE\, Rue Notre-dame\, BLANGY-SUR-BRESLE\, 76340\, France
CATEGORIES:Animations et spectacles vivants,Atelier / Stage,Autre,Concert,Conférence,Débat,Mise en avant sur l'accueil,Portes ouvertes,Spectacle
ATTACH;FMTTYPE=image/jpg:https://www.tourisme-aumale-blangy.fr/wp-content/uploads/tourinsoft/Supercambrousse.jpg
END:VEVENT
END:VCALENDAR