BEGIN:VCALENDAR
VERSION:2.0
PRODID:-//Office de tourisme Aumale blangy sur bresle - ECPv6.0.9//NONSGML v1.0//EN
CALSCALE:GREGORIAN
METHOD:PUBLISH
X-ORIGINAL-URL:https://www.tourisme-aumale-blangy.fr
X-WR-CALDESC:évènements pour Office de tourisme Aumale blangy sur bresle
REFRESH-INTERVAL;VALUE=DURATION:PT1H
X-Robots-Tag:noindex
X-PUBLISHED-TTL:PT1H
BEGIN:VTIMEZONE
TZID:Europe/Paris
BEGIN:DAYLIGHT
TZOFFSETFROM:+0100
TZOFFSETTO:+0200
TZNAME:CEST
DTSTART:20260329T010000
END:DAYLIGHT
BEGIN:STANDARD
TZOFFSETFROM:+0200
TZOFFSETTO:+0100
TZNAME:CET
DTSTART:20261025T010000
END:STANDARD
END:VTIMEZONE
BEGIN:VEVENT
DTSTART;TZID=Europe/Paris:20260301T100000
DTEND;TZID=Europe/Paris:20261015T173000
DTSTAMP:20260419T140211
CREATED:20220318T174705Z
LAST-MODIFIED:20260313T234907Z
UID:115054-1772359200-1792085400@www.tourisme-aumale-blangy.fr
SUMMARY:Concours de dessins à Vieux-rouen-sur-Bresle
DESCRIPTION:Thème : « Dessine le monument aux morts de Vieux-Rouen sur Bresle »\nInscription jusqu’au 15 juin.\nDépôt des dessins jusqu’au 15 octobre.\nRemise des récompenses le 11 novembre.\nRécompense aux 5 premiers élèves de primaire et aux 3 premiers collègiens\nInfos :  CHARLES Roland – 02 35 94 08 04 \n\nReservation : Obligatoire pour individuelObligatoire pour groupe
URL:https://www.tourisme-aumale-blangy.fr/agenda/concours-de-dessins-a-vieux-rouen-sur-bresle-fmanor076v51kc45/
LOCATION:Salle des fêtes – VIEUX-ROUEN-SUR-BRESLE\, Salle des fêtes\, VIEUX-ROUEN-SUR-BRESLE\, 76390\, France
CATEGORIES:Atelier / Stage,Autre,Commémoration,Contes et jeux,Exposition,Tradition et folklore
ATTACH;FMTTYPE=image/jpg:https://www.tourisme-aumale-blangy.fr/wp-content/uploads/tourinsoft/Concours de dessins.jpg
END:VEVENT
BEGIN:VEVENT
DTSTART;VALUE=DATE:20260901
DTEND;VALUE=DATE:20261102
DTSTAMP:20260419T140211
CREATED:20260217T160327Z
LAST-MODIFIED:20260217T160515Z
UID:563735-1788228000-1793494799@www.tourisme-aumale-blangy.fr
SUMMARY:C'est l'automne au Château de Rambures !
DESCRIPTION:Ça y est … c’est la fin de l’été !  Le château passe aux heures d’automne … à partir dus le mardi 1er septembre 2026 \nVéritable bijoux de la vallée de la Bresle\, ce château atypique sera une étape incontournable de votre périple chez nous ! \nLes visites guidées ne sont plus assurées mais le château possède un parcours pédagogique qui vous permettra de découvrir les pièces habituelles du circuit de visite … la salle à manger\, la chambre médiévale\, le grand salon\, la bibliothèque et bien d’autres nouvelles pièces vous permettront de découvrir la vie quotidienne et l’histoire de cette famille au cours des siècles … une nouvelle façon de découvrir le château des seigneurs de Rambures. \nLe parc et la roseraie sont de nouveau accessible alors que nous arrivons au gros du fleurissement … émerveillement immédiat donc pour nos visiteurs de l’après confinement\, deux jeux de pistes vous seront proposés en plus dans le parc pour le découvrir tout en vous amusant. Un écrin de verdure romantique de 15 ha\, inscrit à l’inventaire supplémentaire des Monuments historiques et labellisé Jardin remarquable depuis 2006. \nUne visite qui vous permettra un voyage dans le temps de 600 ans. \nBonne visite à tous ! \n  \n\n*** JOURS ET HORAIRES D’OUVERTURE POUR  2026 ***\nPOUR LES INDIVIDUELS  :\n\nOuverture du site tous les jours (sauf le mercredi) de 14h à 18h jusqu’au 30 septembre\nOuverture exceptionnelle lors des journées du patrimoine – Les samedi 19 et dimanche 20 septembre\nFermeture exceptionnelle les 21 – 22 – 28 – 29 septembre\nA partir d’Octobre le site sera ouvert uniquement les weekend de 14h à 18h et tous les jours (sauf les mercredis)\nPendant les vacances scolaires\, ouverture du site tous les jours (sauf le mercredi) de 14h à 18h jusqu’au 31 octobre 2026\n\nDernières admissions  : 17h30 \n  \nRecommandation :\nDans le château\,  les sacs ne sont pas acceptés (sauf tous petits sacs à main) \n\nTarifs 2026 :\nBILLET DOMAINE\nDonne accès à la visite libre du château\, au parc et à la roseraie \nPlein tarif : 12\,00 € \nTarif réduit (5-15 ans) : 8\,00€ \nGroupes (min 25 pers.) : 10\,00€ \nsupplément guide 100 euros (1 guide 30pers max) \n  \nBILLET PARC SEUL\nUniquement du 1er Juin au 31 Août  \nPlein tarif : 9\,00€ \nTarif réduit (5-15 ans) : 6\,50 € \nGroupes (min.25 pers.) : 8\,00 € \nInfos :\n\nAccueil du château : 03 22 25 10 93 / www.château-rambures-picardie.fr\nOffice de tourisme Aumale/Blangy-sur-Bresle : 02 35 17 61 09
URL:https://www.tourisme-aumale-blangy.fr/agenda/cest-lautomne-au-chateau-de-rambures/
LOCATION:Château de Rambures\, 8 Rue du Château\, 80140 Rambures\, Rambures\, 80140\, France
CATEGORIES:Animations,Mise en avant sur l'accueil,Portes Ouvertes
ATTACH;FMTTYPE=image/jpeg:https://www.tourisme-aumale-blangy.fr/wp-content/uploads/2026/02/Rambures-automne©Rambures-2026-scaled.jpg
END:VEVENT
BEGIN:VEVENT
DTSTART;TZID=Europe/Paris:20261004T090000
DTEND;TZID=Europe/Paris:20261004T235900
DTSTAMP:20260419T140211
CREATED:20231030T224905Z
LAST-MODIFIED:20260106T234905Z
UID:251856-1791104400-1791158340@www.tourisme-aumale-blangy.fr
SUMMARY:Marche et repas à Bouttencourt
DESCRIPTION:Rendez-vous sur le parking devant l’ancien presbytère d’Ansennes\nDépart – Parcours d’env. 10 km suivie d’un repas à la salle des fêtes Eugène Nibas de Bouttencourt \n– Tarif du repas des adultes : 18.00€\n– Tarif du repas des enfants (-12 ans) : 7.00€\nMarche seule : 3.00€ / Marche et repas : 21.00€\nTarifs sous réserve des mêmes conditions tarifaires que l’année passée. \nInscriptions obligatoire auprès de\nCRESSENT Bruno : 06.74.51.20.04 / DECAYEUX Didier : 06.85.62.96.86 / AVISSE Sylvain : 06.01.75.49.90\nLes enfants sont sous la responsabilté des parents.\nAnimation proposée par l’Association des parents et amis de l’école d’Ansennes
URL:https://www.tourisme-aumale-blangy.fr/agenda/marche-et-repas-a-bouttencourt-fmapic080v50li3o/
LOCATION:– BOUTTENCOURT\, BOUTTENCOURT\, 80220\, France
CATEGORIES:RandonnéeSortie Nature
ATTACH;FMTTYPE=image/jpg:https://www.tourisme-aumale-blangy.fr/wp-content/uploads/tourinsoft/femme rando.jpg
END:VEVENT
BEGIN:VEVENT
DTSTART;TZID=Europe/Paris:20261004T100000
DTEND;TZID=Europe/Paris:20261004T120000
DTSTAMP:20260419T140211
CREATED:20260327T224922Z
LAST-MODIFIED:20260406T224918Z
UID:573846-1791108000-1791115200@www.tourisme-aumale-blangy.fr
SUMMARY:Atelier Le feu de nos ancêtres
DESCRIPTION:RDV à 10h – Poteau du val de l’eau  – Route des sept acres à Rieux (\nA partir de 6 ans.\nVenez découvrir les plantes\, champignons et minéraux qui nous entourent et qui ont été utilisés par nos ancêtres pour produire du feu ! Vous serez initié aux méthodes de feu par friction et par percussion.\nÉquipements nécessaires : chaussures de marche\nInfos :  07 89 28 41 23‬ – lesbergers@lb2b.fr\nAtelier encadré par « Les bergers de la biodiversités » \n\n\n                                    \n                                   \n\n                                    \n                                   \nReservation : Obligatoire pour individuelObligatoire pour groupe
URL:https://www.tourisme-aumale-blangy.fr/agenda/atelier-le-feu-de-nos-ancetres-fmanor076v52542v/
LOCATION:Poteau du Val de l’Eau – RIEUX\, Poteau du Val de l'Eau\, RIEUX\, 76340\, France
CATEGORIES:Atelier / Stage,Autre,Contes et jeux,Jeux de société,Mise en avant sur l'accueil,Rallye,Randonnées/Balades
ATTACH;FMTTYPE=image/jpg:https://www.tourisme-aumale-blangy.fr/wp-content/uploads/tourinsoft/Animations ONF - 2026 - 2.jpg
ORGANIZER;CN="Les%20bergers%20de%20la%20biodiversit%C3%A9":MAILTO:lesbergers@lb2b.fr
END:VEVENT
END:VCALENDAR