BEGIN:VCALENDAR
VERSION:2.0
PRODID:-//Office de tourisme Aumale blangy sur bresle - ECPv6.0.9//NONSGML v1.0//EN
CALSCALE:GREGORIAN
METHOD:PUBLISH
X-ORIGINAL-URL:https://www.tourisme-aumale-blangy.fr
X-WR-CALDESC:évènements pour Office de tourisme Aumale blangy sur bresle
REFRESH-INTERVAL;VALUE=DURATION:PT1H
X-Robots-Tag:noindex
X-PUBLISHED-TTL:PT1H
BEGIN:VTIMEZONE
TZID:Europe/Paris
BEGIN:DAYLIGHT
TZOFFSETFROM:+0100
TZOFFSETTO:+0200
TZNAME:CEST
DTSTART:20260329T010000
END:DAYLIGHT
BEGIN:STANDARD
TZOFFSETFROM:+0200
TZOFFSETTO:+0100
TZNAME:CET
DTSTART:20261025T010000
END:STANDARD
END:VTIMEZONE
BEGIN:VEVENT
DTSTART;TZID=Europe/Paris:20261115T000100
DTEND;TZID=Europe/Paris:20261115T235900
DTSTAMP:20260421T221125
CREATED:20210225T103423Z
LAST-MODIFIED:20260119T234909Z
UID:65231-1794700860-1794787140@www.tourisme-aumale-blangy.fr
SUMMARY:Bourse aux jouets
DESCRIPTION:Vente de jouets / objets / vêtements enfants et puériculture\nAttention les places sont limitées !!!\nInstallation des exposants à partir de 8h00\nOuvert au public de 9h00 à 17h00 – Salle des Fêtes (Watteblery)\nRéservation obligatoire pour les exposants.\nRestauration rapide sur place\nInfos et tarifs  :  06 46 38 70 39
URL:https://www.tourisme-aumale-blangy.fr/agenda/bourse-aux-jouets-fmapic080v50smxn/
LOCATION:– BOUILLANCOURT-EN-SERY\, BOUILLANCOURT-EN-SERY\, 80220\, France
CATEGORIES:Brocantes - BraderiesJeune public
ATTACH;FMTTYPE=image/jpg:https://www.tourisme-aumale-blangy.fr/wp-content/uploads/tourinsoft/jouet enfant .jpg
END:VEVENT
END:VCALENDAR