BEGIN:VCALENDAR
VERSION:2.0
PRODID:-//Office de tourisme Aumale blangy sur bresle - ECPv6.0.9//NONSGML v1.0//EN
CALSCALE:GREGORIAN
METHOD:PUBLISH
X-WR-CALNAME:Office de tourisme Aumale blangy sur bresle
X-ORIGINAL-URL:https://www.tourisme-aumale-blangy.fr
X-WR-CALDESC:évènements pour Office de tourisme Aumale blangy sur bresle
REFRESH-INTERVAL;VALUE=DURATION:PT1H
X-Robots-Tag:noindex
X-PUBLISHED-TTL:PT1H
BEGIN:VTIMEZONE
TZID:Europe/Paris
BEGIN:DAYLIGHT
TZOFFSETFROM:+0100
TZOFFSETTO:+0200
TZNAME:CEST
DTSTART:20230326T010000
END:DAYLIGHT
BEGIN:STANDARD
TZOFFSETFROM:+0200
TZOFFSETTO:+0100
TZNAME:CET
DTSTART:20231029T010000
END:STANDARD
BEGIN:DAYLIGHT
TZOFFSETFROM:+0100
TZOFFSETTO:+0200
TZNAME:CEST
DTSTART:20240331T010000
END:DAYLIGHT
BEGIN:STANDARD
TZOFFSETFROM:+0200
TZOFFSETTO:+0100
TZNAME:CET
DTSTART:20241027T010000
END:STANDARD
BEGIN:DAYLIGHT
TZOFFSETFROM:+0100
TZOFFSETTO:+0200
TZNAME:CEST
DTSTART:20250330T010000
END:DAYLIGHT
BEGIN:STANDARD
TZOFFSETFROM:+0200
TZOFFSETTO:+0100
TZNAME:CET
DTSTART:20251026T010000
END:STANDARD
BEGIN:DAYLIGHT
TZOFFSETFROM:+0100
TZOFFSETTO:+0200
TZNAME:CEST
DTSTART:20260329T010000
END:DAYLIGHT
BEGIN:STANDARD
TZOFFSETFROM:+0200
TZOFFSETTO:+0100
TZNAME:CET
DTSTART:20261025T010000
END:STANDARD
END:VTIMEZONE
BEGIN:VEVENT
DTSTART;VALUE=DATE:20231206
DTEND;VALUE=DATE:20260106
DTSTAMP:20260424T075734
CREATED:20231201T161211Z
LAST-MODIFIED:20251212T105758Z
UID:258545-1701820800-1767657599@www.tourisme-aumale-blangy.fr
SUMMARY:Les menus pour les fêtes de fin d'année
DESCRIPTION:Vous n’avez pas envie de cuisiner pour les fêtes de fin d’année ? \nLes restaurateurs et traiteurs du territoire vous proposent leur carte spéciale. \nLes idées menus :\n\n\n  \n\n  \nVous pouvez également commandez vos plateaux de fromages\, charcuteries\, fruits secs dans vos épiceries : Le grenier fromager de Blangy-sur-Bresle / Le bon marché Aumalois. \nRetrouvez toutes les cartes de menus\, desserts et autres accompagnements chez vos commerçants !
URL:https://www.tourisme-aumale-blangy.fr/agenda/menus-de-fin-dannee/
CATEGORIES:Adulte,Animations,Mise en avant sur l'accueil,Repas
ATTACH;FMTTYPE=image/jpeg:https://www.tourisme-aumale-blangy.fr/wp-content/uploads/2023/12/table-de-Noel-©Pixabay.jpg
END:VEVENT
BEGIN:VEVENT
DTSTART;VALUE=DATE:20240715
DTEND;VALUE=DATE:20240902
DTSTAMP:20260424T075734
CREATED:20240711T114846Z
LAST-MODIFIED:20240713T081906Z
UID:375001-1721001600-1725235199@www.tourisme-aumale-blangy.fr
SUMMARY:Cirque La Rayonnante en roue libre tout l'été...
DESCRIPTION:La Communauté de Communes Interrégionale Aumale – Blangy-sur-Bresle a engagé un partenariat avec l’école du Cirk Corps accord basée à Roncherolles-en-Bray afin d’offrir aux habitants du territoire des animations culturelles.\n\n\nTout au long de la saison estivale\, l’école de cirque réalisera une tournée de spectacles sur le territoire.\n\n\n\nLe spectacle\, en suscitant l’émotion\, est prétexte à la rencontre et à l’échange. Cette tournée se veut immersive et participative\, en impliquant les habitants\, structures et associations volontaires à chaque étape de réalisation :\n– Deux temps de résidence sous chapiteau : camp de base pour agréger toutes les énergies.\n– La diffusion de spectacles : tournée en vélo en immersion totale.\n– Un temps de restitution finale : synthèse des moments de rencontre qui sont\, par essence\, éphémères.\n\n\n\n\n\n\nRendez-vous dans de nombreuses communes du territoire !\nVoici les dates :\n\n\n\n\n\nAu programme : Acrobaties\, mat\, trapèze et percussions … \n\n \nInformations complémentaires :\n \n  \nInformations complémentaires en mairie ou sur Instagram : @la_rayonnante_cirque \n\n\n\n\n\nAdresse : 731 rue des croisettes\, 76440 Roncherolles-en-Bray\n\n\n\n\n\n\n\n\n\n\n\n\n\nTèl : 02 35 09 14 48 – corpsaccord76@orange.fr
URL:https://www.tourisme-aumale-blangy.fr/agenda/cirk-la-rayonnante/
CATEGORIES:Adulte,Animations,Apéritif,Autre,Bal,Brocante,Cérémonie religieuse,Commémoration,Concert,Concerts,Danse,Danse - Bal,Feux d'artifice,Mise en avant sur l'accueil
ATTACH;FMTTYPE=image/jpeg:https://www.tourisme-aumale-blangy.fr/wp-content/uploads/2024/07/Cirk©corps-a-corps.jpg
END:VEVENT
BEGIN:VEVENT
DTSTART;VALUE=DATE:20240814
DTEND;VALUE=DATE:20240816
DTSTAMP:20260424T075735
CREATED:20170623T102916Z
LAST-MODIFIED:20240810T094031Z
UID:9235-1723600800-1723687199@www.tourisme-aumale-blangy.fr
SUMMARY:Pèlerinage de l'Assomption à Bazinval
DESCRIPTION:Paroisse de Blangy  \n\n\n18h30 – Chapelle \nLe chemin a été réaménagé et un parking sera à disposition proche du lieu de la chapelle. \n\n\n➜ La messe de l’Assomption sera donnée par le père Gabriel \n\n\nL’épisode dramatique du covid est maintenant derrière nous et sous l’impulsion du Père Gabriel\, prêtre de Blangy-sur-Bresle\, reprend la traditionnelle messe de l’assomption à la chapelle Dubos à Bazinval.\nEn mai dernier Monseigneur Lebrun archevêque de Rouen\, est venu en pèlerinage cent ans après Monseigneur Du Bois de la Villerabel\, la chapelle a été décrété haut lieu de pèlerinage. \nConsultez le dossier de presse ici\n \nCe sera l’occasion pour la paroisse de Blangy-sur-Bresle et pour ses fidèles de laisser définitivement derrière eux cet épisode « dramatique » lié à la crise sanitaire et de retrouver ce rendez-vous annuel\, perpétué depuis 1997. \n\n\nDésormais décrétée haut lieu de pèlerinage\, la chapelle s’est dotée d’une croix en bois de quatre mètres de haut érigée à son côté et le chemin permettant d’y accéder a été réaménagé.
URL:https://www.tourisme-aumale-blangy.fr/agenda/messe-chapelle-dubos-bazinval/
LOCATION:Chapelle Dubos\, Rue de la Chapelle Dubos\, Bazinval\, 76340\, France
CATEGORIES:Animations,Concerts,Mise en avant sur l'accueil,Repas
ATTACH;FMTTYPE=image/jpeg:https://www.tourisme-aumale-blangy.fr/wp-content/uploads/La-chapelle-Dubos-2.jpg
END:VEVENT
END:VCALENDAR