BEGIN:VCALENDAR
VERSION:2.0
PRODID:-//Office de tourisme Aumale blangy sur bresle - ECPv6.0.9//NONSGML v1.0//EN
CALSCALE:GREGORIAN
METHOD:PUBLISH
X-WR-CALNAME:Office de tourisme Aumale blangy sur bresle
X-ORIGINAL-URL:https://www.tourisme-aumale-blangy.fr
X-WR-CALDESC:évènements pour Office de tourisme Aumale blangy sur bresle
REFRESH-INTERVAL;VALUE=DURATION:PT1H
X-Robots-Tag:noindex
X-PUBLISHED-TTL:PT1H
BEGIN:VTIMEZONE
TZID:Europe/Paris
BEGIN:DAYLIGHT
TZOFFSETFROM:+0100
TZOFFSETTO:+0200
TZNAME:CEST
DTSTART:20230326T010000
END:DAYLIGHT
BEGIN:STANDARD
TZOFFSETFROM:+0200
TZOFFSETTO:+0100
TZNAME:CET
DTSTART:20231029T010000
END:STANDARD
BEGIN:DAYLIGHT
TZOFFSETFROM:+0100
TZOFFSETTO:+0200
TZNAME:CEST
DTSTART:20240331T010000
END:DAYLIGHT
BEGIN:STANDARD
TZOFFSETFROM:+0200
TZOFFSETTO:+0100
TZNAME:CET
DTSTART:20241027T010000
END:STANDARD
BEGIN:DAYLIGHT
TZOFFSETFROM:+0100
TZOFFSETTO:+0200
TZNAME:CEST
DTSTART:20250330T010000
END:DAYLIGHT
BEGIN:STANDARD
TZOFFSETFROM:+0200
TZOFFSETTO:+0100
TZNAME:CET
DTSTART:20251026T010000
END:STANDARD
BEGIN:DAYLIGHT
TZOFFSETFROM:+0100
TZOFFSETTO:+0200
TZNAME:CEST
DTSTART:20260329T010000
END:DAYLIGHT
BEGIN:STANDARD
TZOFFSETFROM:+0200
TZOFFSETTO:+0100
TZNAME:CET
DTSTART:20261025T010000
END:STANDARD
END:VTIMEZONE
BEGIN:VEVENT
DTSTART;VALUE=DATE:20231206
DTEND;VALUE=DATE:20260106
DTSTAMP:20260423T133657
CREATED:20231201T161211Z
LAST-MODIFIED:20251212T105758Z
UID:258545-1701820800-1767657599@www.tourisme-aumale-blangy.fr
SUMMARY:Les menus pour les fêtes de fin d'année
DESCRIPTION:Vous n’avez pas envie de cuisiner pour les fêtes de fin d’année ? \nLes restaurateurs et traiteurs du territoire vous proposent leur carte spéciale. \nLes idées menus :\n\n\n  \n\n  \nVous pouvez également commandez vos plateaux de fromages\, charcuteries\, fruits secs dans vos épiceries : Le grenier fromager de Blangy-sur-Bresle / Le bon marché Aumalois. \nRetrouvez toutes les cartes de menus\, desserts et autres accompagnements chez vos commerçants !
URL:https://www.tourisme-aumale-blangy.fr/agenda/menus-de-fin-dannee/
CATEGORIES:Adulte,Animations,Mise en avant sur l'accueil,Repas
ATTACH;FMTTYPE=image/jpeg:https://www.tourisme-aumale-blangy.fr/wp-content/uploads/2023/12/table-de-Noel-©Pixabay.jpg
END:VEVENT
BEGIN:VEVENT
DTSTART;VALUE=DATE:20250606
DTEND;VALUE=DATE:20250610
DTSTAMP:20260423T133657
CREATED:20180309T122408Z
LAST-MODIFIED:20250515T130421Z
UID:15300-1749175200-1749434399@www.tourisme-aumale-blangy.fr
SUMMARY:Les rendez-vous aux jardins 2025
DESCRIPTION:Les vendredi 6\, samedi 7 et dimanche 8 juin 2025\, le ministère de la Culture vous donne rendez-vous dans 2 200 parcs et jardins en France et environ 600 jardins répartis dans vingt autres pays européens.\nA cette occasion de nombreux professionnels : jardiniers\, propriétaires\, paysagistes\, botanistes\, guides … seront mobilisés pour partager avec les visiteurs leurs passions des jardins et leurs savoir-faire.\nQue vous soyez férus de botanique\, jardiniers du dimanche ou simples curieux\, les Rendez-vous aux jardins combleront toutes vos envies !Venez découvrir ces jardins\, ouverts parfois à titre exceptionnel (plus de 400 l’an dernier) et participer aux animations mises en place à cette unique occasion : ateliers pédagogiques\, démonstrations\, expositions\, promenades musicales\, conférences\, spectacles…\n\n\n\n\n\n\n\n\n\n\n\nEt autour de chez nous … Où se balader  ?\n\n\n\n– – SEINE-MARITIME – –\nEU – Parc et jardin du Château\nAdresse : Rue Jean Duhornay\, 76260 Eu \nDifférents ateliers gratuits sont proposés aux écoles (Atelier Land art / repiquage ou « la pierre dans le jardin du château d’Eu » ) le vendredi 6 juin 2025 de 9h30 à 11h30 ou de 13h30 à 15h30 \nTout au long du weekend : visite guidée : « la pierre au jardin régulier du château d’Eu » \n\nsamedi 7 juin 2025 de 10h30 à 11h30 ou de 14h à 15h \n\nGratuit – Sur inscription \nContact : 02 35 86 04 68 \n\n\n\n– – SOMME – –\n\n\n\n\n\n\n\n\n\n\n\n\n\nMORVILLERS-SAINT-SATURNIN – Jardin floral du château de Digeon\nAdresse : 7 route du Coq Gaulois \nDans ce jardin de 2\,5 hectares\, différents univers se côtoient : jardin à l’anglaise\, jardin de roses\, ou encore potager. Des arbres centenaires (séquoia et ginkgo) sont à découvrir au cours de la visite. \nOuverture du jardin floral de Digeon lors des Rendez-vous aux jardins 2025. Visite libre (entrée payante)\, accès boutique\, vente de végétaux\, salon de thé \nHoraires d’ouverture : \n\nvendredi 6 juin 2025 de 10h à 19h\nsamedi 7 juin 2025 de 10h à 19h\ndimanche 8 juin 2025 de 10h à 19h\n\nTarifs : \n\n\n\nEntrée 8€ / personne. Gratuit pour les moins de 12 ans \n\n\n\nContact : 06 82 99 68 44 \n\n\nRAMBURES – Domaine du château\nAdresse : 8 rue du château\, 80140 RAMBURES \n\n\nVisite libre du parc qui peut se définir comme un écrin de verdure romantique de 15 ha inscrit à l’inventaire supplémentaire des Monuments Historiques et labellisé Jardin Remarquable.\nNe repartez pas sans avoir profiter de la roseraie comprenant plus de 500 variétés de roses anciennes et modernes\, offrant une large palette de senteurs les plus subtiles.\nAteliers et animations dans le parc.\n\n\n\nOuvert le samedi 7 juin 2025 de 14h à 18h et le dimanche 8 juin 2025 de 14h à 18h \n\n\n\n\n\n\n\n\n\n\nTarifs : \nPlein tarif : 9\,00€ / Tarif réduit (5-15 ans) : 6\,50 € /Groupes (min.25 pers.) : 8\,00 €. \nPossibilité de visiter les intérieurs du château : tarif :12.00 €\, réduit (5-15 ans) : 8.00 € \n\nContact : 03 22 25 10 93 – contact@chateaufort-rambures.com \n\n\n\n– – OISE – –\nVillage de Gerberoy\nDécouvrez un village classé « plus beaux village de France » situé aux confins de la Picardie et de la Normandie et à seulement 40 km d’Aumale.  Gerberoy voit la vie en « roses » depuis le coup de cœur d’un peintre post-impressionniste… \nInfos : www.oisetourisme.com/visiter/les-incontournables/gerberoy/
URL:https://www.tourisme-aumale-blangy.fr/agenda/rendez-aux-jardins-2025/
CATEGORIES:Animations,Enfants,Mise en avant sur l'accueil,Portes Ouvertes
ATTACH;FMTTYPE=image/jpeg:https://www.tourisme-aumale-blangy.fr/wp-content/uploads/2018/03/rdvjardins25.jpg
END:VEVENT
BEGIN:VEVENT
DTSTART;VALUE=DATE:20250615
DTEND;VALUE=DATE:20250616
DTSTAMP:20260423T133657
CREATED:20250517T134140Z
LAST-MODIFIED:20250520T151518Z
UID:200897-1749945600-1750031999@www.tourisme-aumale-blangy.fr
SUMMARY:Animations au jardin de Digeon
DESCRIPTION:Entrée adulte : 16€ – Entrée enfant (jusqu’à 12 ans) : 5€ \nL’entrée inclus le goûter et l’accès libre au jardin avant ou après l’animation \nRéservation : 06 82 99 68 44 / jardinfloraldedigeon@gmail.com \nADRESSE DU JARDIN DE DIGEON\n7 Route du Coq Gaulois – Hameau de Digeon\n80290 MORVILLERS-SAINT-SATURNIN \n  \n\n 
URL:https://www.tourisme-aumale-blangy.fr/agenda/des-petites-betes-au-jardin-de-digeon/
LOCATION:Domaine de Digeon\, 7\, route du Coq Gaulois Hameau de Digeon\, Morvillers-Saint-Saturnin\, 80290\, France
CATEGORIES:Adulte,Animations,Autre,Brocantes - BraderiesCirque - Fête foraineConcertDanse - BalExposition - Foire - Portes ouvertesLoisirs et détente,Tradition et folklore
ATTACH;FMTTYPE=image/jpeg:https://www.tourisme-aumale-blangy.fr/wp-content/uploads/Jardin-floral-du-Château-de-Digeon-10-1.jpg
END:VEVENT
END:VCALENDAR