BEGIN:VCALENDAR
VERSION:2.0
PRODID:-//Office de tourisme Aumale blangy sur bresle - ECPv6.0.9//NONSGML v1.0//EN
CALSCALE:GREGORIAN
METHOD:PUBLISH
X-ORIGINAL-URL:https://www.tourisme-aumale-blangy.fr
X-WR-CALDESC:évènements pour Office de tourisme Aumale blangy sur bresle
REFRESH-INTERVAL;VALUE=DURATION:PT1H
X-Robots-Tag:noindex
X-PUBLISHED-TTL:PT1H
BEGIN:VTIMEZONE
TZID:Europe/Paris
BEGIN:DAYLIGHT
TZOFFSETFROM:+0100
TZOFFSETTO:+0200
TZNAME:CEST
DTSTART:20230326T010000
END:DAYLIGHT
BEGIN:STANDARD
TZOFFSETFROM:+0200
TZOFFSETTO:+0100
TZNAME:CET
DTSTART:20231029T010000
END:STANDARD
BEGIN:DAYLIGHT
TZOFFSETFROM:+0100
TZOFFSETTO:+0200
TZNAME:CEST
DTSTART:20240331T010000
END:DAYLIGHT
BEGIN:STANDARD
TZOFFSETFROM:+0200
TZOFFSETTO:+0100
TZNAME:CET
DTSTART:20241027T010000
END:STANDARD
BEGIN:DAYLIGHT
TZOFFSETFROM:+0100
TZOFFSETTO:+0200
TZNAME:CEST
DTSTART:20250330T010000
END:DAYLIGHT
BEGIN:STANDARD
TZOFFSETFROM:+0200
TZOFFSETTO:+0100
TZNAME:CET
DTSTART:20251026T010000
END:STANDARD
BEGIN:DAYLIGHT
TZOFFSETFROM:+0100
TZOFFSETTO:+0200
TZNAME:CEST
DTSTART:20260329T010000
END:DAYLIGHT
BEGIN:STANDARD
TZOFFSETFROM:+0200
TZOFFSETTO:+0100
TZNAME:CET
DTSTART:20261025T010000
END:STANDARD
END:VTIMEZONE
BEGIN:VEVENT
DTSTART;VALUE=DATE:20231206
DTEND;VALUE=DATE:20260106
DTSTAMP:20260421T221828
CREATED:20231201T161211Z
LAST-MODIFIED:20251212T105758Z
UID:258545-1701820800-1767657599@www.tourisme-aumale-blangy.fr
SUMMARY:Les menus pour les fêtes de fin d'année
DESCRIPTION:Vous n’avez pas envie de cuisiner pour les fêtes de fin d’année ? \nLes restaurateurs et traiteurs du territoire vous proposent leur carte spéciale. \nLes idées menus :\n\n\n  \n\n  \nVous pouvez également commandez vos plateaux de fromages\, charcuteries\, fruits secs dans vos épiceries : Le grenier fromager de Blangy-sur-Bresle / Le bon marché Aumalois. \nRetrouvez toutes les cartes de menus\, desserts et autres accompagnements chez vos commerçants !
URL:https://www.tourisme-aumale-blangy.fr/agenda/menus-de-fin-dannee/
CATEGORIES:Adulte,Animations,Mise en avant sur l'accueil,Repas
ATTACH;FMTTYPE=image/jpeg:https://www.tourisme-aumale-blangy.fr/wp-content/uploads/2023/12/table-de-Noel-©Pixabay.jpg
END:VEVENT
BEGIN:VEVENT
DTSTART;VALUE=DATE:20250701
DTEND;VALUE=DATE:20250902
DTSTAMP:20260421T221828
CREATED:20200110T105346Z
LAST-MODIFIED:20250816T113341Z
UID:23954-1751335200-1756691999@www.tourisme-aumale-blangy.fr
SUMMARY:Animations et sorties de l'été à faire seul ou en famille
DESCRIPTION:C’est les grandes vacances… le Centre social l’Atelier de Blangy-sur-Bresle vous proposent de nombreuses activités et sorties ! \n\n\nEn juillet\n\n\n\n\n\n\n\n\n\n  \n\nEn Août\n\n\n\nNombre de places limitées selon les activités\nInscription obligatoire pour toutes activités.\n  \nPour toutes informations relatives à ces activités et sorties\, veuillez contacter le Centre Social l’Atelier : 06 58 61 77 38  – 02 32 9712 64 – accueil.latelier@outlook.fr \n 
URL:https://www.tourisme-aumale-blangy.fr/agenda/animations-ete-a-faire-en-famille/
CATEGORIES:Animations,Atelier / Stage,Autre,Conférence / Atelier,Contes et jeux,Enfants,Mise en avant sur l'accueil,Voyages / Sorties
ATTACH;FMTTYPE=image/jpeg:https://www.tourisme-aumale-blangy.fr/wp-content/uploads/2020/01/Pourquoi-partir-ailleurs-.jpg
END:VEVENT
BEGIN:VEVENT
DTSTART;VALUE=DATE:20250815
DTEND;VALUE=DATE:20250817
DTSTAMP:20260421T221828
CREATED:20250729T074812Z
LAST-MODIFIED:20250729T075534Z
UID:518456-1755223200-1755309599@www.tourisme-aumale-blangy.fr
SUMMARY:Soirée garden party au Tropico
DESCRIPTION:A partir de 18h30\, venez partager un moment convivial autour d’un délicieux repas ! \nFormule cochon à la broche – 20€/Personne : kir – cochon de lait – pommes de terre et ratatouille –  1 verre de vin – café \nFormule barbecue – 15€/Personne : kir – chipo ou merguez ou andouillette – frites – 1 verre de vin – café \nBar extérieur \nRepas sur réservation \nInfos :\nAdresse : 1 chemin de l’étang – 60220 Quincampoix-Fleuzy \nTel : 06 77 92 05 48 \n\n 
URL:https://www.tourisme-aumale-blangy.fr/agenda/brocante-du-tropico-3/
CATEGORIES:Animations,Brocante,Brocante - Foire à tout,Mise en avant sur l'accueil
ATTACH;FMTTYPE=image/jpeg:https://www.tourisme-aumale-blangy.fr/wp-content/uploads/2020/03/475295399_1145180607148377_23095637862151157_n.jpg
END:VEVENT
END:VCALENDAR