BEGIN:VCALENDAR
VERSION:2.0
PRODID:-//Office de tourisme Aumale blangy sur bresle - ECPv6.0.9//NONSGML v1.0//EN
CALSCALE:GREGORIAN
METHOD:PUBLISH
X-WR-CALNAME:Office de tourisme Aumale blangy sur bresle
X-ORIGINAL-URL:https://www.tourisme-aumale-blangy.fr
X-WR-CALDESC:évènements pour Office de tourisme Aumale blangy sur bresle
REFRESH-INTERVAL;VALUE=DURATION:PT1H
X-Robots-Tag:noindex
X-PUBLISHED-TTL:PT1H
BEGIN:VTIMEZONE
TZID:Europe/Paris
BEGIN:DAYLIGHT
TZOFFSETFROM:+0100
TZOFFSETTO:+0200
TZNAME:CEST
DTSTART:20260329T010000
END:DAYLIGHT
BEGIN:STANDARD
TZOFFSETFROM:+0200
TZOFFSETTO:+0100
TZNAME:CET
DTSTART:20261025T010000
END:STANDARD
END:VTIMEZONE
BEGIN:VEVENT
DTSTART;VALUE=DATE:20260228
DTEND;VALUE=DATE:20260502
DTSTAMP:20260421T003029
CREATED:20260216T114727Z
LAST-MODIFIED:20260413T122544Z
UID:21879-1772240400-1777600799@www.tourisme-aumale-blangy.fr
SUMMARY:Ouverture du Château de Rambures !
DESCRIPTION:Ça y est !  Nous pouvons vous annoncer la réouverture du château\, du parc et de la roseraie dès le samedi 28 février 2026 \nVéritable bijoux de la vallée de la Bresle\, ce château atypique sera une étape incontournable de votre périple chez nous ! \nLes visites guidées ne sont plus assurées mais le château possède un parcours pédagogique qui vous permettra de découvrir les pièces habituelles du circuit de visite … la salle à manger\, la chambre médiévale\, le grand salon\, la bibliothèque et bien d’autres nouvelles pièces vous permettront de découvrir la vie quotidienne et l’histoire de cette famille au cours des siècles … une nouvelle façon de découvrir le château des seigneurs de Rambures. \nLe parc et la roseraie sont de nouveau accessible alors que nous arrivons au gros du fleurissement … émerveillement immédiat donc pour nos visiteurs de l’après confinement\, deux jeux de pistes vous seront proposés en plus dans le parc pour le découvrir tout en vous amusant. Un écrin de verdure romantique de 15 ha\, inscrit à l’inventaire supplémentaire des Monuments historiques et labellisé Jardin remarquable depuis 2006. \nUne visite qui vous permettra un voyage dans le temps de 600 ans. \nBonne visite à tous ! \n  \n\n*** JOURS ET HORAIRES D’OUVERTURE POUR  2026 ***\nPOUR LES INDIVIDUELS  :\n\nRéouverture du site tous les jours (sauf le mercredi) de 14h à 18h.\nException pour le dimanche 29 mars – Ouvert de 10h à 12h et de 14h à 18h\n\nDernières admissions  : 17h30 \n  \nRecommandation :\nDans le château\,  les sacs ne sont pas acceptés (sauf tous petits sacs à main) \n\nTarifs 2026 :\nBILLET DOMAINE\nDonne accès à la visite libre du château\, au parc et à la roseraie \nPlein tarif : 12\,00 € \nTarif réduit (5-15 ans) : 8\,00€ \nGroupes (min 25 pers.) : 10\,00€ \nsupplément guide 100 euros (1 guide 30pers max) \n  \nBILLET PARC SEUL\nUniquement du 1er Juin au 31 Août  \nPlein tarif : 9\,00€ \nTarif réduit (5-15 ans) : 6\,50 € \nGroupes (min.25 pers.) : 8\,00 € \nInfos :\n\nAccueil du château : 03 22 25 10 93 / www.château-rambures-picardie.fr\nOffice de tourisme Aumale/Blangy-sur-Bresle : 02 35 17 61 09
URL:https://www.tourisme-aumale-blangy.fr/agenda/ouverture-chateau-de-rambures/
LOCATION:Château de Rambures\, 8 Rue du Château\, 80140 Rambures\, Rambures\, 80140\, France
CATEGORIES:Animations,Mise en avant sur l'accueil,Portes Ouvertes
ATTACH;FMTTYPE=image/jpeg:https://www.tourisme-aumale-blangy.fr/wp-content/uploads/Château-de-Ralmbures.jpg
END:VEVENT
BEGIN:VEVENT
DTSTART;VALUE=DATE:20260411
DTEND;VALUE=DATE:20260428
DTSTAMP:20260421T003029
CREATED:20240327T161831Z
LAST-MODIFIED:20260413T142701Z
UID:320340-1775872800-1777255199@www.tourisme-aumale-blangy.fr
SUMMARY:Que faire pendant les vacances de Printemps ?
DESCRIPTION:Ce sont les vacances de Printemps … l’Office de Tourisme Aumale – Blangy-sur-Bresle vous propose de nombreuses activités et sorties ! \nAu programme : Visite du Musée du verre\, du Château de Rambures\, ateliers créatifs\, jeux de société etc… \nTout au long des vacances :\nVisitez le Musée du verre de Blangy-sur-Bresle \nMusée ouvert de 14h00 – 18h00 du mercredi au dimanche \nAttention : Fermé les lundis et mardis \nDémonstration des souffleurs de verre chaque jour à 14h30 et 16h. Réservations conseillées pour assister aux visites guidées. \nTarifs : 7.00€/Personne / Gratuit pour les moins de 18 ans \nInfos : 02 35 94 44 79 \nVisitez le Château fort de Rambures \nLe château de Rambures est un ancien château fort du XVème siècle\, démantelé au XVIIème siècle et restauré au XVIIIème siècle. C’est l’un des rares châteaux du Moyen-Âge à subsister dans le département de la Somme. C’est aussi un chef-d’œuvre de l’architecture militaire médiévale. \n\nOuvert du jeudi au mardi de 10h à 12h et de 14h à 18h \nTarifs : 12.00 €/Adulte et 8.00€/Enfant (5-15ans) ( donne accès à la visite libre du château\, au parc et à la roseraie) : \nPour toutes informations relatives à ce site\, veuillez contacter le 03 22 25 10 93 \nwww.chateaufort-rambures.com – Facebook : ChâteaudeRamburesPicardie – 8\, rue du Château 80140 Rambures \nTentez l’escape Game au cœur d’un bunker de la Seconde Guerre Mondiale \nDécouvrez un jeu inédit et unique dans la région à l’intérieur d’un blockhaus de la seconde guerre mondiale.\nPlongez dans l’histoire en profitant d’une expérience 100 % immersive et découvrez le patrimoine militaire historique différemment.\nPar équipe de 2 à 8 joueurs\, vous disposez de 60 minutes pour mener à bien votre mission !\nComment ? En résolvant une série d’énigmes dans un univers thématisé. \nEn famille\, entre amis ou entre collègues\, c’est l’occasion de profiter d’une activité ludique et éducative\, force de cohésion.\nIntrigues pensées selon les épisodes historiques de l’Offensive V1 entre 1943 et 1944\, décors et mobilier d’époque\, mécanismes ingénieux : appréhendez l’Histoire d’une autre manière. \nExpérience ouverte à tous – A partir de 8 ans.\nRéservations ouvertes à partir du 11 Avril\n– Tous les weekend d’Avril à Septembre\n– Tous les après-midis pendant les vacances scolaires de 13h30 à 20h30 (5 séances) – Fermé exceptionnellement les 14-15 et 16 avril 2026 \nRéservez votre créneau horaire obligatoire en ligne : www.escapegameinsolite.com\nInfos : Aurélien – 06 43 12 88 69 \nProfitez de l’opération « Printemps à la ferme » \nLe Printemps se prépare et comme chaque année les agriculteurs du réseau Bienvenue à la Ferme ouvrent les portes au travers de deux grands rendez-vous : Printemps à la ferme et Chasse aux œufs à la ferme. \nVenez partager un moment convivial et ludique autour de leur métier\, des saveurs\, des savoirs-faire tout en profitant du grand air ! \nUne cinquantaine de rendez-vous vous sont proposés en cette édition 2026 partout en Normandie \n\nProgramme de la Seine-Maritime \n\n\n\nProgramme de la Somme\n\nDétail du calendrier :\n\n\n\n\n 
URL:https://www.tourisme-aumale-blangy.fr/agenda/que-faire-pendant-les-vacances-de-printemps-2024/
CATEGORIES:Animations,Atelier / Stage,Autre,Conférence / Atelier,Contes et jeux,Enfants,Mise en avant sur l'accueil,Voyages / Sorties
ATTACH;FMTTYPE=image/png:https://www.tourisme-aumale-blangy.fr/wp-content/uploads/2024/03/©OTABB-IA2026.png
END:VEVENT
END:VCALENDAR