BEGIN:VCALENDAR
VERSION:2.0
PRODID:-//Office de tourisme Aumale blangy sur bresle - ECPv6.0.9//NONSGML v1.0//EN
CALSCALE:GREGORIAN
METHOD:PUBLISH
X-WR-CALNAME:Office de tourisme Aumale blangy sur bresle
X-ORIGINAL-URL:https://www.tourisme-aumale-blangy.fr
X-WR-CALDESC:évènements pour Office de tourisme Aumale blangy sur bresle
REFRESH-INTERVAL;VALUE=DURATION:PT1H
X-Robots-Tag:noindex
X-PUBLISHED-TTL:PT1H
BEGIN:VTIMEZONE
TZID:Europe/Paris
BEGIN:DAYLIGHT
TZOFFSETFROM:+0100
TZOFFSETTO:+0200
TZNAME:CEST
DTSTART:20260329T010000
END:DAYLIGHT
BEGIN:STANDARD
TZOFFSETFROM:+0200
TZOFFSETTO:+0100
TZNAME:CET
DTSTART:20261025T010000
END:STANDARD
END:VTIMEZONE
BEGIN:VEVENT
DTSTART;VALUE=DATE:20260501
DTEND;VALUE=DATE:20260716
DTSTAMP:20260421T021032
CREATED:20260217T152622Z
LAST-MODIFIED:20260217T152622Z
UID:563721-1777600800-1784080799@www.tourisme-aumale-blangy.fr
SUMMARY:Le Château de Rambures au Printemps
DESCRIPTION:Ça y est !  Les fleurs débarquent au château de Rambures. Changement d’horaire à partir du vendredi 1er mai 2026 \nVéritable bijoux de la vallée de la Bresle\, ce château atypique sera une étape incontournable de votre périple chez nous ! \nLes visites guidées ne sont plus assurées mais le château possède un parcours pédagogique qui vous permettra de découvrir les pièces habituelles du circuit de visite … la salle à manger\, la chambre médiévale\, le grand salon\, la bibliothèque et bien d’autres nouvelles pièces vous permettront de découvrir la vie quotidienne et l’histoire de cette famille au cours des siècles … une nouvelle façon de découvrir le château des seigneurs de Rambures. \nLe parc et la roseraie sont de nouveau accessible alors que nous arrivons au gros du fleurissement … émerveillement immédiat donc pour nos visiteurs de l’après confinement\, deux jeux de pistes vous seront proposés en plus dans le parc pour le découvrir tout en vous amusant. Un écrin de verdure romantique de 15 ha\, inscrit à l’inventaire supplémentaire des Monuments historiques et labellisé Jardin remarquable depuis 2006. \nUne visite qui vous permettra un voyage dans le temps de 600 ans. \nBonne visite à tous ! \n  \n\n*** JOURS ET HORAIRES D’OUVERTURE POUR  2026 ***\nPOUR LES INDIVIDUELS  :\n\nRéouverture du site tous les jours (sauf le mercredi) de 10h à 12h et de 14h à 18h\nA partir du 16 juillet\, le château ouvrira sans interruption de 10h à 18h\n\nDernières admissions  : 17h30 \n  \nRecommandation :\nDans le château\,  les sacs ne sont pas acceptés (sauf tous petits sacs à main) \n\nTarifs 2026 :\nBILLET DOMAINE\nDonne accès à la visite libre du château\, au parc et à la roseraie \nPlein tarif : 12\,00 € \nTarif réduit (5-15 ans) : 8\,00€ \nGroupes (min 25 pers.) : 10\,00€ \nsupplément guide 100 euros (1 guide 30pers max) \n  \nBILLET PARC SEUL\nUniquement du 1er Juin au 31 Août  \nPlein tarif : 9\,00€ \nTarif réduit (5-15 ans) : 6\,50 € \nGroupes (min.25 pers.) : 8\,00 € \nInfos :\n\nAccueil du château : 03 22 25 10 93 / www.château-rambures-picardie.fr\nOffice de tourisme Aumale/Blangy-sur-Bresle : 02 35 17 61 09
URL:https://www.tourisme-aumale-blangy.fr/agenda/le-chateau-de-rambures-au-printemps/
LOCATION:Château de Rambures\, 8 Rue du Château\, 80140 Rambures\, Rambures\, 80140\, France
CATEGORIES:Animations,Mise en avant sur l'accueil,Portes Ouvertes
ATTACH;FMTTYPE=image/jpeg:https://www.tourisme-aumale-blangy.fr/wp-content/uploads/Château-de-Rambures-12.jpg
END:VEVENT
BEGIN:VEVENT
DTSTART;VALUE=DATE:20260530
DTEND;VALUE=DATE:20260602
DTSTAMP:20260421T021032
CREATED:20260413T080116Z
LAST-MODIFIED:20260413T115335Z
UID:6653-1780106400-1780279199@www.tourisme-aumale-blangy.fr
SUMMARY:Pierres en Lumières & Nuit des musées 2026
DESCRIPTION:Découvrez la magie du patrimoine normand en nocturne !\nLe festival Pierres en lumières est né dans l’Orne en 2009. Depuis 2015\, l’évènement rayonne dans les cinq départements normands : la Manche\, le Calvados\, la Seine-Maritime\, l’Orne et l’Eure.\nCoorganisé par les cinq départements et la Fondation du patrimoine\, délégation Normandie\, le festival a pour objectif de faire connaître le patrimoine et ceux qui le font vivre de manière originale.\n\nDes animations nocturnes rythment ce weekend de fête. Concerts\, visites\, expositions\, balades\, conférences\, et autres\, illuminent le patrimoine normand.\nLa mise en scène de cette manifestation est assurée par les habitants\, les communes\, les associations\, les propriétaires\, les artistes qui en composent le programme.\n\nPierres en Lumières c’est LE festival nocturne du patrimoine normand !\nLa 11e édition de Pierres en lumières se déroulera du vendredi 29 au dimanche 31 mai 2026 de la tombée de la nuit à 1h du matin.\n\nET LES COMMUNES DE LA VALLÉE DE LA BRESLE DANS TOUT CA ?\nEn 2026 dans le cadre de cette opération  « Pierres en Lumières »\, certaines de nos communes mettent aussi le patrimoine de la vallée de la Bresle en lumière : \n\n\nToutes les adresses des participants ici sur la carte interactive\n\n\n 
URL:https://www.tourisme-aumale-blangy.fr/agenda/pierres-en-lumieres-2026/
CATEGORIES:Animations,Concerts,Expositions,Festivals / Salons,Mise en avant sur l'accueil,Portes Ouvertes,Spectacle
ATTACH;FMTTYPE=image/png:https://www.tourisme-aumale-blangy.fr/wp-content/uploads/2026/04/Pierres-en-lumieres-site.png
END:VEVENT
END:VCALENDAR