BEGIN:VCALENDAR
VERSION:2.0
PRODID:-//Office de tourisme Aumale blangy sur bresle - ECPv6.0.9//NONSGML v1.0//EN
CALSCALE:GREGORIAN
METHOD:PUBLISH
X-WR-CALNAME:Office de tourisme Aumale blangy sur bresle
X-ORIGINAL-URL:https://www.tourisme-aumale-blangy.fr
X-WR-CALDESC:évènements pour Office de tourisme Aumale blangy sur bresle
REFRESH-INTERVAL;VALUE=DURATION:PT1H
X-Robots-Tag:noindex
X-PUBLISHED-TTL:PT1H
BEGIN:VTIMEZONE
TZID:Europe/Paris
BEGIN:DAYLIGHT
TZOFFSETFROM:+0100
TZOFFSETTO:+0200
TZNAME:CEST
DTSTART:20210328T010000
END:DAYLIGHT
BEGIN:STANDARD
TZOFFSETFROM:+0200
TZOFFSETTO:+0100
TZNAME:CET
DTSTART:20211031T010000
END:STANDARD
END:VTIMEZONE
BEGIN:VEVENT
DTSTART;TZID=Europe/Paris:20210723T190000
DTEND;TZID=Europe/Paris:20210723T230000
DTSTAMP:20260420T064415
CREATED:20200718T104702Z
LAST-MODIFIED:20210721T224703Z
UID:43026-1627066800-1627081200@www.tourisme-aumale-blangy.fr
SUMMARY:5ème édition du Festival "A tout bout d'chants"
DESCRIPTION:Le festival « A tout bout d’chants » est un festival de musique intemporelle\, de variété et populaire\, avec des artistes professionnels et amateurs\, d’ici ou d’ailleurs\, interprétant des chansons d’hier à aujourd’hui et que nous continuons de chanter « à tout bout d’chants ».  \nCe festival c’est aussi des lieux différents\, pour découvrir à la fois des styles de musique et des lieux différents de ce village « au bout de la Normandie » comme certains le disent mais où l’on chante à « tout bout d’chants » même peut-être au bout de nos champs !\nPour ce premier concert\, la commune accueillera les Dip Joy avec pour cadre l’église Notre Dame\,  juste avant le concert\, vous avez la possibilité de vous restaurer si vous le souhaitez ! Repas simple\, mais fait-maison !  \nCette animation musicale sera associée à un repas réalisé par nos bénévoles. Tarif : 12.00€/pers . Il est indispensable de réserver pour les repas qui seront réalisés en quantités limitées. Buvette.  \nAu programme : \n–	19H00 : Visite libre de l’Eglise Notre Dame – Ascension possible du clocher (par petits groupes).\n–	20H00 : Apéritif en musique offert.\n–	Dès 20H00 : Repas sous chapiteau – Sur la place du village –  Menu à 12 euros : Tarte paysanne – Salade / Fromage / Tarte.\n–	21H30 : Concert des « DIP JOY »\, trio gospel accompagné de leur pianiste vous feront sublimer leurs voix et harmonies dans l’église Notre Dame. Entrée gratuite\nA chaque participation à 1 repas\, un bon de réduction de 2€ utilisable à l’une ou l’autre des animations suivantes du festival sera distribué.\nRéservations conseillées au 06 47 16 75 39 / Sur la page Facebook / www.cdhaa.fr \nProchaines dates : Vendredi 27 Août – Dimanche 26 Septembre
URL:https://www.tourisme-aumale-blangy.fr/agenda/5eme-edition-du-festival-a-tout-bout-dchants-FMANOR076V517TCL/
LOCATION:Rue Neuve – CAMPNEUSEVILLE\, Rue Neuve\, CAMPNEUSEVILLE\, 76340\, France
CATEGORIES:Apéritif,Autre,Bal,Concert,Festival,Mise en avant sur l'accueil,Spectacle
ATTACH;FMTTYPE=image/jpg:https://www.tourisme-aumale-blangy.fr/wp-content/uploads/tourinsoft/festival a tout bout d'chant-23 juilet.jpg
END:VEVENT
END:VCALENDAR