BEGIN:VCALENDAR
VERSION:2.0
PRODID:-//Office de tourisme Aumale blangy sur bresle - ECPv6.0.9//NONSGML v1.0//EN
CALSCALE:GREGORIAN
METHOD:PUBLISH
X-ORIGINAL-URL:https://www.tourisme-aumale-blangy.fr
X-WR-CALDESC:évènements pour Office de tourisme Aumale blangy sur bresle
REFRESH-INTERVAL;VALUE=DURATION:PT1H
X-Robots-Tag:noindex
X-PUBLISHED-TTL:PT1H
BEGIN:VTIMEZONE
TZID:Europe/Paris
BEGIN:DAYLIGHT
TZOFFSETFROM:+0100
TZOFFSETTO:+0200
TZNAME:CEST
DTSTART:20210328T010000
END:DAYLIGHT
BEGIN:STANDARD
TZOFFSETFROM:+0200
TZOFFSETTO:+0100
TZNAME:CET
DTSTART:20211031T010000
END:STANDARD
END:VTIMEZONE
BEGIN:VEVENT
DTSTART;TZID=Europe/Paris:20210917T200000
DTEND;TZID=Europe/Paris:20210917T230000
DTSTAMP:20260420T032007
CREATED:20210913T144703Z
LAST-MODIFIED:20210913T224706Z
UID:90614-1631908800-1631919600@www.tourisme-aumale-blangy.fr
SUMMARY:Boeuf itinérant
DESCRIPTION:Concept festif créé par l’association Amuséon\, le Bœuf Itinérant est une session mensuelle de musique traditionnelle\, ouverte à tous les musiciens intéressés et aussi aux danseurs\, qui s’installe pour la soirée dans un café pour passer un bon moment à musiquer ensemble\, autour des ateliers de musique de Mers les Bains\, Amiens et Liomer.\nEntrée libre (hors consommation) – A partir de 20h00\nA vos instruments et souliers de danse !
URL:https://www.tourisme-aumale-blangy.fr/agenda/boeuf-itinerant-FMANOR076V51IM0F/
LOCATION:32 Grande Rue François Mitterrand – BLANGY-SUR-BRESLE\, 32 Grande Rue François Mitterrand\, BLANGY-SUR-BRESLE\, 76340\, France
CATEGORIES:Apéritif,Autre,Bal
ATTACH;FMTTYPE=image/jpg:https://www.tourisme-aumale-blangy.fr/wp-content/uploads/tourinsoft/accordéon .jpg
END:VEVENT
END:VCALENDAR