BEGIN:VCALENDAR
VERSION:2.0
PRODID:-//Office de tourisme Aumale blangy sur bresle - ECPv6.0.9//NONSGML v1.0//EN
CALSCALE:GREGORIAN
METHOD:PUBLISH
X-WR-CALNAME:Office de tourisme Aumale blangy sur bresle
X-ORIGINAL-URL:https://www.tourisme-aumale-blangy.fr
X-WR-CALDESC:évènements pour Office de tourisme Aumale blangy sur bresle
REFRESH-INTERVAL;VALUE=DURATION:PT1H
X-Robots-Tag:noindex
X-PUBLISHED-TTL:PT1H
BEGIN:VTIMEZONE
TZID:Europe/Paris
BEGIN:DAYLIGHT
TZOFFSETFROM:+0100
TZOFFSETTO:+0200
TZNAME:CEST
DTSTART:20250330T010000
END:DAYLIGHT
BEGIN:STANDARD
TZOFFSETFROM:+0200
TZOFFSETTO:+0100
TZNAME:CET
DTSTART:20251026T010000
END:STANDARD
END:VTIMEZONE
BEGIN:VEVENT
DTSTART;VALUE=DATE:20250529
DTEND;VALUE=DATE:20250531
DTSTAMP:20260420T053717
CREATED:20240122T143548Z
LAST-MODIFIED:20251209T170606Z
UID:276285-1748484000-1748570399@www.tourisme-aumale-blangy.fr
SUMMARY:Rassemblement autos - motos - cyclos au Tropico
DESCRIPTION:Rassemblement autos – motos et cyclos \nExposition toutes marques : voitures / motos / mobylettes anciennes \nBourse échange particulier \nRéservation obligatoire pour les exposants de véhicule ainsi que pour les stands bourse d’échange. Un plateau repas sera offert au propriétaire de véhicule ancien à 4 roues (de 12h à 15h) et 1 boisson offerte* au propriétaire de véhicule 2 roues. \n*boisson non alcoolisée \nBalade de 35 km – Départ à 11h \nEntrée visiteur gratuite – Ouvert à tous ! \nSur place  : Pêche / Pédalo / Terrasse / Bar / Balade autour de l’étang \nBarbecue et buvette sur place \nBien plus qu’un rassemblement\, c’est une journée de détente entre amis et en famille !\nInfos :\nAdresse : 1 chemin de l’étang – 60220 Quincampoix-Fleuzy \n06 77 92 05 48 / letropico@orange.fr
URL:https://www.tourisme-aumale-blangy.fr/agenda/brocante-du-tropico-2/
LOCATION:Domaine Le Tropico\, 1 chemin de l'étant\, QUINCAMPOIX-FLEUZY\, 60220\, France
CATEGORIES:Animations,Brocante,Brocante - Foire à tout,Exposition,Expositions,Mise en avant sur l'accueil
ATTACH;FMTTYPE=image/jpeg:https://www.tourisme-aumale-blangy.fr/wp-content/uploads/2024/01/oldtimer-4097480_1280.jpg
END:VEVENT
END:VCALENDAR