BEGIN:VCALENDAR
VERSION:2.0
PRODID:-//Office de tourisme Aumale blangy sur bresle - ECPv6.0.9//NONSGML v1.0//EN
CALSCALE:GREGORIAN
METHOD:PUBLISH
X-WR-CALNAME:Office de tourisme Aumale blangy sur bresle
X-ORIGINAL-URL:https://www.tourisme-aumale-blangy.fr
X-WR-CALDESC:évènements pour Office de tourisme Aumale blangy sur bresle
REFRESH-INTERVAL;VALUE=DURATION:PT1H
X-Robots-Tag:noindex
X-PUBLISHED-TTL:PT1H
BEGIN:VTIMEZONE
TZID:Europe/Paris
BEGIN:DAYLIGHT
TZOFFSETFROM:+0100
TZOFFSETTO:+0200
TZNAME:CEST
DTSTART:20250330T010000
END:DAYLIGHT
BEGIN:STANDARD
TZOFFSETFROM:+0200
TZOFFSETTO:+0100
TZNAME:CET
DTSTART:20251026T010000
END:STANDARD
END:VTIMEZONE
BEGIN:VEVENT
DTSTART;VALUE=DATE:20250720
DTEND;VALUE=DATE:20250722
DTSTAMP:20260420T020655
CREATED:20250408T150940Z
LAST-MODIFIED:20250712T130301Z
UID:88000-1752976800-1753063199@www.tourisme-aumale-blangy.fr
SUMMARY:Brocante du Tropico
DESCRIPTION:Brocante annuelle de l’étang du Marais de 7h00 à 18h00 \nCette année tous les producteurs locaux de la région seront mis à l’honneur et sont donc invités à venir exposer \nEmplacement gratuit pour tous sur réservation OBLIGATOIRE – Environ 100 exposants ! \nEntrée visiteur gratuite – Ouvert à tous ! \nSur place  : Pêche / Pédalo / Terrasse / Bar / Balade autour de l’étang / Barbecue … \nPrésence de jeux et structures gonflables avec Leya’Castel \nBarbecue et buvette sur place \nBien plus qu’une brocante\, c’est une journée familiale !\nInfos :\nAdresse : 1 chemin de l’étang – 60220 Quincampoix-Fleuzy \nTel : 06 77 92 05 48 \n\n 
URL:https://www.tourisme-aumale-blangy.fr/agenda/brocante-du-tropico/
CATEGORIES:Animations,Brocante,Brocante - Foire à tout,Mise en avant sur l'accueil
ATTACH;FMTTYPE=image/jpeg:https://www.tourisme-aumale-blangy.fr/wp-content/uploads/2020/03/475295399_1145180607148377_23095637862151157_n.jpg
END:VEVENT
END:VCALENDAR