BEGIN:VCALENDAR
VERSION:2.0
PRODID:-//Office de tourisme Aumale blangy sur bresle - ECPv6.0.9//NONSGML v1.0//EN
CALSCALE:GREGORIAN
METHOD:PUBLISH
X-WR-CALNAME:Office de tourisme Aumale blangy sur bresle
X-ORIGINAL-URL:https://www.tourisme-aumale-blangy.fr
X-WR-CALDESC:évènements pour Office de tourisme Aumale blangy sur bresle
REFRESH-INTERVAL;VALUE=DURATION:PT1H
X-Robots-Tag:noindex
X-PUBLISHED-TTL:PT1H
BEGIN:VTIMEZONE
TZID:Europe/Paris
BEGIN:DAYLIGHT
TZOFFSETFROM:+0100
TZOFFSETTO:+0200
TZNAME:CEST
DTSTART:20240331T010000
END:DAYLIGHT
BEGIN:STANDARD
TZOFFSETFROM:+0200
TZOFFSETTO:+0100
TZNAME:CET
DTSTART:20241027T010000
END:STANDARD
END:VTIMEZONE
BEGIN:VEVENT
DTSTART;TZID=Europe/Paris:20240618T180000
DTEND;TZID=Europe/Paris:20240618T200000
DTSTAMP:20260421T033919
CREATED:20240514T104905Z
LAST-MODIFIED:20240618T214907Z
UID:347326-1718733600-1718740800@www.tourisme-aumale-blangy.fr
SUMMARY:Projection film documentaire "Elles n'ont rien oublié"
DESCRIPTION:Venez découvrir un film documentaire exceptionnel de 2022 :  « Elles n’ont rien oublié »\nFilm que vous pourrez découvrir uniquement sur 3 séances :\nLe Jeudi 6 Juin\, le Samedi 8 Juin et le Mardi 18 Juin à 18h \nCe film retrace le parcours de quatre Françaises durant la Seconde Guerre mondiale. Aujourd’hui âgées de 90 ans et plus\, elles racontent avec force détails et une incroyable dignité comment elles ont survécu de 1939 jusqu’à la libération\, et livrent des témoignages intimes où leurs propres histoires se mêlent à la grande. Quatre destins de femmes qui ont traversé la guerre avec courage et abnégation.\nNe manquez pas cette projection !\nInfos : 02 35 17 42 62 \nProchaine(s) date(s) :  \n\n\n                                    \n                                   \nReservation : Sans
URL:https://www.tourisme-aumale-blangy.fr/agenda/projection-film-documentaire-elles-nont-rien-oublie-fmanor076v51wjnu/
LOCATION:26 Boulevard des Fontaines – AUMALE\, 26 Boulevard des Fontaines\, AUMALE\, 76390\, France
CATEGORIES:Autre,Cinéma,Commémoration,Mise en avant sur l'accueil
ATTACH;FMTTYPE=image/jpg:https://www.tourisme-aumale-blangy.fr/wp-content/uploads/tourinsoft/Elles n'ont rien oublié2.jpg
END:VEVENT
END:VCALENDAR