BEGIN:VCALENDAR
VERSION:2.0
PRODID:-//Office de tourisme Aumale blangy sur bresle - ECPv6.0.9//NONSGML v1.0//EN
CALSCALE:GREGORIAN
METHOD:PUBLISH
X-WR-CALNAME:Office de tourisme Aumale blangy sur bresle
X-ORIGINAL-URL:https://www.tourisme-aumale-blangy.fr
X-WR-CALDESC:évènements pour Office de tourisme Aumale blangy sur bresle
REFRESH-INTERVAL;VALUE=DURATION:PT1H
X-Robots-Tag:noindex
X-PUBLISHED-TTL:PT1H
BEGIN:VTIMEZONE
TZID:Europe/Paris
BEGIN:DAYLIGHT
TZOFFSETFROM:+0100
TZOFFSETTO:+0200
TZNAME:CEST
DTSTART:20210328T010000
END:DAYLIGHT
BEGIN:STANDARD
TZOFFSETFROM:+0200
TZOFFSETTO:+0100
TZNAME:CET
DTSTART:20211031T010000
END:STANDARD
END:VTIMEZONE
BEGIN:VEVENT
DTSTART;TZID=Europe/Paris:20211015T170000
DTEND;TZID=Europe/Paris:20211015T210000
DTSTAMP:20260425T014044
CREATED:20210929T224704Z
LAST-MODIFIED:20211008T224705Z
UID:92537-1634317200-1634331600@www.tourisme-aumale-blangy.fr
SUMMARY:Concert - Spectacle "La ménagerie Foraine"
DESCRIPTION:Le Glaassssss accueille entre 17h et  21h (en continue)\, un concert du groupe Antropia. \nDans le cadre du Projet Artistique et Culturel de Territoire mis en place en partenariat avec l’Atelier 231 de Sotteville-lès-Rouen\, la communauté de Communes Aumale-Blangy sur Bresle et la ville de Blangy sur Bresle\, Le Glaassssss et Bouillon de Printemps accueillent au Domaine de Bouillancourt le collectif Les Plastiqueurs en résidence de création de leur installation-spectacle ludique et interactive : La Ménagerie Foraine.  \nIls seront présents entre le 4 et le 16 octobre 2021. Venez nombreux ! \nReprésentation en continue de 17h à 21h pour tous\, dès 3 ans – GRATUITE – PUBLIC\nInfos : Samuel Gardès – Le Glaassssss (Groupement Libre d’Artistes et d’Amateurs Soudés Sensibles Sauvages Sensuels et Surtout Sympas)\n06 80 73 76 78 (Samuel) – leglaassssss@gmail.com
URL:https://www.tourisme-aumale-blangy.fr/agenda/concert-spectacle-la-menagerie-foraine-FMAPIC080V510XS7/
LOCATION:– BOUILLANCOURT-EN-SERY\, BOUILLANCOURT-EN-SERY\, 80220\, France
CATEGORIES:ConcertJeune publicLoisirs et détenteSpectacle
ATTACH;FMTTYPE=image/jpg:https://www.tourisme-aumale-blangy.fr/wp-content/uploads/tourinsoft/Bouillancourt©Le-glaassssss.jpg
END:VEVENT
END:VCALENDAR