BEGIN:VCALENDAR
VERSION:2.0
PRODID:-//Office de tourisme Aumale blangy sur bresle - ECPv6.0.9//NONSGML v1.0//EN
CALSCALE:GREGORIAN
METHOD:PUBLISH
X-WR-CALNAME:Office de tourisme Aumale blangy sur bresle
X-ORIGINAL-URL:https://www.tourisme-aumale-blangy.fr
X-WR-CALDESC:évènements pour Office de tourisme Aumale blangy sur bresle
REFRESH-INTERVAL;VALUE=DURATION:PT1H
X-Robots-Tag:noindex
X-PUBLISHED-TTL:PT1H
BEGIN:VTIMEZONE
TZID:Europe/Paris
BEGIN:DAYLIGHT
TZOFFSETFROM:+0100
TZOFFSETTO:+0200
TZNAME:CEST
DTSTART:20260329T010000
END:DAYLIGHT
BEGIN:STANDARD
TZOFFSETFROM:+0200
TZOFFSETTO:+0100
TZNAME:CET
DTSTART:20261025T010000
END:STANDARD
END:VTIMEZONE
BEGIN:VEVENT
DTSTART;TZID=Europe/Paris:20260523T193000
DTEND;TZID=Europe/Paris:20260523T233000
DTSTAMP:20260421T214325
CREATED:20240109T112110Z
LAST-MODIFIED:20260421T130953Z
UID:270294-1779564600-1779579000@www.tourisme-aumale-blangy.fr
SUMMARY:Cabaret et show Brésilien à Quincampoix-Fleuzy
DESCRIPTION:Déjeuner spectacle cabaret à Quincampoix-Fleuzy \n19h30 – Domaine LE TROPICO \n\n SPECTACLE\n\n\n\n\n\n La revue Infinity secrets vous présente son spectacle  » Amazonas  » qui vous offre un voyage tropical immersif\, haut en couleurs \, au cœur Du Brésil. \n\n\n\n\n\nDanseuses et chanteuse live vous invitent à faire partie du rêve ce soir au Tropico\, où chaque tableau vous emmène faire la fête dans un nouvelle ville !\n\n\nToute l’équipe vous attend pour le carnaval de Rio \, la samba et la caipirinha!\n\n\n\n\n\n Tati Galaxy : Un spectacle sensationnel qui réunit non pas un\, non pas deux\, non pas trois\, mais bel et bien quatre univers artistiques pour vous faire rêver !\n\n\nPréparez-vous à être émerveillés par un spectacle cabaret transformiste d’une intensité explosive ! Plongez dans un univers haut en couleur où des artistes incroyables repoussent les limites de la performance pour vous faire vibrer intensément. Un show transformiste qui vous réserve des moments hilarants\, des imitations stupéfiantes et des instants de sensualité à couper le souffle.\n\nMenu :  \n\n  \n\n\nApéritif et amuses bouche \n*** \nEntrée \n*** \nSorbet \n*** \nPlat \n*** \nSalade / fromage \n*** \nDessert et sa coupe de bulles \n*** \nCafé \n  \n\n\nTarif : 79€/personne – Pour 6 personnes 1 bouteille de blanc – 1 bouteille de rouge – eau à volonté \nInfos & Réservations : 06 77 92 05 48 – Facebook : Le Tropico \nChèque à l’ordre : SARL Le TROPICO
URL:https://www.tourisme-aumale-blangy.fr/agenda/cabaret-special-saint-valentin-a-quincampoix-fleuzy/
LOCATION:Domaine Le Tropico\, 1 chemin de l'étant\, QUINCAMPOIX-FLEUZY\, 60220\, France
CATEGORIES:Adulte,Animations,Autre,Concerts,Danse,Danse - BalFestivalSpectacle,Loisirs et détente,Loisirs et détenteRandonnéeSortie Nature,Loisirs et détenteRencontre sportive,Mise en avant sur l'accueil,Spectacle,Voyages / Sorties
ATTACH;FMTTYPE=image/jpeg:https://www.tourisme-aumale-blangy.fr/wp-content/uploads/2024/01/cabaret©Canva-Pro-2024.jpg
END:VEVENT
END:VCALENDAR