BEGIN:VCALENDAR
VERSION:2.0
PRODID:-//Office de tourisme Aumale blangy sur bresle - ECPv6.0.9//NONSGML v1.0//EN
CALSCALE:GREGORIAN
METHOD:PUBLISH
X-ORIGINAL-URL:https://www.tourisme-aumale-blangy.fr
X-WR-CALDESC:évènements pour Office de tourisme Aumale blangy sur bresle
REFRESH-INTERVAL;VALUE=DURATION:PT1H
X-Robots-Tag:noindex
X-PUBLISHED-TTL:PT1H
BEGIN:VTIMEZONE
TZID:Europe/Paris
BEGIN:DAYLIGHT
TZOFFSETFROM:+0100
TZOFFSETTO:+0200
TZNAME:CEST
DTSTART:20250330T010000
END:DAYLIGHT
BEGIN:STANDARD
TZOFFSETFROM:+0200
TZOFFSETTO:+0100
TZNAME:CET
DTSTART:20251026T010000
END:STANDARD
BEGIN:DAYLIGHT
TZOFFSETFROM:+0100
TZOFFSETTO:+0200
TZNAME:CEST
DTSTART:20260329T010000
END:DAYLIGHT
BEGIN:STANDARD
TZOFFSETFROM:+0200
TZOFFSETTO:+0100
TZNAME:CET
DTSTART:20261025T010000
END:STANDARD
END:VTIMEZONE
BEGIN:VEVENT
DTSTART;VALUE=DATE:20251206
DTEND;VALUE=DATE:20260102
DTSTAMP:20260419T221755
CREATED:20170805T050822Z
LAST-MODIFIED:20251127T134245Z
UID:10939-1764982800-1767229199@www.tourisme-aumale-blangy.fr
SUMMARY:Festival commercial de Noël à Aumale
DESCRIPTION:Organisée par l’Union commerciale d’Aumale \nA l’occasion du Festival de Noël qui se déroulera du samedi 6 novembre au mercredi 31 décembre\, de nombreux lots et plus de 2 000€ seront mis en jeu par l’Union des Commerçants et Artisans d’Aumale. \nCette dotation sera répartie en cadeaux : \n– 1 paire de lunettes de soleil \n– 1 repas pour 4 personnes à la Villa des Houx  \n– 1 air fryer  \n– 1 bon coiffure  \n– 1 scie sauteuse  \n– 1 bon d’achat chez Mil’Océan  \n– 1 coffret papeterie \n– 1 abonnement d’un mois chez Liberty Fitness \n– 1 panier décoration Filiflor  \net 2 200€ en bons d’achats : \n– 4 bons de 300€ \n– 4 bons de 150€  \n– 4 bons de 100€  \nPour tenter de remporter l’un de ces lots\, il vous suffit de rendre visite aux commerçants et artisans participants\, lesquels remettront à leurs clients un ticket par tranche de 3 € d’achat. \nCe festival de Noël commencera par le marché de Noël le samedi 29 et dimanche 30 novembre sous la Halle au Beurre de 9h00 à 19h00. \nVenez estimer la vitrine de Noël pour tenter de remporter son contenu ! \nInfos : 02 35 17 65 80 \n 
URL:https://www.tourisme-aumale-blangy.fr/agenda/quinzaine-commerciale-automne-daumale/
LOCATION:Centre ville d’Aumale\, Place du Marché\, AUMALE\, 76390
CATEGORIES:Animations,Expositions,Festivals / Salons,Foire / vente
ATTACH;FMTTYPE=image/jpeg:https://www.tourisme-aumale-blangy.fr/wp-content/uploads/2017/08/cadeaux-de-Noel-©buzukis-Pixabay.jpg
END:VEVENT
END:VCALENDAR