BEGIN:VCALENDAR
VERSION:2.0
PRODID:-//Office de tourisme Aumale blangy sur bresle - ECPv6.0.9//NONSGML v1.0//EN
CALSCALE:GREGORIAN
METHOD:PUBLISH
X-WR-CALNAME:Office de tourisme Aumale blangy sur bresle
X-ORIGINAL-URL:https://www.tourisme-aumale-blangy.fr
X-WR-CALDESC:évènements pour Office de tourisme Aumale blangy sur bresle
REFRESH-INTERVAL;VALUE=DURATION:PT1H
X-Robots-Tag:noindex
X-PUBLISHED-TTL:PT1H
BEGIN:VTIMEZONE
TZID:Europe/Paris
BEGIN:DAYLIGHT
TZOFFSETFROM:+0100
TZOFFSETTO:+0200
TZNAME:CEST
DTSTART:20220327T010000
END:DAYLIGHT
BEGIN:STANDARD
TZOFFSETFROM:+0200
TZOFFSETTO:+0100
TZNAME:CET
DTSTART:20221030T010000
END:STANDARD
END:VTIMEZONE
BEGIN:VEVENT
DTSTART;TZID=Europe/Paris:20221214T183000
DTEND;TZID=Europe/Paris:20221214T230000
DTSTAMP:20260423T214951
CREATED:20211202T124705Z
LAST-MODIFIED:20221205T133055Z
UID:100437-1671042600-1671058800@www.tourisme-aumale-blangy.fr
SUMMARY:Moment musical de Noël  à Foucarmont
DESCRIPTION:18h30 : Salle Lucien Boudin\nAu programme : Audition des élèves et musiques de Noël de l’ensemble « Cordissimo »\nEntrée gratuite\nInfos : 06 24 18 01 70
URL:https://www.tourisme-aumale-blangy.fr/agenda/moment-musical-de-noel-a-foucarmont-FMANOR076V51JK8O/
CATEGORIES:Autre,Fêtes de fin d'année
END:VEVENT
END:VCALENDAR