BEGIN:VCALENDAR
VERSION:2.0
PRODID:-//Office de tourisme Aumale blangy sur bresle - ECPv6.0.9//NONSGML v1.0//EN
CALSCALE:GREGORIAN
METHOD:PUBLISH
X-WR-CALNAME:Office de tourisme Aumale blangy sur bresle
X-ORIGINAL-URL:https://www.tourisme-aumale-blangy.fr
X-WR-CALDESC:évènements pour Office de tourisme Aumale blangy sur bresle
REFRESH-INTERVAL;VALUE=DURATION:PT1H
X-Robots-Tag:noindex
X-PUBLISHED-TTL:PT1H
BEGIN:VTIMEZONE
TZID:Europe/Paris
BEGIN:DAYLIGHT
TZOFFSETFROM:+0100
TZOFFSETTO:+0200
TZNAME:CEST
DTSTART:20230326T010000
END:DAYLIGHT
BEGIN:STANDARD
TZOFFSETFROM:+0200
TZOFFSETTO:+0100
TZNAME:CET
DTSTART:20231029T010000
END:STANDARD
END:VTIMEZONE
BEGIN:VEVENT
DTSTART;TZID=Europe/Paris:20231208T170000
DTEND;TZID=Europe/Paris:20231208T235900
DTSTAMP:20260422T222347
CREATED:20231116T164907Z
LAST-MODIFIED:20231123T234910Z
UID:254681-1702054800-1702079940@www.tourisme-aumale-blangy.fr
SUMMARY:Marché de Noël à Bouafles
DESCRIPTION:Le RPI de Vieux-Rouen-sur-Bresle et Hodeng-au-Bosc organise un marché de Noël à la salle des fêtes Bouafles.\nRendez-vous le vendredi 8 décembre à partir de 17h.\nVente des créations réalisées par les enfants\, parents et enseignants.\nOuvert à tous\nInfos : 02 35 93 45 19 (mairie) \n\nReservation : Sans
URL:https://www.tourisme-aumale-blangy.fr/agenda/marche-de-noel-a-bouafles-fmanor076v51uqsa/
LOCATION:D216 – VIEUX-ROUEN-SUR-BRESLE\, D216\, VIEUX-ROUEN-SUR-BRESLE\, 76390\, France
CATEGORIES:Autre,Exposition,Fêtes de fin d'année,Illuminations,Marché,Portes ouvertes
ATTACH;FMTTYPE=image/jpg:https://www.tourisme-aumale-blangy.fr/wp-content/uploads/tourinsoft/Noël .jpg
END:VEVENT
BEGIN:VEVENT
DTSTART;TZID=Europe/Paris:20231209T090000
DTEND;TZID=Europe/Paris:20231209T170000
DTSTAMP:20260422T222347
CREATED:20211116T174705Z
LAST-MODIFIED:20231123T234907Z
UID:98876-1702112400-1702141200@www.tourisme-aumale-blangy.fr
SUMMARY:Téléthon à Aumale
DESCRIPTION:Au programme de cette journée\nCollecte à vélo et randonnée :\n9h15 : La collecte de dons à vélo partira en direction des villages partenaires. Les cyclistes seront escortés par le 2 CV club de la vallée de la Bresle\n9h30 : Regroupement des randonneurs devant le Halle au Beurre / 9h45 : Départ pour un circuit de 8 km. Une participation de 2€ (minimum) par personne est demandée.\nLe port d’un gilet jaune est recommandé \nEn matinée\, les pompiers proposeront une opération de lavage de voitures.  \nA la Halle au Beurre :\nDiverses activités sont prévues : tennis de table\, jeu de fléchettes\, baby-foot\, pétanque indoor\, tombola avec un nichoir à gagner\, multiple jeux (estimation du poids d’un panier garni\, du nombre de boutons cousus sur une veste)\, Repas à emporter (sous réserve) \nLes associations et particuliers proposeront également de la vente de décorations traditionnelles de Noël\, de soupe (oignons et citrouille)\, crêpes\, gâteaux\, café et vin chaud.\nEn début d’après-midi\, une prestation des majorettes animera la manifestation.  \nInfos : 02 35 93 40 50 \n\n\n                                    \n                                   \n\n                                    \n                                   \nReservation : Sans
URL:https://www.tourisme-aumale-blangy.fr/agenda/telethon-a-aumale-fmanor076v51jgwx/
LOCATION:Rue du Bailliage – AUMALE\, Rue du Bailliage\, AUMALE\, 76390\, France
CATEGORIES:Autre,Fêtes de fin d'année,Mise en avant sur l'accueil,Portes ouvertes,Tradition et folklore
ATTACH;FMTTYPE=image/jpg:https://www.tourisme-aumale-blangy.fr/wp-content/uploads/tourinsoft/Rando Téléthon.jpg
END:VEVENT
END:VCALENDAR