BEGIN:VCALENDAR
VERSION:2.0
PRODID:-//Office de tourisme Aumale blangy sur bresle - ECPv6.0.9//NONSGML v1.0//EN
CALSCALE:GREGORIAN
METHOD:PUBLISH
X-ORIGINAL-URL:https://www.tourisme-aumale-blangy.fr
X-WR-CALDESC:évènements pour Office de tourisme Aumale blangy sur bresle
REFRESH-INTERVAL;VALUE=DURATION:PT1H
X-Robots-Tag:noindex
X-PUBLISHED-TTL:PT1H
BEGIN:VTIMEZONE
TZID:Europe/Paris
BEGIN:DAYLIGHT
TZOFFSETFROM:+0100
TZOFFSETTO:+0200
TZNAME:CEST
DTSTART:20230326T010000
END:DAYLIGHT
BEGIN:STANDARD
TZOFFSETFROM:+0200
TZOFFSETTO:+0100
TZNAME:CET
DTSTART:20231029T010000
END:STANDARD
END:VTIMEZONE
BEGIN:VEVENT
DTSTART;TZID=Europe/Paris:20231219T163000
DTEND;TZID=Europe/Paris:20231219T200000
DTSTAMP:20260422T222402
CREATED:20231214T124904Z
LAST-MODIFIED:20231214T234904Z
UID:260407-1703003400-1703016000@www.tourisme-aumale-blangy.fr
SUMMARY:Marché de Noël de l'école
DESCRIPTION:L’école de Pierrecourt organise un marché de Noël le mardi 13 décembre.\nRendez-vous à partir de 16h45 à la salle des fêtes.\nVente de vins chauds\, crêpes\, chocolats chauds et objets confectionnés en classe (centres de table\, couronnes de Noël\, objets en bois\, jacinthes) et de confitures.\nNous vous attendons nombreux !\nInfos : 02 35 94 18 58 \n\n\n                                    \n                                   \nReservation : Sans
URL:https://www.tourisme-aumale-blangy.fr/agenda/marche-de-noel-de-lecole-fmanor076v51pcth/
LOCATION:Salle des fêtes – PIERRECOURT\, Salle des fêtes\, PIERRECOURT\, 76340\, France
CATEGORIES:Autre,Fêtes de fin d'année,Marché,Mise en avant sur l'accueil
ATTACH;FMTTYPE=image/jpg:https://www.tourisme-aumale-blangy.fr/wp-content/uploads/tourinsoft/bonhomme de Noël .jpg
END:VEVENT
END:VCALENDAR