BEGIN:VCALENDAR
VERSION:2.0
PRODID:-//Office de tourisme Aumale blangy sur bresle - ECPv6.0.9//NONSGML v1.0//EN
CALSCALE:GREGORIAN
METHOD:PUBLISH
X-WR-CALNAME:Office de tourisme Aumale blangy sur bresle
X-ORIGINAL-URL:https://www.tourisme-aumale-blangy.fr
X-WR-CALDESC:évènements pour Office de tourisme Aumale blangy sur bresle
REFRESH-INTERVAL;VALUE=DURATION:PT1H
X-Robots-Tag:noindex
X-PUBLISHED-TTL:PT1H
BEGIN:VTIMEZONE
TZID:Europe/Paris
BEGIN:DAYLIGHT
TZOFFSETFROM:+0100
TZOFFSETTO:+0200
TZNAME:CEST
DTSTART:20260329T010000
END:DAYLIGHT
BEGIN:STANDARD
TZOFFSETFROM:+0200
TZOFFSETTO:+0100
TZNAME:CET
DTSTART:20261025T010000
END:STANDARD
END:VTIMEZONE
BEGIN:VEVENT
DTSTART;TZID=Europe/Paris:20261128T000100
DTEND;TZID=Europe/Paris:20261128T235900
DTSTAMP:20260420T020251
CREATED:20220516T224705Z
LAST-MODIFIED:20260224T234906Z
UID:130454-1795824060-1795910340@www.tourisme-aumale-blangy.fr
SUMMARY:Spectacle au Domaine du Plouy
DESCRIPTION:19h00 – Domaine du Plouy – Animé par l’Univers Magique du Spectacle\nTarif : 30€ / Repas + spectacle – 10€ / Repas enfant & Ado (-16 ans) – Sans boisson\nTombola et buvette sur place\nInfos : 06 78 52 38 78 – 06 58 41 71 05
URL:https://www.tourisme-aumale-blangy.fr/agenda/spectacle-au-domaine-du-plouy-fmapic080v513mcj/
LOCATION:rue du château – VISMES\, Rue du Château\, VISMES\, 80140\, France
CATEGORIES:Jeune publicLoisirs et détenteSpectacle
ATTACH;FMTTYPE=image/jpg:https://www.tourisme-aumale-blangy.fr/wp-content/uploads/tourinsoft/tournoi club tennis - Aumale.jpg
END:VEVENT
END:VCALENDAR