BEGIN:VCALENDAR
VERSION:2.0
PRODID:-//Office de tourisme Aumale blangy sur bresle - ECPv6.0.9//NONSGML v1.0//EN
CALSCALE:GREGORIAN
METHOD:PUBLISH
X-WR-CALNAME:Office de tourisme Aumale blangy sur bresle
X-ORIGINAL-URL:https://www.tourisme-aumale-blangy.fr
X-WR-CALDESC:évènements pour Office de tourisme Aumale blangy sur bresle
REFRESH-INTERVAL;VALUE=DURATION:PT1H
X-Robots-Tag:noindex
X-PUBLISHED-TTL:PT1H
BEGIN:VTIMEZONE
TZID:Europe/Paris
BEGIN:DAYLIGHT
TZOFFSETFROM:+0100
TZOFFSETTO:+0200
TZNAME:CEST
DTSTART:20220327T010000
END:DAYLIGHT
BEGIN:STANDARD
TZOFFSETFROM:+0200
TZOFFSETTO:+0100
TZNAME:CET
DTSTART:20221030T010000
END:STANDARD
END:VTIMEZONE
BEGIN:VEVENT
DTSTART;TZID=Europe/Paris:20220618T100000
DTEND;TZID=Europe/Paris:20220619T000000
DTSTAMP:20260420T133031
CREATED:20210612T224704Z
LAST-MODIFIED:20220603T224707Z
UID:79633-1655546400-1655596800@www.tourisme-aumale-blangy.fr
SUMMARY:Tournois de football de Vismes-au-Val
DESCRIPTION:Samedi et dimanche : Tournoi de football des jeunes au stade (rue du Moulin)\nSamedi soir : Feu de Saint Jean et repas champêtre au stade\nInfos : 03 22 28 57 78\nOrganisé par Association sportive de Vismes
URL:https://www.tourisme-aumale-blangy.fr/agenda/tournois-de-football-de-vismes-au-val-FMAPIC080V50YYJQ/
LOCATION:Rue du château – Le Plouy – VISMES\, Rue du château - Le Plouy\, VISMES\, 80140\, France
CATEGORIES:Jeune publicRencontre sportive
ATTACH;FMTTYPE=image/jpg:https://www.tourisme-aumale-blangy.fr/wp-content/uploads/tourinsoft/football .jpg
END:VEVENT
END:VCALENDAR