BEGIN:VCALENDAR
VERSION:2.0
PRODID:-//Office de tourisme Aumale blangy sur bresle - ECPv6.0.9//NONSGML v1.0//EN
CALSCALE:GREGORIAN
METHOD:PUBLISH
X-ORIGINAL-URL:https://www.tourisme-aumale-blangy.fr
X-WR-CALDESC:évènements pour Office de tourisme Aumale blangy sur bresle
REFRESH-INTERVAL;VALUE=DURATION:PT1H
X-Robots-Tag:noindex
X-PUBLISHED-TTL:PT1H
BEGIN:VTIMEZONE
TZID:Europe/Paris
BEGIN:DAYLIGHT
TZOFFSETFROM:+0100
TZOFFSETTO:+0200
TZNAME:CEST
DTSTART:20220327T010000
END:DAYLIGHT
BEGIN:STANDARD
TZOFFSETFROM:+0200
TZOFFSETTO:+0100
TZNAME:CET
DTSTART:20221030T010000
END:STANDARD
END:VTIMEZONE
BEGIN:VEVENT
DTSTART;TZID=Europe/Paris:20220413T000000
DTEND;TZID=Europe/Paris:20220505T000000
DTSTAMP:20260422T175106
CREATED:20220406T164705Z
LAST-MODIFIED:20220406T224906Z
UID:120436-1649808000-1651708800@www.tourisme-aumale-blangy.fr
SUMMARY:Exposition "Le verre dans tous ses éclats"
DESCRIPTION:Exposition – Le Verre dans tous ses états\nCette exposition fait partie d’une action GLAASSSSSS Menée par les résidents de l’EHPAD de Blangy et les plastiqueurs. Environ 20 Pièces de ces belles compositions seront présentées au public à la bibliothèque \nOUVERT A TOUS – GRATUIT – PUBLIC\nInfos : 02 35 93 50 05 (mairie)
URL:https://www.tourisme-aumale-blangy.fr/agenda/exposition-le-verre-dans-tous-ses-eclats-FMANOR076V51KJFD/
LOCATION:Place Georges Durand – BLANGY-SUR-BRESLE\, Place Georges Durand\, BLANGY-SUR-BRESLE\, 76340\, France
CATEGORIES:Autre,Danse,Mise en avant sur l'accueil,Spectacle,Théâtre,Tradition et folklore
ATTACH;FMTTYPE=image/jpg:https://www.tourisme-aumale-blangy.fr/wp-content/uploads/tourinsoft/Bandeau expo.jpg
END:VEVENT
BEGIN:VEVENT
DTSTART;TZID=Europe/Paris:20220514T100000
DTEND;TZID=Europe/Paris:20220514T180000
DTSTAMP:20260422T175106
CREATED:20220505T104704Z
LAST-MODIFIED:20220505T224705Z
UID:127815-1652522400-1652551200@www.tourisme-aumale-blangy.fr
SUMMARY:Blangy fête les 150 ans de la ligne de train
DESCRIPTION:Blangy fête les 150 ans de la ligne de train SNCF Abancourt / Le Tréport.\nDes animations  seront proposées en gare par le Carcahoux et l’harmonie municipale.  \nPetit bref historique :\n La ligne SNCF reliant Abancourt au Tréport aura 150 ans le 11 mai 1872.\nPour fêter cet anniversaire\, le Comité de sauvegarde et de développement des lignes ferroviaires Paris Le Tréport\nMers-les-Bains\, par Beauvais et Abbeville\, organise une grande fête dimanche 14 mai. \nParticipation de l’Harmonie municipale et de la troupe du Carcahoux. \nLe 14 mai à 9h35\, un train partira du Tréport direction la cité verrière\, où il déposera à 10h des personnes en tenue\nd’époque.\nDe 10h30 à 11h30 en gare de Blangy\, les musiciens et comédiens amateurs interviendront en alternance avec des\npetites histoires\, de chansons\, de la musique\, des petites saynètes…\nÀ 11 h 45\, un train en provenance de Paris s’arrêtera à Blangy et ramènera à 12h10 au Tréport les personnes costumées.\ndénoncer aussi des dysfonctionnements. \nOutre son caractère festif\, cette journée sera aussi l’occasion pour les usagers de faire entendre leur voix.\nLes usagers pourront en profiter pour inscrire leurs remarques dans un cahier de doléances (ex : annulation\, retard\, manque de communication…) \nPot offert (café et friandises) par la municipalité\,  \nAnimation gratuite et ouverte à tous !\nInfos : 02 35 93 50 05 (Mairie) – 06 07 86 88 43 (Corinne – Présidente Carcahoux) \n\n\n                                    \n                                   \n\n                                    \n                                   \n\n                                    \n                                   \n\n                             Programme 150ans
URL:https://www.tourisme-aumale-blangy.fr/agenda/blangy-fete-les-150-ans-de-la-ligne-de-train-FMANOR076V51L26Y/
LOCATION:Place de la gare – BLANGY-SUR-BRESLE\, Place de la gare\, BLANGY-SUR-BRESLE\, 76340\, France
CATEGORIES:Autre,Contes et jeux,Défilé Cortège Parade,Mise en avant sur l'accueil,Spectacle,Tradition et folklore,Visite
ATTACH;FMTTYPE=image/jpg:https://www.tourisme-aumale-blangy.fr/wp-content/uploads/tourinsoft/Blangy - Gare (2).jpg
END:VEVENT
BEGIN:VEVENT
DTSTART;TZID=Europe/Paris:20220514T133000
DTEND;TZID=Europe/Paris:20220514T193000
DTSTAMP:20260422T175106
CREATED:20210519T164705Z
LAST-MODIFIED:20220504T224704Z
UID:75398-1652535000-1652556600@www.tourisme-aumale-blangy.fr
SUMMARY:Spectacle et kermesse à Criquiers
DESCRIPTION:Début d’après-midi : spectacle de clowns pour les enfants avec kermesse et jeux  \n18h – Derrière la salle des fêtes.\nSpectacle de jonglage par la compagnie « POL & FREDDY » \nDans un stade de sport tourbillonnant\, deux frères jongleurs s’affrontent dans une série de compétitions diverses. L’ambiance est digne d’un évènement majeur.Un troisième protagoniste incarne à tour de rôle le commentateur\, l’arbitre\, l’entraineur\, le ramasseur de balles et le vendeur de hotdog. Tous les codes sportifs connus\, moins connus et inventés sont utilisés : héroïsme et fair-play\, blessures et sponsoring\, dopage et règles contournées. Des supporters enthousiastes\, un arbitre strict et un commentateur pas toujours objectif complètent le tableau. Une chose est sûre\, un frère quittera l’arène en vainqueur et un autre en perdant. A l’issu d’une remise des médailles\, vous découvrirez l’heureux gagnant.\nSPECTACLE GRATUIT – TOUT PUBLIC – Durée :  1h00 \nInfos : 06 80 73 76 78 (Samuel) – 06 74 46 66 76 (Elodie) – 02 35 93 67 88 (Mairie)\nMail : leglaassssss@gmail.com
URL:https://www.tourisme-aumale-blangy.fr/agenda/spectacle-et-kermesse-a-criquiers-FMANOR076V51FPYX/
LOCATION:71 Rue Principale – CRIQUIERS\, 71 Rue Principale\, CRIQUIERS\, 76390\, France
CATEGORIES:Autre,Compétition sportive,Mise en avant sur l'accueil,Spectacle,Théâtre,Tradition et folklore
ATTACH;FMTTYPE=image/jpg:https://www.tourisme-aumale-blangy.fr/wp-content/uploads/tourinsoft/decuyper VCdecuyper©POL-FREDDY.jpg
END:VEVENT
BEGIN:VEVENT
DTSTART;TZID=Europe/Paris:20220515T100000
DTEND;TZID=Europe/Paris:20220515T180000
DTSTAMP:20260422T175106
CREATED:20220416T144703Z
LAST-MODIFIED:20220426T224705Z
UID:123264-1652608800-1652637600@www.tourisme-aumale-blangy.fr
SUMMARY:Salon de l'artisanat et du savoir-faire sur Villers-sous-Foucarmont
DESCRIPTION:C’est la 3ème édition réalisée par les petites mains & Comité des fêtes … Venez chercher vos cadeaux pour la fête des mères et des pères !  100% « made in maison ».\nOuvert de  10H00 à 18h00 – Salle des fêtes (à côté des Ets Maison Brun) \nVenez découvrir : Création au crochet\, décoration\, carterie\, relooking meuble\, bijoux\, création laser\, couture entièrement réalisés par des autodidactes – Bref du 100% « made in maison ».  / etc…  \nEntrée libre et gratuite\nVente sur place sans interruption\nParking sur place \nInfos : 06 67 28 31 56 – 02 35 93 95 69
URL:https://www.tourisme-aumale-blangy.fr/agenda/salon-de-lartisanat-et-du-savoir-faire-sur-villers-sous-foucarmont-FMANOR076V50ZKOR/
LOCATION:Salle des Fêtes – VILLERS-SOUS-FOUCARMONT\, Salle des Fêtes\, VILLERS-SOUS-FOUCARMONT\, 76340\, France
CATEGORIES:Autre,Exposition,Foire ou salon,Marché,Mise en avant sur l'accueil,Tradition et folklore
ATTACH;FMTTYPE=image/jpg:https://www.tourisme-aumale-blangy.fr/wp-content/uploads/tourinsoft/couture.jpg
END:VEVENT
BEGIN:VEVENT
DTSTART;TZID=Europe/Paris:20220528T160000
DTEND;TZID=Europe/Paris:20220528T230000
DTSTAMP:20260422T175106
CREATED:20220413T124704Z
LAST-MODIFIED:20220415T224704Z
UID:122261-1653753600-1653778800@www.tourisme-aumale-blangy.fr
SUMMARY:Spectacle "Sandy et le vilain Mc Coy"
DESCRIPTION:16h00 – Rendez-vous à la salle des fêtes pour admirer un spectacle familiale donné par la compagnie « Acid Kostik » – Durée : 1h00 – Gratuit – Tout public à partir de 5 ans \nUn Western oublié\, révolutionnaire\, unique en son genre\, avec des méchants\, des colts et des chevaux.\nLes frères ampoules nous proposent une projection holographique révolutionnaire.\nUne chose est sûre\, les frères Ampoules ne sont pas des lumières… Tony\, Dylan et Jacky n’en sont pas moins des virtuoses du boniment\, des princes de l’arnaque. Leur nouvelle attraction ? La projection en 3D augmentée d’un chef d’œuvre incontournable du cinéma : Sandy et le vilain Mc Coy. Un western oublié\, révolutionnaire\, unique en son genre\, avec des méchants\, des colts et des chevaux.\nSandy et le Vilan Mc Coy est un spectacle participatif plein d’improvisations et de surprises où chaque représentation est unique !\nVenez nombreux !\nInfos : 06 74 46 66 76 (Elodie) – 06 80 73 76 78 (Samuel)\nMairie de Richemont : 02 35 93 73 17
URL:https://www.tourisme-aumale-blangy.fr/agenda/spectacle-sandy-et-le-vilain-mc-coy-FMANOR076V51KMPZ/
LOCATION:Salle des fêtes – RICHEMONT\, Salle des fêtes\, RICHEMONT\, 76390\, France
CATEGORIES:Autre,Danse,Mise en avant sur l'accueil,Spectacle,Théâtre,Tradition et folklore
ATTACH;FMTTYPE=image/jpg:https://www.tourisme-aumale-blangy.fr/wp-content/uploads/tourinsoft/sandy et le vilain Mc Coy .jpg
END:VEVENT
END:VCALENDAR