BEGIN:VCALENDAR
VERSION:2.0
PRODID:-//Office de tourisme Aumale blangy sur bresle - ECPv6.0.9//NONSGML v1.0//EN
CALSCALE:GREGORIAN
METHOD:PUBLISH
X-ORIGINAL-URL:https://www.tourisme-aumale-blangy.fr
X-WR-CALDESC:évènements pour Office de tourisme Aumale blangy sur bresle
REFRESH-INTERVAL;VALUE=DURATION:PT1H
X-Robots-Tag:noindex
X-PUBLISHED-TTL:PT1H
BEGIN:VTIMEZONE
TZID:Europe/Paris
BEGIN:DAYLIGHT
TZOFFSETFROM:+0100
TZOFFSETTO:+0200
TZNAME:CEST
DTSTART:20230326T010000
END:DAYLIGHT
BEGIN:STANDARD
TZOFFSETFROM:+0200
TZOFFSETTO:+0100
TZNAME:CET
DTSTART:20231029T010000
END:STANDARD
END:VTIMEZONE
BEGIN:VEVENT
DTSTART;TZID=Europe/Paris:20230311T193000
DTEND;TZID=Europe/Paris:20230311T193000
DTSTAMP:20260421T194109
CREATED:20230306T101441Z
LAST-MODIFIED:20230309T082951Z
UID:167103-1678563000-1678563000@www.tourisme-aumale-blangy.fr
SUMMARY:Fête de la bière
DESCRIPTION:Retrouvez la traditionnelle « Fête de la Bière » à travers une soirée Bavaroise sur Blangy-sur-Bresle.\nNous vous donnons rendez vous à 19h30 à salle des fêtes où vous retrouvez toutes les saveurs de l’Alsace le temps d’une soirée : Choucroute\, frites\, saucisses….et Bière bien sûr ! \nSoirée organisée par le Comité directeur et animée par l’Harmonie Municipale Blangy/Bouttencourt. \nTarifs : 20€/Adulte (Kir /Plat / Fromage / Salade / Dessert) et 10€/Enfant (-12ans) \nRéservation des tables chez Gitem\nInfos : 02 35 93 51 27 – GITEM \n\n\n\n\n\n\n\n\n\nReservation :\nConseillée pour individuelObligatoire pour individuelConseillée pour groupeObligatoire pour groupe
URL:https://www.tourisme-aumale-blangy.fr/agenda/fete-de-la-biere-fmanor076v50h2pt-2/
LOCATION:Salle des fêtes – BLANGY-SUR-BRESLE\, Salle des fêtes\, BLANGY-SUR-BRESLE\, 76340\, France
CATEGORIES:Festival,Mise en avant sur l'accueil,Tradition et folklore
ATTACH;FMTTYPE=image/jpg:https://www.tourisme-aumale-blangy.fr/wp-content/uploads/tourinsoft/Fête de la biere©Pixabay.jpg
ORGANIZER;CN="Comit%C3%A9%20directeur":MAILTO:sepbbcomitedirecteur@gmail.com
END:VEVENT
END:VCALENDAR