BEGIN:VCALENDAR
VERSION:2.0
PRODID:-//Office de tourisme Aumale blangy sur bresle - ECPv6.0.9//NONSGML v1.0//EN
CALSCALE:GREGORIAN
METHOD:PUBLISH
X-ORIGINAL-URL:https://www.tourisme-aumale-blangy.fr
X-WR-CALDESC:évènements pour Office de tourisme Aumale blangy sur bresle
REFRESH-INTERVAL;VALUE=DURATION:PT1H
X-Robots-Tag:noindex
X-PUBLISHED-TTL:PT1H
BEGIN:VTIMEZONE
TZID:Europe/Paris
BEGIN:DAYLIGHT
TZOFFSETFROM:+0100
TZOFFSETTO:+0200
TZNAME:CEST
DTSTART:20240331T010000
END:DAYLIGHT
BEGIN:STANDARD
TZOFFSETFROM:+0200
TZOFFSETTO:+0100
TZNAME:CET
DTSTART:20241027T010000
END:STANDARD
END:VTIMEZONE
BEGIN:VEVENT
DTSTART;TZID=Europe/Paris:20240713T000100
DTEND;TZID=Europe/Paris:20240714T235900
DTSTAMP:20260420T032007
CREATED:20200708T144702Z
LAST-MODIFIED:20240708T224906Z
UID:40444-1720828860-1721001540@www.tourisme-aumale-blangy.fr
SUMMARY:Fête & Feu d'artifice à Campneuseville
DESCRIPTION:La commune de Campneuseville et l’association « Campneuseville d’hier à aujourd’hui » proposent 2 jours de fêtes pour toutes les générations du village.\nUn véritable parc de jeux gonflables pour petits et grands sur la place\, 2 jours d’animations musicales et un final avec une retraite aux flambeaux jusqu’au grand feu d’artifice en musique sur le stade.\nLes commerçants et les associations sont invités à participer à ces festivités.  \n– Samedi13 juillet 2024 :\n14h : Ouverture des jeux gonflables à disposition gratuitement toute la journée et en nocturne jusqu’à 22h30\n19h45 : Présence des mascottes\n20h : Apéritif sur la place offert « par « Campneuseville d’hier à aujourd’hui »\nRepas – Spectacle de cabaret « Transformiste » avec Baptiste\, qui rendra hommage aux artistes d’hier à aujourd’hui\nRestauration sur place (saucisses – frites / américains frites …) – Buvette \n– Dimanche14 juillet 2024 :\n12h : Cérémonie officielle : Discours\, dépôt de gerbe aux monuments aux morts.\nRéouverture des jeux gonflables et apéritif offert par la municipalité\nRepas (jambalaya géante réalisée sur place) et après-midi dansante sous chapiteau avec l’orchestre Guillaume Pruvost\n17h : Chasse aux bonbons\nRestauration sur place (saucisses – frites / Américains frites…) – Buvette\n22h15 : Rendez-vous sur la place pour le début de la retraite aux flambeaux jusqu’au stade pour le feu d’artifice\n23h : Grand feu d’artifice en musique – Stade municipal / Spectacle de plus de 10 minutes en musique sur le thème des Jeux Olympiques  \nPlus d’informations : www.facebook.com/campneuseville / www.campneuseville.fr / j.deconynck@gmail.com / 06 47 16 75 39
URL:https://www.tourisme-aumale-blangy.fr/agenda/fete-feu-dartifice-a-campneuseville-fmanor076v50v1fj/
LOCATION:centre bourg – CAMPNEUSEVILLE\, centre bourg\, CAMPNEUSEVILLE\, 76340\, France
CATEGORIES:Apéritif,Autre,Cérémonie religieuse,Commémoration,Concert,Fête communale / patronale,Guinguette,Mise en avant sur l'accueil,Son et lumières, Feux d'artifice,Tradition et folklore
ATTACH;FMTTYPE=image/jpg:https://www.tourisme-aumale-blangy.fr/wp-content/uploads/tourinsoft/Feu d'artifice.jpg
ORGANIZER;CN="Municipalit%C3%A9%20de%20Campneuseville":MAILTO:j.deconynck@gmail.com
END:VEVENT
END:VCALENDAR