BEGIN:VCALENDAR
VERSION:2.0
PRODID:-//Office de tourisme Aumale blangy sur bresle - ECPv6.0.9//NONSGML v1.0//EN
CALSCALE:GREGORIAN
METHOD:PUBLISH
X-WR-CALNAME:Office de tourisme Aumale blangy sur bresle
X-ORIGINAL-URL:https://www.tourisme-aumale-blangy.fr
X-WR-CALDESC:évènements pour Office de tourisme Aumale blangy sur bresle
REFRESH-INTERVAL;VALUE=DURATION:PT1H
X-Robots-Tag:noindex
X-PUBLISHED-TTL:PT1H
BEGIN:VTIMEZONE
TZID:Europe/Paris
BEGIN:DAYLIGHT
TZOFFSETFROM:+0100
TZOFFSETTO:+0200
TZNAME:CEST
DTSTART:20230326T010000
END:DAYLIGHT
BEGIN:STANDARD
TZOFFSETFROM:+0200
TZOFFSETTO:+0100
TZNAME:CET
DTSTART:20231029T010000
END:STANDARD
END:VTIMEZONE
BEGIN:VEVENT
DTSTART;VALUE=DATE:20230401
DTEND;VALUE=DATE:20231001
DTSTAMP:20260421T181742
CREATED:20220224T114704Z
LAST-MODIFIED:20230307T151153Z
UID:110904-1680307200-1696118399@www.tourisme-aumale-blangy.fr
SUMMARY:Visitez le musée du verre de Blangy-sur-Bresle
DESCRIPTION:La réouverture du nouveau musée du verre a sonné et ce jusqu’au 30 septembre 2023 inclus ! \nDès l’accueil (via le parking) vous retrouverez quelques pièces de la boutique\, des livres sur le verre\, de la papeterie\, et des dépliants touristiques sur les autres sites à visiter dans le secteur.\nUne salle vidéo vous projettera l’histoire de la ville (au travers ses instruments de musique\, des cartes postales\, des pièces archéologiques…) . \nVisite guidée ou visite libre au choix pour tous ! \nDe l’accueil\, on accède à la cour où l’on découvre plusieurs outils mis en valeur\, des charrettes\, ainsi que la reconstitution d’une cité ouvrière avec ses cinq maisons. Le nouveau cheminement chronologique vous permettra d’accéder à l’espace verre\, puis à l’atelier du souffleur. \nN’hésitez pas à vous arrêter sur les splendides scènes de vie photographiées par l’artiste Cédric Tanguy ! Elles vous transporteront directement dans le monde fascinant des verriers ! \nMusée du verre ouvert aux horaires suivants :\nBasse saison\ndu 1er avril au 30 juin puis du 1er au 30 septembre\, ouverture :\n– du mercredi au dimanche de 14h à 18h.\nVisites guidées à 14h30 et 16h00\nDémonstrations du souffleur de verre à 14h30\, 15h30 et 17h. \nHaute saison\ndu 1er juillet au 31 août\, ouverture :\n– du mercredi au vendredi de 10h à 12h et de 14h à 18h\,\n– du samedi au dimanche de 14h à 18h.\nVisites guidées à 10h15\, 14h15\, 15h30 et 16h45\nDémonstrations du souffleur de verre à 11h15\, 14h30\, 15h30 et 16h45 \nToute l’année : Fermé les lundis et mardis \nTarifs Individuels : \n– Adulte : 6.00 € \n– Étudiants\, personnes à mobilité réduite : 3 € \n– Gratuité pour les moins de 18 ans. \n– Abonnement à l’année : 20 € (carte en vente au musée) \nPour le public individuel\, les visites guidées et les démonstrations sont comprises dans le ticket d’entrée.\n– Visites en basse saison à 14h30 & 16h suivies d’une démonstration de souffleur de verre.\n– Visites en haute saison 10h15\, 14h15\, 15h30 suivies d’une démonstration de souffleur de verre. \nInfos : 02 35 93 50 05 / 02 35 94 44 79
URL:https://www.tourisme-aumale-blangy.fr/agenda/visitez-le-musee-du-verre-de-blangy-sur-bresle/
LOCATION:Rue du Manoir – BLANGY-SUR-BRESLE\, Rue du Manoir\, BLANGY-SUR-BRESLE\, 76340\, France
CATEGORIES:Autre,Mise en avant sur l'accueil,Tourisme d'entreprise, visite technique,Tradition et folklore,Visite
ATTACH;FMTTYPE=image/jpeg:https://www.tourisme-aumale-blangy.fr/wp-content/uploads/2022/02/©musee-du-verre-2023.jpg
END:VEVENT
BEGIN:VEVENT
DTSTART;VALUE=DATE:20230424
DTEND;VALUE=DATE:20231001
DTSTAMP:20260421T181742
CREATED:20210308T160941Z
LAST-MODIFIED:20230502T073235Z
UID:67435-1682294400-1696118399@www.tourisme-aumale-blangy.fr
SUMMARY:Découvrez le jardin de Digeon
DESCRIPTION:Nouvelle saison au jardin floral du château de Digeon !!! \n  \nJardin ouvert de fin avril à fin septembre\nLes mercredis\, jeudis\, vendredis\, samedis et dimanches de 10h00 à 19h00 \nFermé le lundi et le mardi \nTARIFS\nEntrée : 8.00€ et gratuit pour les moins de 12 ans. \nAccueil de groupes : visites guidées\, formules visite + repas froid\, possibilité de pique-niquer. \nADRESSE DU JARDIN DE DIGEON\n7 Route du Coq Gaulois – Hameau de Digeon\n80290 MORVILLERS-SAINT-SATURNIN \n  \n\n 
URL:https://www.tourisme-aumale-blangy.fr/agenda/decouvrez-le-jardin-de-digeon/
LOCATION:Domaine de Digeon\, 7\, route du Coq Gaulois Hameau de Digeon\, Morvillers-Saint-Saturnin\, 80290\, France
CATEGORIES:Adulte,Animations,Autre,Brocantes - BraderiesCirque - Fête foraineConcertDanse - BalExposition - Foire - Portes ouvertesLoisirs et détente,Tradition et folklore
ATTACH;FMTTYPE=image/jpeg:https://www.tourisme-aumale-blangy.fr/wp-content/uploads/Jardin-floral-du-Château-de-Digeon-10-1.jpg
END:VEVENT
BEGIN:VEVENT
DTSTART;TZID=Europe/Paris:20230521T153000
DTEND;TZID=Europe/Paris:20230521T163000
DTSTAMP:20260421T181742
CREATED:20230405T081507Z
LAST-MODIFIED:20230405T224908Z
UID:189847-1684683000-1684686600@www.tourisme-aumale-blangy.fr
SUMMARY:Spectacle de théâtre de rue Les Barjes à Aubermesnil-aux-Erables
DESCRIPTION:Dès 15h30 dans la Rue de l’église\nDurée : 1h\nGratuit et ouvert à tout public dès 5 ans  \nScénario :\nJoe est grand\, blond et musclé. Joe\, lui\, est un peu moins musclé…\nDeux « génies » militaires dont la discipline\, la force de persuasion et le sang froid sont sans égal.\nLeur mission : assurer votre sécurité\, créer une zone de confort\, de détente\, voire finalement de bien-être.\nPas de répit ni de repos dans ce spectacle plein de complicité où la virilité est mise à mal\, l’ordre se cache derrière l’humour et l’humour derrière le désordre… \nInfos : 06 80 73 76 78 (Samuel) / 02 35 94 85 50 (Mairie) \n\n\n                                    \n                                   \n\n                                    \n                                   \n\n                                    \n                                   \nReservation : Sans
URL:https://www.tourisme-aumale-blangy.fr/agenda/spectacle-de-theatre-de-rue-les-barjes-a-aubermesnil-aux-erables-fmanor076v51q96f/
LOCATION:Rue de l’Église – AUBERMESNIL-AUX-ERABLES\, Rue de l'Église\, AUBERMESNIL-AUX-ERABLES\, 76340\, France
CATEGORIES:Autre,Mise en avant sur l'accueil,Spectacle,Théâtre,Tradition et folklore
ATTACH;FMTTYPE=image/jpg:https://www.tourisme-aumale-blangy.fr/wp-content/uploads/tourinsoft/Les barjes .jpg
ORGANIZER;CN="Le%20Glaassssss":MAILTO:leglaassssss@gmail.com
END:VEVENT
END:VCALENDAR