BEGIN:VCALENDAR
VERSION:2.0
PRODID:-//Office de tourisme Aumale blangy sur bresle - ECPv6.0.9//NONSGML v1.0//EN
CALSCALE:GREGORIAN
METHOD:PUBLISH
X-WR-CALNAME:Office de tourisme Aumale blangy sur bresle
X-ORIGINAL-URL:https://www.tourisme-aumale-blangy.fr
X-WR-CALDESC:évènements pour Office de tourisme Aumale blangy sur bresle
REFRESH-INTERVAL;VALUE=DURATION:PT1H
X-Robots-Tag:noindex
X-PUBLISHED-TTL:PT1H
BEGIN:VTIMEZONE
TZID:Europe/Paris
BEGIN:DAYLIGHT
TZOFFSETFROM:+0100
TZOFFSETTO:+0200
TZNAME:CEST
DTSTART:20230326T010000
END:DAYLIGHT
BEGIN:STANDARD
TZOFFSETFROM:+0200
TZOFFSETTO:+0100
TZNAME:CET
DTSTART:20231029T010000
END:STANDARD
END:VTIMEZONE
BEGIN:VEVENT
DTSTART;TZID=Europe/Paris:20231222T210000
DTEND;TZID=Europe/Paris:20231222T230000
DTSTAMP:20260420T191908
CREATED:20201215T124704Z
LAST-MODIFIED:20230322T122811Z
UID:62065-1703278800-1703286000@www.tourisme-aumale-blangy.fr
SUMMARY:Concert de Noël à Campneuseville
DESCRIPTION:Téléthon de Campneuseville et ses alliés\n– 21h00 – Ancien café de Campneuseville. Concert de clôture des Vokaliz\n– 22h15 : arrivé du père noel\n– 22h30 annonce du compteur TELETHON \nLes Vokaliz vous invitent pour un concert de fin d’année sous forme de « veillée de noël » dans leur siège social\, l’ancien café du village de Campneuseville.\nVin et chocolat chaud\, gourmandises au rendez-vous\, chansons connues d’hier à aujourd’hui\, sous forme de « best-of » après une année bien remplie de concerts et prestations.\nL’entrée est libre mais un « chapeau » circulera pour le Téléthon. La soirée se finira par l’annonce du compteur du 23ème Téléthon de Campneuseville\, car\, c’est aussi là\, dans ce café\, que tout a commencé en 2000.  \nInfos auprès de Jérémy Deconynck : j.deconynck@gmail.com – www.cdhaa.fr – https://www.facebook.com/cdhaa/ \n\n\n                                    \n                                   \nReservation : Sans
URL:https://www.tourisme-aumale-blangy.fr/agenda/concert-de-noel-a-campneuseville-fmanor076v514kq5/
LOCATION:Rue Neuve – CAMPNEUSEVILLE\, Rue Neuve\, CAMPNEUSEVILLE\, 76340\, France
CATEGORIES:Autre,Concert,Fêtes de fin d'année,Mise en avant sur l'accueil,Spectacle,Tradition et folklore
ATTACH;FMTTYPE=image/jpg:https://www.tourisme-aumale-blangy.fr/wp-content/uploads/tourinsoft/notes musique Noël .jpg
ORGANIZER;CN="Campneuseville%20d%27hier%20%C3%A0%20aujourd%27hui%20et%20la%20municipalit%C3%A9":MAILTO:j.deconynck@gmail.com
END:VEVENT
END:VCALENDAR