BEGIN:VCALENDAR
VERSION:2.0
PRODID:-//Office de tourisme Aumale blangy sur bresle - ECPv6.0.9//NONSGML v1.0//EN
CALSCALE:GREGORIAN
METHOD:PUBLISH
X-ORIGINAL-URL:https://www.tourisme-aumale-blangy.fr
X-WR-CALDESC:évènements pour Office de tourisme Aumale blangy sur bresle
REFRESH-INTERVAL;VALUE=DURATION:PT1H
X-Robots-Tag:noindex
X-PUBLISHED-TTL:PT1H
BEGIN:VTIMEZONE
TZID:Europe/Paris
BEGIN:DAYLIGHT
TZOFFSETFROM:+0100
TZOFFSETTO:+0200
TZNAME:CEST
DTSTART:20240331T010000
END:DAYLIGHT
BEGIN:STANDARD
TZOFFSETFROM:+0200
TZOFFSETTO:+0100
TZNAME:CET
DTSTART:20241027T010000
END:STANDARD
END:VTIMEZONE
BEGIN:VEVENT
DTSTART;TZID=Europe/Paris:20240914T000100
DTEND;TZID=Europe/Paris:20240916T235900
DTSTAMP:20260419T235531
CREATED:20200603T181038Z
LAST-MODIFIED:20240821T224906Z
UID:33513-1726272060-1726531140@www.tourisme-aumale-blangy.fr
SUMMARY:Fête Patronale de Foucarmont
DESCRIPTION:La fête patronale de Foucarmont se déroulera les 14\, 15 et 16 septembre prochains. Une fête qui\, cette année\, sera placée sous le thème « Musiques et danses » \n– Les festivités commenceront le samedi 14\, avec le retour cette année\, du Forum des Associations\, qui se tiendra de 10h à 17h en la salle Lucien Boudin\, Place des Cateliers. Documentation et démonstrations au programme de cette journée\, par les associations locales.\nEn fin d’après-midi\, toujours Salle Lucien Boudin\, le traditionnel apéritif sera offert par Municipalité à la population et aux forains\, de 18h à 20h.\nÁ partir de 21h\, soirée lumineuse emmenée par « Le Carcahoux » : déambulation dans le cœur du bourg à laquelle chacun pourra participer avec son vélo\, ses vêtements ou un simple accessoire\, décorés de leds\, pour former un super cortège improvisé\, au son des percussions.  \n– Le dimanche 15 à partir de 15h\, la grande parade défilera dans les rues principales du bourg avec différents groupes. Ballets et groupes musicaux d’importance constitueront le joyeux cortège\, 200 intervenants sont attendus\, parmi lesquels s’interposeront les chars fleuris.\nLes spectateurs venus les admirer et les applaudir en prendront « plein les yeux ».\nLes ballets folkloriques Portugais « Alegria » et Ukrainien « Malva » éblouiront par leurs évolutions et la beauté de leurs costumes. Le pétillant groupe Martiniquais « 9°7 »\, aux costumes détonants et à la musique percutante\, habitué des défilés de la capitale\, fera un fois de plus la démonstration de son grand dynamisme et de son sens de la fête.\nPrésence également du Brass band « Du Vieux Berquin »\, représentant la tradition des harmonies du nord de la France\, de la « Banda’Max » avec toute l’énergie musicale du sud-ouest. Le « BLV Music Show »\, Marching band qui se produit aussi à travers l’Europe aux côtés des plus grandes formations\, assurera la parade en reprenant les plus grands tubes de ces 10 dernières années. La tradition sera aussi présente avec le groupe « Samarobriva Pipes and Drums »\, habitué des cérémonies militaires\, qui emmènera l’ensemble et nous rappellera que cette année est marquée par le 80ème anniversaire de la libération\nNos « locaux » s’intercaleront dans le cortège : nos Majorettes « Les Etincelles » ainsi que notre Batterie Fanfare des Sapeurs-Pompiers\, xylos et percussions.\nLa fête de Foucarmont\, c’est aussi de folles batailles de confettis qui ajouteront à la bonne humeur générale durant cet après-midi exceptionnel.\nCette parade se clôturera par une aubade\, rue douce\, durant laquelle chaque groupe pourra être applaudi une dernière fois.\nLes personnes et enfants costumés dans le thème\, seront les bienvenus.\nLes vitrines et magasins du Bourg\, décorés pour la circonstance\, ajouteront à l’ambiance. \n– Le lundi 16\, les enfants pourront profiter des derniers tours de manège à la sortie des écoles. \n– Durant ces trois jours\, la fête foraine battra son plein sur la place des Cateliers proposant nombre d’attractions foraines pour tous les âges : tirs\, loteries\, manèges\, autos-scooters\, machines à pièces\, confiseries…  \nInfos : 02 35 93 70 36 \n\n\n                                    \n                                   \n\n                                    \n                                   \n\n                                    \n                                   \n\n                                    \n                                   \n\n                                    \n                                   \nReservation : Conseillée pour individuel
URL:https://www.tourisme-aumale-blangy.fr/agenda/fete-patronale-de-foucarmont-fmanor076v50wbro/
LOCATION:Place des Cateliers – Foucarmont\, Place des Cateliers\, FOUCARMONT\, 76340
CATEGORIES:Autre,Fête communale / patronale,Mise en avant sur l'accueil,Tradition et folklore,Vide greniers Braderie
ATTACH;FMTTYPE=image/jpg:https://www.tourisme-aumale-blangy.fr/wp-content/uploads/tourinsoft/bandeau fête patronale.jpg
ORGANIZER;CN="Municipalit%C3%A9%20de%20Foucarmont":MAILTO:communede-foucarmont@wanadoo.fr
END:VEVENT
END:VCALENDAR