BEGIN:VCALENDAR
VERSION:2.0
PRODID:-//Office de tourisme Aumale blangy sur bresle - ECPv6.0.9//NONSGML v1.0//EN
CALSCALE:GREGORIAN
METHOD:PUBLISH
X-WR-CALNAME:Office de tourisme Aumale blangy sur bresle
X-ORIGINAL-URL:https://www.tourisme-aumale-blangy.fr
X-WR-CALDESC:évènements pour Office de tourisme Aumale blangy sur bresle
REFRESH-INTERVAL;VALUE=DURATION:PT1H
X-Robots-Tag:noindex
X-PUBLISHED-TTL:PT1H
BEGIN:VTIMEZONE
TZID:Europe/Paris
BEGIN:DAYLIGHT
TZOFFSETFROM:+0100
TZOFFSETTO:+0200
TZNAME:CEST
DTSTART:20220327T010000
END:DAYLIGHT
BEGIN:STANDARD
TZOFFSETFROM:+0200
TZOFFSETTO:+0100
TZNAME:CET
DTSTART:20221030T010000
END:STANDARD
END:VTIMEZONE
BEGIN:VEVENT
DTSTART;TZID=Europe/Paris:20220803T140000
DTEND;TZID=Europe/Paris:20220803T230000
DTSTAMP:20260425T230700
CREATED:20210106T124705Z
LAST-MODIFIED:20220704T224722Z
UID:62820-1659535200-1659567600@www.tourisme-aumale-blangy.fr
SUMMARY:A la découverte de la source de l'Yères
DESCRIPTION:Animé par le Syndicat du Bassin Versant de l’Yères et de la Côte\nRendez-vous à 14h00 – Durée : 1h30 à 2h30\nAtelier animé par François DUCASTE\, agent ONF \nManifestation réalisée dans le cadre de l’Atlas de biodiversité communales  : Aubermesnil-aux-Erables\, du Caule sainte Beuve\, des Landes Vieilles et Neuves\, et d’Auvilliers \nAnimation gratuite et adaptée aux petits comme aux grands.\nInfos et inscriptions : 02 35 50 61 24 – biodiversité.yeres@orange.fr
URL:https://www.tourisme-aumale-blangy.fr/agenda/a-la-decouverte-de-la-source-de-lyeres-FMANOR076V51EZSI/
LOCATION:Mairie – AUBERMESNIL-AUX-ERABLES\, Mairie\, AUBERMESNIL-AUX-ERABLES\, 76340\, France
CATEGORIES:Atelier / Stage,Autre,Mise en avant sur l'accueil,Randonnées/Balades,Visite
ATTACH;FMTTYPE=image/jpg:https://www.tourisme-aumale-blangy.fr/wp-content/uploads/tourinsoft/L'Yères.jpg
END:VEVENT
BEGIN:VEVENT
DTSTART;TZID=Europe/Paris:20220813T120000
DTEND;TZID=Europe/Paris:20220814T210000
DTSTAMP:20260425T230700
CREATED:20200416T084721Z
LAST-MODIFIED:20220531T224703Z
UID:27834-1660392000-1660510800@www.tourisme-aumale-blangy.fr
SUMMARY:La Fête du Verre de la Vallée de la Bresle
DESCRIPTION:Ce sera la 23ème édition cette année\, vous pourrez découvrir toutes les particularités du verre\, le temps d’un weekend ! \nSeul les initiations\, la découverte des rues blangeoises ainsi que la restauration seront payantes\n• Visite du nouveau musée du verre et accéder à la démonstration du souffleur de verre (payant- 4 €)\n• Visite des pièces de l’exposition Eclats de Verre en Bresle (accès gratuit)\n• Découverte de démonstrations des métiers en lien avec le verre (gratuites) payantes)\n• Parcourir les halles où sont installés les verriers artisans d’art (accès gratuit)\n• Pratique d’une première initiation (payant)\n• Parcourir les pages affichées du fascicule « ENVERS D’ENFANCE » (accès gratuit).\n• Visionnages de vidéos sur le thème du verre (gratuites)\n• Se divertir\, se restaurer et faire la fête (payant)\n• Se procurer des pièces ou témoins forts (payant)\n• Participer à une activité de création\nInfos : 09 62 12 90 70 / www.amafontaine.fr / amafontaine@orange.fr
URL:https://www.tourisme-aumale-blangy.fr/agenda/la-fete-du-verre-de-la-vallee-de-la-bresle-FMANOR076V50NH35/
LOCATION:Musée du verre – BLANGY-SUR-BRESLE\, Musée du verre\, BLANGY-SUR-BRESLE\, 76340\, France
CATEGORIES:Autre,Exposition,Festival,Foire ou salon,Mise en avant sur l'accueil,Spectacle,Visite
ATTACH;FMTTYPE=image/jpg:https://www.tourisme-aumale-blangy.fr/wp-content/uploads/tourinsoft/Fête du verre.jpg
END:VEVENT
BEGIN:VEVENT
DTSTART;TZID=Europe/Paris:20220827T080000
DTEND;TZID=Europe/Paris:20220827T120000
DTSTAMP:20260425T230700
CREATED:20220210T174705Z
LAST-MODIFIED:20220627T224704Z
UID:109289-1661587200-1661601600@www.tourisme-aumale-blangy.fr
SUMMARY:A la découverte de la faune et la flore en forêt d'Eu
DESCRIPTION:Rendez vous à 8h00 au Parking du Sainfoin – Campneuseville\nDurée: 3h00 \nDécouvrez toute la richesse en forêt d’Eu au réveil de la forêt : Balade matinale à la rencontre des animaux sauvages.\nParticipation limitée à 20 personnes – Pas d’animaux de compagnie –  Chaussures et vêtements adaptés à la forêt.\nUne visite animée par un guide ONF.\nInscription obligatoire auprès de l’Office de Tourisme : 02 35 17 61 09 – tourisme@cciabb.fr
URL:https://www.tourisme-aumale-blangy.fr/agenda/a-la-decouverte-de-la-faune-et-la-flore-en-foret-deu-FMANOR076V51JZBJ/
LOCATION:RD7 sortie de Campneuseville – CAMPNEUSEVILLE\, RD7 sortie de Campneuseville\, CAMPNEUSEVILLE\, 76340\, France
CATEGORIES:Autre,Mise en avant sur l'accueil,Randonnées/Balades,Visite
ATTACH;FMTTYPE=image/jpg:https://www.tourisme-aumale-blangy.fr/wp-content/uploads/tourinsoft/Sanglier faune et flore 2022©Pixabay.jpg
END:VEVENT
BEGIN:VEVENT
DTSTART;TZID=Europe/Paris:20220831T140000
DTEND;TZID=Europe/Paris:20220831T180000
DTSTAMP:20260425T230700
CREATED:20210817T104702Z
LAST-MODIFIED:20220310T234705Z
UID:88635-1661954400-1661968800@www.tourisme-aumale-blangy.fr
SUMMARY:Restitution de l'Atlas de la Biodiversité Communale
DESCRIPTION:Après plusieurs mois de recherches ponctuées par de nombreuses découvertes\, les résultats de l’Atlas de Biodiversité Communale (ABC) seront présentés à la maison forestière du Caule Sainte Beuve !\nPour l’occasion\, plusieurs animations seront proposées pour petits et grands tout au long de l’après-midi : randonnées découverte de la biodiversité\, jeu concours\, expositions.\nDétail du programme à venir prochainement !\nNous vous attendons nombreux sur cet événement qui clôturera l’ABC 2022.\nInscriptions aux randonnées obligatoire par mail ou par téléphone : biodiversite.yeres@orange.fr / 02 35 50 61 24
URL:https://www.tourisme-aumale-blangy.fr/agenda/restitution-de-latlas-de-la-biodiversite-communale-FMANOR076V51HWV9/
LOCATION:Ventes mésangères – LE CAULE-SAINTE-BEUVE\, Ventes mésangères\, LE CAULE-SAINTE-BEUVE\, 76390\, France
CATEGORIES:Atelier / Stage,Autre,Mise en avant sur l'accueil,Visite
ATTACH;FMTTYPE=image/jpg:https://www.tourisme-aumale-blangy.fr/wp-content/uploads/tourinsoft/Restitution-ABC - 2021.jpg
END:VEVENT
END:VCALENDAR