BEGIN:VCALENDAR
VERSION:2.0
PRODID:-//Office de tourisme Aumale blangy sur bresle - ECPv6.0.9//NONSGML v1.0//EN
CALSCALE:GREGORIAN
METHOD:PUBLISH
X-WR-CALNAME:Office de tourisme Aumale blangy sur bresle
X-ORIGINAL-URL:https://www.tourisme-aumale-blangy.fr
X-WR-CALDESC:évènements pour Office de tourisme Aumale blangy sur bresle
REFRESH-INTERVAL;VALUE=DURATION:PT1H
X-Robots-Tag:noindex
X-PUBLISHED-TTL:PT1H
BEGIN:VTIMEZONE
TZID:Europe/Paris
BEGIN:DAYLIGHT
TZOFFSETFROM:+0100
TZOFFSETTO:+0200
TZNAME:CEST
DTSTART:20230326T010000
END:DAYLIGHT
BEGIN:STANDARD
TZOFFSETFROM:+0200
TZOFFSETTO:+0100
TZNAME:CET
DTSTART:20231029T010000
END:STANDARD
END:VTIMEZONE
BEGIN:VEVENT
DTSTART;VALUE=DATE:20230401
DTEND;VALUE=DATE:20231001
DTSTAMP:20260425T023831
CREATED:20220224T114704Z
LAST-MODIFIED:20230307T151153Z
UID:110904-1680307200-1696118399@www.tourisme-aumale-blangy.fr
SUMMARY:Visitez le musée du verre de Blangy-sur-Bresle
DESCRIPTION:La réouverture du nouveau musée du verre a sonné et ce jusqu’au 30 septembre 2023 inclus ! \nDès l’accueil (via le parking) vous retrouverez quelques pièces de la boutique\, des livres sur le verre\, de la papeterie\, et des dépliants touristiques sur les autres sites à visiter dans le secteur.\nUne salle vidéo vous projettera l’histoire de la ville (au travers ses instruments de musique\, des cartes postales\, des pièces archéologiques…) . \nVisite guidée ou visite libre au choix pour tous ! \nDe l’accueil\, on accède à la cour où l’on découvre plusieurs outils mis en valeur\, des charrettes\, ainsi que la reconstitution d’une cité ouvrière avec ses cinq maisons. Le nouveau cheminement chronologique vous permettra d’accéder à l’espace verre\, puis à l’atelier du souffleur. \nN’hésitez pas à vous arrêter sur les splendides scènes de vie photographiées par l’artiste Cédric Tanguy ! Elles vous transporteront directement dans le monde fascinant des verriers ! \nMusée du verre ouvert aux horaires suivants :\nBasse saison\ndu 1er avril au 30 juin puis du 1er au 30 septembre\, ouverture :\n– du mercredi au dimanche de 14h à 18h.\nVisites guidées à 14h30 et 16h00\nDémonstrations du souffleur de verre à 14h30\, 15h30 et 17h. \nHaute saison\ndu 1er juillet au 31 août\, ouverture :\n– du mercredi au vendredi de 10h à 12h et de 14h à 18h\,\n– du samedi au dimanche de 14h à 18h.\nVisites guidées à 10h15\, 14h15\, 15h30 et 16h45\nDémonstrations du souffleur de verre à 11h15\, 14h30\, 15h30 et 16h45 \nToute l’année : Fermé les lundis et mardis \nTarifs Individuels : \n– Adulte : 6.00 € \n– Étudiants\, personnes à mobilité réduite : 3 € \n– Gratuité pour les moins de 18 ans. \n– Abonnement à l’année : 20 € (carte en vente au musée) \nPour le public individuel\, les visites guidées et les démonstrations sont comprises dans le ticket d’entrée.\n– Visites en basse saison à 14h30 & 16h suivies d’une démonstration de souffleur de verre.\n– Visites en haute saison 10h15\, 14h15\, 15h30 suivies d’une démonstration de souffleur de verre. \nInfos : 02 35 93 50 05 / 02 35 94 44 79
URL:https://www.tourisme-aumale-blangy.fr/agenda/visitez-le-musee-du-verre-de-blangy-sur-bresle/
LOCATION:Rue du Manoir – BLANGY-SUR-BRESLE\, Rue du Manoir\, BLANGY-SUR-BRESLE\, 76340\, France
CATEGORIES:Autre,Mise en avant sur l'accueil,Tourisme d'entreprise, visite technique,Tradition et folklore,Visite
ATTACH;FMTTYPE=image/jpeg:https://www.tourisme-aumale-blangy.fr/wp-content/uploads/2022/02/©musee-du-verre-2023.jpg
END:VEVENT
BEGIN:VEVENT
DTSTART;TZID=Europe/Paris:20230603T093000
DTEND;TZID=Europe/Paris:20230603T180000
DTSTAMP:20260425T023831
CREATED:20200604T130530Z
LAST-MODIFIED:20230502T224904Z
UID:33563-1685784600-1685815200@www.tourisme-aumale-blangy.fr
SUMMARY:Marché fermier et artisanal sur Pierrecourt
DESCRIPTION:L’EARL Louis Michel organise son traditionnelle marché fermier et artisanal.\nA cette occasion\,  l’exploitation reçoit des producteurs\, des artisans dans la cour de la ferme.\nVous pourrez ainsi trouver : vin\,  bière\,  meringues\, poterie\, bijoux\, savons\, fondants\, décorations sur pots en terre\,  produits d’entretiens et d’hygiènes\, tissus zéro déchets  …. et évidement la viande de l’Earl Louis Michel et sa boutique d’épiceries fines. \nUn marché fermier de produits locaux et originaux / Vente de viandes de la ferme / Terrines / Condiments / Confitures\nExposition de miniatures agricoles d’Enzo.\nLe centre social « l’Atelier » de Blangy-sur-Bresle sera également présent. \nVenez avec votre famille et vos amis … et apportez vos couverts !  \nL’entrée des visiteurs est gratuite \nInfos : 02 35 93 55 37 – 06 16 32 11 47 \n\n\n                                    \n                                   \n\n                                    \n                                   \n\n                                    \n                                   \nReservation : Sans
URL:https://www.tourisme-aumale-blangy.fr/agenda/marche-fermier-et-artisanal-sur-pierrecourt-fmanor076v50txzt/
LOCATION:2 rue de l’échauffard – PIERRECOURT\, 2 rue de l'échauffard\, PIERRECOURT\, 76340\, France
CATEGORIES:Autre,Marché,Mise en avant sur l'accueil,Portes ouvertes,Visite
ATTACH;FMTTYPE=image/jpg:https://www.tourisme-aumale-blangy.fr/wp-content/uploads/tourinsoft/confitures.jpg
END:VEVENT
BEGIN:VEVENT
DTSTART;TZID=Europe/Paris:20230610T100000
DTEND;TZID=Europe/Paris:20230610T120000
DTSTAMP:20260425T023831
CREATED:20230606T124916Z
LAST-MODIFIED:20230606T224910Z
UID:214394-1686391200-1686398400@www.tourisme-aumale-blangy.fr
SUMMARY:Observation des oiseaux en forêt d'Eu
DESCRIPTION:Venez observer les jeunes oiseaux de la forêt d’Eu de 10h00 à 12h00\nVenez assister aux premiers vols de nos oiseaux forestiers. Entre les pics sortant de leur arbre\, les pinsons de leur nid\, et les pouillots du sol\, le spectacle est partout !\nRendez-vous à la mairie du Caule-Sainte-Beuve\nAnimation gratuite – sortie animée par Thomas DOMALAIN\nÉquipement nécessaire : chaussures de randonnée et jumelles\nRéservations obligatoires sur le site du département 76 – Infos : 07 83 51 95 82\nAtelier proposé par le Groupe Ornithologique Normand \n\n\n                                    \n                                   \n\n                                    \n                                   \n\n                                    \n                                   \nReservation : Obligatoire pour individuelObligatoire pour groupe
URL:https://www.tourisme-aumale-blangy.fr/agenda/observation-des-oiseaux-en-foret-deu-fmanor076v51relv/
LOCATION:Mairie – LE CAULE-SAINTE-BEUVE\, Mairie\, LE CAULE-SAINTE-BEUVE\, 76390\, France
CATEGORIES:Atelier / Stage,Autre,Mise en avant sur l'accueil,Randonnées/Balades,Visite
ATTACH;FMTTYPE=image/jpg:https://www.tourisme-aumale-blangy.fr/wp-content/uploads/tourinsoft/PINSON.jpg
END:VEVENT
BEGIN:VEVENT
DTSTART;TZID=Europe/Paris:20230610T170000
DTEND;TZID=Europe/Paris:20230610T190000
DTSTAMP:20260425T023831
CREATED:20220224T114704Z
LAST-MODIFIED:20230525T224906Z
UID:110902-1686416400-1686423600@www.tourisme-aumale-blangy.fr
SUMMARY:Conférence au musée du verre de Blangy-sur-Bresle
DESCRIPTION:17h00 – Musée du verre – Entrée libre \nPour marquer la sortie du livre « Guerville … l’histoire de la verrerie de la Grande vallée »\, M ADAM\, auteur de l’ouvrage sera présent sur place.\nUn ouvrage richement documenté et illustré que Jean-Pierre ADAM consacre à une page d’histoire du village de Guerville où enfant\, il séjournait. \nVous pourrez visiter ce musée ensuite aux horaires suivants :\n– du mercredis eu dimanche de 14h à 18h\nFermé les lundi et mardis \nInfos : 02 35 93 50 05 / 02 35 94 44 79 \n\n\n                                    \n                                   \n\n                                    \n                                   \n\n                                    \n                                   \n\n                                    \n                                   \nReservation : Sans
URL:https://www.tourisme-aumale-blangy.fr/agenda/conference-au-musee-du-verre-de-blangy-sur-bresle-fmanor076v51k4lv/
LOCATION:Rue du Manoir – BLANGY-SUR-BRESLE\, Rue du Manoir\, BLANGY-SUR-BRESLE\, 76340\, France
CATEGORIES:Autre,Contes et jeux,Mise en avant sur l'accueil,Spectacle,Tradition et folklore,Visite
ATTACH;FMTTYPE=image/jpg:https://www.tourisme-aumale-blangy.fr/wp-content/uploads/tourinsoft/Couv-Verrerie-Grande-Vallee.jpg
ORGANIZER;CN="Mus%C3%A9e%20du%20verre":MAILTO:museeduverre@blangysurbresle.fr
END:VEVENT
BEGIN:VEVENT
DTSTART;TZID=Europe/Paris:20230617T140000
DTEND;TZID=Europe/Paris:20230618T180000
DTSTAMP:20260425T023831
CREATED:20230421T084908Z
LAST-MODIFIED:20230421T224911Z
UID:196832-1687010400-1687111200@www.tourisme-aumale-blangy.fr
SUMMARY:Journées de l'Archéologie au Musée du verre
DESCRIPTION:Passionnés d’histoire ou simples curieux\, en famille ou avec sa classe\, venez découvrir les coulisses du patrimoine et de la recherche archéologique au Musée du verre de Blangy. \nEntrée payante \nInfos : 02 35 94 44 79 – museeduverre@blangysurbresle.fr \nCe weekend-là\, de nombreux musées ouvriront leurs portes partout en France et en Europe\, n’hésitez pas à venir récupérer le programme à l’Office de Tourisme. \nLors de ces journées\, le public peut venir découvrir ateliers et expositions de toutes sortes grâce à l’accueil de tous les professionnels du domaine. Passant de 200 initiatives françaises lors de sa création à plus de 500 mobilisations sur tout le continent européen en à peine 10 ans\, cet événement du printemps se tenant entre fin mai et début juin marque un des temps forts de l’archéologie française à travers le monde. \n\n\n                                    \n                                   \n\n                                    \n                                   \nReservation : SansObligatoire pour groupe
URL:https://www.tourisme-aumale-blangy.fr/agenda/journees-de-larcheologie-au-musee-du-verre-fmanor076v51qig3/
LOCATION:Rue du Manoir – BLANGY-SUR-BRESLE\, Rue du Manoir\, BLANGY-SUR-BRESLE\, 76340\, France
CATEGORIES:Atelier / Stage,Autre,Mise en avant sur l'accueil,Visite
ATTACH;FMTTYPE=image/jpg:https://www.tourisme-aumale-blangy.fr/wp-content/uploads/tourinsoft/journées de l'archéologie.jpg
ORGANIZER;CN="Le%20Mus%C3%A9e%20du%20Verre":MAILTO:museeduverre@blangysurbresle.fr
END:VEVENT
END:VCALENDAR