BEGIN:VCALENDAR
VERSION:2.0
PRODID:-//Office de tourisme Aumale blangy sur bresle - ECPv6.0.9//NONSGML v1.0//EN
CALSCALE:GREGORIAN
METHOD:PUBLISH
X-ORIGINAL-URL:https://www.tourisme-aumale-blangy.fr
X-WR-CALDESC:évènements pour Office de tourisme Aumale blangy sur bresle
REFRESH-INTERVAL;VALUE=DURATION:PT1H
X-Robots-Tag:noindex
X-PUBLISHED-TTL:PT1H
BEGIN:VTIMEZONE
TZID:Europe/Paris
BEGIN:DAYLIGHT
TZOFFSETFROM:+0100
TZOFFSETTO:+0200
TZNAME:CEST
DTSTART:20240331T010000
END:DAYLIGHT
BEGIN:STANDARD
TZOFFSETFROM:+0200
TZOFFSETTO:+0100
TZNAME:CET
DTSTART:20241027T010000
END:STANDARD
END:VTIMEZONE
BEGIN:VEVENT
DTSTART;TZID=Europe/Paris:20240406T100000
DTEND;TZID=Europe/Paris:20240407T180000
DTSTAMP:20260424T061032
CREATED:20200412T214815Z
LAST-MODIFIED:20240325T234914Z
UID:28311-1712397600-1712512800@www.tourisme-aumale-blangy.fr
SUMMARY:Le printemps des verriers à Blangy-sur-Bresle
DESCRIPTION:Lors des JEMA\, l’atelier Verre d’art de la Bresle organise un évènement intitulé « Printemps des verriers ».\nAu programme : démonstrations de gravure sur verre à l’entrée du site par Claude NOUREUX et des démonstrations de soufflage de verre en techniques vénitiennes par le Maestro Lui DEI ROSSI.\nDu côté boutique\, vous retrouverez des articles en verre soufflé et verre étiré : vases\, verres\, luminaires\, sculptures\, fleurs et différents animaux.  \nInfos : 02 35 93 57 01 / 06 80 75 23 51
URL:https://www.tourisme-aumale-blangy.fr/agenda/le-printemps-des-verriers-a-blangy-sur-bresle-fmanor076v51b40i/
CATEGORIES:Atelier / Stage,Exposition,Fêtes de fin d'année,Portes ouvertes,Tradition et folklore,Visite
ATTACH;FMTTYPE=image/jpg:https://www.tourisme-aumale-blangy.fr/wp-content/uploads/tourinsoft/DEI ROSSI.jpg
END:VEVENT
BEGIN:VEVENT
DTSTART;TZID=Europe/Paris:20240406T140000
DTEND;TZID=Europe/Paris:20240407T180000
DTSTAMP:20260424T061032
CREATED:20240311T104909Z
LAST-MODIFIED:20240325T234922Z
UID:307935-1712412000-1712512800@www.tourisme-aumale-blangy.fr
SUMMARY:Démonstration du souffleur de verre à Blangy-sur-Bresle
DESCRIPTION:Pendant 35 à 45 minutes\, le souffleur de verre du musée vous présente son cursus et les différentes techniques de travail qu’il utilise : verre soufflé\, verre étiré et verre plein. \nInscription par téléphone ou par mail pour assister aux démonstrations : 14h30 / 15h30 et 17h00.\n(Attention 40 places/ démonstration) \nInfos : 02 35 94 44 79 \n\n\n                                    \n                                   \nReservation : Obligatoire pour individuelObligatoire pour groupe
URL:https://www.tourisme-aumale-blangy.fr/agenda/demonstration-du-souffleur-de-verre-a-blangy-sur-bresle-fmanor076v51vo3m/
LOCATION:Rue du Manoir – BLANGY-SUR-BRESLE\, Rue du Manoir\, BLANGY-SUR-BRESLE\, 76340\, France
CATEGORIES:Autre,Mise en avant sur l'accueil,Visite
ATTACH;FMTTYPE=image/jpg:https://www.tourisme-aumale-blangy.fr/wp-content/uploads/tourinsoft/Démonstration du souffleur de verre.jpg
ORGANIZER;CN="Le%20Mus%C3%A9e%20du%20Verre":MAILTO:museeduverre@blangysurbresle.fr
END:VEVENT
END:VCALENDAR