BEGIN:VCALENDAR
VERSION:2.0
PRODID:-//Office de tourisme Aumale blangy sur bresle - ECPv6.0.9//NONSGML v1.0//EN
CALSCALE:GREGORIAN
METHOD:PUBLISH
X-WR-CALNAME:Office de tourisme Aumale blangy sur bresle
X-ORIGINAL-URL:https://www.tourisme-aumale-blangy.fr
X-WR-CALDESC:évènements pour Office de tourisme Aumale blangy sur bresle
REFRESH-INTERVAL;VALUE=DURATION:PT1H
X-Robots-Tag:noindex
X-PUBLISHED-TTL:PT1H
BEGIN:VTIMEZONE
TZID:Europe/Paris
BEGIN:DAYLIGHT
TZOFFSETFROM:+0100
TZOFFSETTO:+0200
TZNAME:CEST
DTSTART:20250330T010000
END:DAYLIGHT
BEGIN:STANDARD
TZOFFSETFROM:+0200
TZOFFSETTO:+0100
TZNAME:CET
DTSTART:20251026T010000
END:STANDARD
END:VTIMEZONE
BEGIN:VEVENT
DTSTART;TZID=Europe/Paris:20250517T100000
DTEND;TZID=Europe/Paris:20250517T110000
DTSTAMP:20260419T212226
CREATED:20250503T104908Z
LAST-MODIFIED:20250506T224908Z
UID:479583-1747476000-1747479600@www.tourisme-aumale-blangy.fr
SUMMARY:Printemps des cimetières à Rieux
DESCRIPTION:Un cimetière\, des monuments\, des histoires… \nLe Printemps des cimetières\, organisé par la fédération Patrimoine Aurhalpin\, est le seul événement national dédié exclusivement au patrimoine funéraire et à la découverte des cimetières.\nHistoire\, personnalités célèbres\, architecture\, faune\, flore et biodiversité … y’a de quoi raconter !! \nLe temps d’un week-end\, l’association Terre de verre en Bresle propose deux visites à destination du public :\n>  Cimetière de Rieux – Rue de l’abreuvoir 76340 RIEUX\n10h00 – 11h00 – A partir de l’idée que l’histoire d’un village peut être racontée à partir de son cimetière\, nous avons identifié dans celui du petit village de Rieux en Seine Maritime une dizaine de monuments de personnages ayant marqué la vie de la commune. Vieux curé « à l’ancienne »\, maires\, épicière\, etc.\nNous avons également identifié quelques monuments remarquables et/ou originaux de par leur architecture\, leur emplacement\, etc.\nInfos : ll.bernard.renoult@orange.fr \n> 2 visites au choix : Ancien cimetière de Blangy-sur-Bresle – Route de Rieux – 76340 BLANGY-SUR-BRESLE\n11h00 – 11h30  ou 14h00 – 14h30\nInfos : TVBresle@gmail.com \nOuvert à tous et gratuit – sans inscription préalable nécessaire \n\n\n                                    \n                                   \n\n                                    \n                                   \n\n                                    \n                                   \n\n                                    \n                                   \n\n                                    \n                                   \nReservation : SansConseillée pour groupe
URL:https://www.tourisme-aumale-blangy.fr/agenda/printemps-des-cimetieres-a-rieux-fmanor076v520z6z/
LOCATION:Rue de l’Abreuvoir – RIEUX\, Rue de l'abreuvoir\, RIEUX\, 76340\, France
CATEGORIES:Autre,Mise en avant sur l'accueil,Portes ouvertes,Randonnées/Balades,Visite
ATTACH;FMTTYPE=image/jpg:https://www.tourisme-aumale-blangy.fr/wp-content/uploads/tourinsoft/Printemps des cimetières Rieux Blangy sur Bresle.jpg
ORGANIZER;CN="Terre%20de%20verre%20en%20Bresle":MAILTO:tvbresle@gmail.com
END:VEVENT
BEGIN:VEVENT
DTSTART;TZID=Europe/Paris:20250517T100000
DTEND;TZID=Europe/Paris:20250517T123000
DTSTAMP:20260419T212226
CREATED:20241028T164907Z
LAST-MODIFIED:20250405T224908Z
UID:424290-1747476000-1747485000@www.tourisme-aumale-blangy.fr
SUMMARY:Jeu de piste à Blangy
DESCRIPTION:Nouveau !!!\nSillonez les rues du centre-bourg de Blangy-sur-Bresle\, ouvrez grand les yeux et découvrez les lieux et décors insolites de la ville.\nDépart 10h – Place de la Mairie – Accessible à tous …. enfants / adultes / famille !\nAvec de petites récompenses et/ou gourmandises pour les enfants… n’hésitez pas !\nGratuit et ouvert à tous !\nInfos :  06 86 88 78 25 / 07 67 03 16 38\nJeu de piste du patrimoine proposé par l’Association Blangy Loisirs \n\n\n                                    \n                                   \nReservation : SansConseillée pour individuel
URL:https://www.tourisme-aumale-blangy.fr/agenda/jeu-de-piste-a-blangy-fmanor076v51zjgi/
LOCATION:place de l’Hôtel de ville – BLANGY-SUR-BRESLE\, place de l'Hôtel de ville\, BLANGY-SUR-BRESLE\, 76340\, France
CATEGORIES:Autre,Mise en avant sur l'accueil,Rallye,Randonnées/Balades,Visite
ATTACH;FMTTYPE=image/jpg:https://www.tourisme-aumale-blangy.fr/wp-content/uploads/tourinsoft/Affiche jeu de piste -2024 - Jeu de piste - 2025.jpg
ORGANIZER;CN="Blangy%20Loisirs":MAILTO:blangyloisirs@outlook.fr
END:VEVENT
BEGIN:VEVENT
DTSTART;TZID=Europe/Paris:20250517T110000
DTEND;TZID=Europe/Paris:20250517T140000
DTSTAMP:20260419T212226
CREATED:20250503T124908Z
LAST-MODIFIED:20250506T224908Z
UID:479635-1747479600-1747490400@www.tourisme-aumale-blangy.fr
SUMMARY:Printemps des cimetières à Blangy-sur-Bresle
DESCRIPTION:Un cimetière\, des monuments\, des histoires… \nLe Printemps des cimetières\, organisé par la fédération Patrimoine Aurhalpin\, est le seul événement national dédié exclusivement au patrimoine funéraire et à la découverte des cimetières.\nHistoire\, personnalités célèbres\, architecture\, faune\, flore et biodiversité … y’a de quoi raconter !! \nLe temps d’un week-end\, l’association Terre de verre en Bresle propose deux visites à destination du public :  \n>  10h – 11h00 – Cimetière de Rieux – Rue de l’abreuvoir 76340 RIEUX\nA partir de l’idée que l’histoire d’un village peut être racontée à partir de son cimetière\, nous avons identifié dans celui du petit village de Rieux en Seine Maritime une dizaine de monuments de personnages ayant marqué la vie de la commune. Vieux curé « à l’ancienne »\, maires\, épicière\, etc. \n>2 visites au choix : Le cimetière de Blangy … une vie de village !\n 11h00 – 11h30  ou 14h00 -14h30\nAncien cimetière de Blangy-sur-Bresle – Route de Rieux – 76340 BLANGY-SUR-BRESLE\nInfos : TVBresle@gmail.com – ll.bernard.renoult@orange.fr \nOuvert à tous et gratuit – sans inscription préalable nécessaire \n\n\n                                    \n                                   \n\n                                    \n                                   \n\n                                    \n                                   \n\n                                    \n                                   \n\n                                    \n                                   \nReservation : SansConseillée pour groupe
URL:https://www.tourisme-aumale-blangy.fr/agenda/printemps-des-cimetieres-a-blangy-sur-bresle-fmanor076v520z77/
LOCATION:Route de Rieux – BLANGY-SUR-BRESLE\, Route de Rieux\, BLANGY-SUR-BRESLE\, 76340\, France
CATEGORIES:Autre,Mise en avant sur l'accueil,Portes ouvertes,Randonnées/Balades,Visite
ATTACH;FMTTYPE=image/jpg:https://www.tourisme-aumale-blangy.fr/wp-content/uploads/tourinsoft/Printemps des cimetières Rieux Blangy sur Bresle.jpg
ORGANIZER;CN="Terre%20de%20verre%20en%20Bresle":MAILTO:tvbresle@gmail.com
END:VEVENT
BEGIN:VEVENT
DTSTART;TZID=Europe/Paris:20250517T200000
DTEND;TZID=Europe/Paris:20250517T230000
DTSTAMP:20260419T212226
CREATED:20210626T104702Z
LAST-MODIFIED:20250517T204906Z
UID:82437-1747512000-1747522800@www.tourisme-aumale-blangy.fr
SUMMARY:Nuit des Musées
DESCRIPTION:Profitez pour la 5 ème fois de l’ouverture du Musée à l’occasion de l’opération la nuit des musées.\nLe temps d’une nuit\, de 20h00 à 23h00\, le public est invité à découvrir gratuitement\, de manière insolite\, festive et ludique\, les richesses du musée du verre librement. Découvrez une autre facette du musée du verre et admirez le travail des souffleurs dans l’obscurité. \nDémos des souffleurs de verre à 20h30 – 21h15 et 22h00 – N’oubliez pas de réserver !  \nEntrée gratuite tout au long de la soirée.\nInfos et réservations : 02 35 94 44 79 – museeduverre@blangysurbresle.fr \nCe soir-là\, de nombreux musées ouvriront gratuitement leurs portes partout en France et en Europe de la tombée de la nuit jusqu’à minuit\, n’hésitez pas à venir récupérer le programme à l’Office de Tourisme. \n\n\n                                    \n                                   \n\n                                    \n                                   \n\n                                    \n                                   \n\n                                    \n                                   \n\n                                    \n                                   \nReservation : SansObligatoire pour groupe
URL:https://www.tourisme-aumale-blangy.fr/agenda/nuit-des-musees-fmanor076v510r9s/
LOCATION:Rue du Manoir – BLANGY-SUR-BRESLE\, Rue du Manoir\, BLANGY-SUR-BRESLE\, 76340\, France
CATEGORIES:Autre,Exposition,Mise en avant sur l'accueil,Visite
ATTACH;FMTTYPE=image/jpg:https://www.tourisme-aumale-blangy.fr/wp-content/uploads/tourinsoft/Nuit des musées.jpg
END:VEVENT
BEGIN:VEVENT
DTSTART;TZID=Europe/Paris:20250519T000100
DTEND;TZID=Europe/Paris:20250524T235900
DTSTAMP:20260419T212226
CREATED:20220408T164706Z
LAST-MODIFIED:20250523T224908Z
UID:121061-1747612860-1748131140@www.tourisme-aumale-blangy.fr
SUMMARY:3ème édition de la Fête de la nature à Aumale
DESCRIPTION:Le fête de la nature se déroulera du 19 au 24 mai 2025 avec un programme riche en animations !\n– CONCOURS PHOTOS :\nThème : la faune\, la flore\, la biodiversité en vallée de la Bresle.\nLes clichés sont à déposer avant le 15 mai au bureau des associations ou au Syndicat d’Initiative (en face de la poste).  Le règlement est disponible à l’Office de Tourisme Aumale – Blangy-sur-Bresle.  \n– EXPOSITION PHOTOGRAPHIQUE :\nExposition des clichés à la Halle au Beurre. Entrée gratuite \n– EXPOSITION NATURALISTE :\nA la Halle au Beurre du 19 au 24 mai de 8h30 à 18h30. Entrée gratuite\nOrganisée par le SI\, la LPO Normandie Aumale\, ASA Bresle\, les jardins ouvriers et familiaux\, le conservatoire d’espaces naturels des Hauts-de-France.  \n– ATELIER NICHOIRS\nMercredi 21 mai\, rendez-vous à 14h30 à la Halle au Beurre.\nAtelier gratuit et ouvert à tous de 7 à 77 ans – Animé par Yvon\nInscription obligatoire – Nombre de place limité – Durée : 2h30 \n– BOURSE AUX PLANTES\nSamedi 24 mai de 8h30 à 18h30 sur la place du monument aux Morts\nEmplacement gratuit – Ouvert à tous (particuliers) sur réservation avant le 15 mai  \n– REMISE DES PRIX DU CONCOURS PHOTOS\nSamedi 24 mai à 11h à la Halle au Beurre\nRemise des prix du concours photos et tombola\nPot de la fête de la nature avec les autorités municipales\, les organisateurs\, les participants\, le public.  \nProgramme complet auprès de M. DECAYEUX Yvon : 06 29 02 92 72 \n\n\n                                    \n                                   \n\n                                    \n                                   \nReservation : Obligatoire pour individuel \n\n                             Règlement-Concours-Photo-Aumale
URL:https://www.tourisme-aumale-blangy.fr/agenda/3eme-edition-de-la-fete-de-la-nature-a-aumale-fmanor076v51kk87/
LOCATION:Place des Marchés – Aumale\, Place des Marchés\, AUMALE\, 76390
CATEGORIES:Autre,Exposition,Mise en avant sur l'accueil,Randonnées/Balades,Visite
ATTACH;FMTTYPE=image/jpg:https://www.tourisme-aumale-blangy.fr/wp-content/uploads/tourinsoft/bandeau fête de la nature.jpg
END:VEVENT
END:VCALENDAR