BEGIN:VCALENDAR
VERSION:2.0
PRODID:-//Office de tourisme Aumale blangy sur bresle - ECPv6.0.9//NONSGML v1.0//EN
CALSCALE:GREGORIAN
METHOD:PUBLISH
X-WR-CALNAME:Office de tourisme Aumale blangy sur bresle
X-ORIGINAL-URL:https://www.tourisme-aumale-blangy.fr
X-WR-CALDESC:évènements pour Office de tourisme Aumale blangy sur bresle
REFRESH-INTERVAL;VALUE=DURATION:PT1H
X-Robots-Tag:noindex
X-PUBLISHED-TTL:PT1H
BEGIN:VTIMEZONE
TZID:Europe/Paris
BEGIN:DAYLIGHT
TZOFFSETFROM:+0100
TZOFFSETTO:+0200
TZNAME:CEST
DTSTART:20220327T010000
END:DAYLIGHT
BEGIN:STANDARD
TZOFFSETFROM:+0200
TZOFFSETTO:+0100
TZNAME:CET
DTSTART:20221030T010000
END:STANDARD
END:VTIMEZONE
BEGIN:VEVENT
DTSTART;TZID=Europe/Paris:20220514T140000
DTEND;TZID=Europe/Paris:20220529T180000
DTSTAMP:20260426T060421
CREATED:20220506T104703Z
LAST-MODIFIED:20220506T224704Z
UID:128110-1652536800-1653847200@www.tourisme-aumale-blangy.fr
SUMMARY:Exposition Oreiller d'herbe
DESCRIPTION:Le travail de Samuel Richardot s’articule autour des notions génériques de figure\, de signe et d’espaces interstitiels dans le tableau sous forme d’échos successifs au paysage moderne de la peinture.\nIl a fait l’objet de plusieurs expositions personnelles telles que Faux-Mouvements à la galerie Anne de Villepoix en 2019\, Zweitaktgemisch à la VINVIN gallery à Vienne (2017); J’aimerais vous voir disparaître aux Bains Douches à Alençon (2016)\, A few old tracks au New Jörg\, Vienne (2015)\, Court-Circuit au centre d’art MAGCP à Cajarc (2013)\, ainsi qu’à Art3\, Valence (2012). La fondation d’entreprise Ricard\, le frac Languedoc Roussillon à Montpellier et La Galerie\, centre d’art contemporain à Noisy-le-Sec lui ont consacré trois expositions d’envergure respectivement en 2017\, 2011 et 2009. \nParmi de nombreuses expositions collectives il a participé à Se souvenir des belles choses au Mrac Musée régional d’art contemporain (Sérignan)\, ainsi que La peinture à l’huile\, c’est bien difficile…frac Languedoc-Roussillon (Montpellier) en 2016;  Etre chose CIAP – Vassivière en (2015); Natura Lapsa au Confort Moderne (Poitiers) en 2014.\nSamuel Richardot est diplômé des Beaux-Arts de Paris en 2006. \nExposition visible dans les salles du Musée du verre tous les jours de 14h à 18h (sauf les mardis)\nEntrée libre \nInfos :\nMusée du verre – 02 35 94 44 79 – museeduverre@blangysurbresle.fr
URL:https://www.tourisme-aumale-blangy.fr/agenda/exposition-oreiller-dherbe-FMANOR076V5184PJ/
LOCATION:Rue du manoir de fontaine – BLANGY-SUR-BRESLE\, Rue du manoir de fontaine\, BLANGY-SUR-BRESLE\, 76340\, France
CATEGORIES:Autre,Exposition,Mise en avant sur l'accueil,Visite
ATTACH;FMTTYPE=image/jpg:https://www.tourisme-aumale-blangy.fr/wp-content/uploads/tourinsoft/Oeuvre de Samuel RICHARDOT.jpg
END:VEVENT
BEGIN:VEVENT
DTSTART;TZID=Europe/Paris:20220517T200000
DTEND;TZID=Europe/Paris:20220517T213000
DTSTAMP:20260426T060421
CREATED:20210106T094704Z
LAST-MODIFIED:20220502T224704Z
UID:62783-1652817600-1652823000@www.tourisme-aumale-blangy.fr
SUMMARY:Nuit de la chauve-souris aux Landes-Vieilles-et-Neuves
DESCRIPTION:Rendez-vous à 20h00 – Durée : 1h30 à 2h30\nManifestation réalisée dans le cadre de l’Atlas de Biodiversité communales 2022 sur les communes de Aubermesnil-aux-Erables\, Rétonval\, Le Caule Sainte Beuve\, Les Landes vieilles et Neuves et Auvilliers. \nAnimation gratuite et adaptée aux petits comme aux grands.\nPas plus de 10 personnes par groupe  – Chien interdit \nInscription obligatoire ! \nUn e-mail de confirmation sera envoyé aux participants avec la carte du lieu de rendez-vous\nInfos et inscriptions : 02 35 50 61 24 – biodiversité.yeres@orange.fr\nAtelier animé par le Syndicat du Bassin Versant de l’Yères et de la Côte
URL:https://www.tourisme-aumale-blangy.fr/agenda/nuit-de-la-chauve-souris-aux-landes-vieilles-et-neuves-FMANOR076V51EZRY/
LOCATION:Salle des fêtes – LANDES-VIEILLES-ET-NEUVES\, Salle des fêtes\, LANDES-VIEILLES-ET-NEUVES\, 76390\, France
CATEGORIES:Atelier / Stage,Autre,Mise en avant sur l'accueil,Randonnées/Balades,Visite
ATTACH;FMTTYPE=image/jpg:https://www.tourisme-aumale-blangy.fr/wp-content/uploads/tourinsoft/Chauve-souris.jpg
END:VEVENT
END:VCALENDAR