BEGIN:VCALENDAR
VERSION:2.0
PRODID:-//Office de tourisme Aumale blangy sur bresle - ECPv6.0.9//NONSGML v1.0//EN
CALSCALE:GREGORIAN
METHOD:PUBLISH
X-WR-CALNAME:Office de tourisme Aumale blangy sur bresle
X-ORIGINAL-URL:https://www.tourisme-aumale-blangy.fr
X-WR-CALDESC:évènements pour Office de tourisme Aumale blangy sur bresle
REFRESH-INTERVAL;VALUE=DURATION:PT1H
X-Robots-Tag:noindex
X-PUBLISHED-TTL:PT1H
BEGIN:VTIMEZONE
TZID:Europe/Paris
BEGIN:DAYLIGHT
TZOFFSETFROM:+0100
TZOFFSETTO:+0200
TZNAME:CEST
DTSTART:20220327T010000
END:DAYLIGHT
BEGIN:STANDARD
TZOFFSETFROM:+0200
TZOFFSETTO:+0100
TZNAME:CET
DTSTART:20221030T010000
END:STANDARD
END:VTIMEZONE
BEGIN:VEVENT
DTSTART;TZID=Europe/Paris:20220831T140000
DTEND;TZID=Europe/Paris:20220831T180000
DTSTAMP:20260425T231657
CREATED:20210817T104702Z
LAST-MODIFIED:20220310T234705Z
UID:88635-1661954400-1661968800@www.tourisme-aumale-blangy.fr
SUMMARY:Restitution de l'Atlas de la Biodiversité Communale
DESCRIPTION:Après plusieurs mois de recherches ponctuées par de nombreuses découvertes\, les résultats de l’Atlas de Biodiversité Communale (ABC) seront présentés à la maison forestière du Caule Sainte Beuve !\nPour l’occasion\, plusieurs animations seront proposées pour petits et grands tout au long de l’après-midi : randonnées découverte de la biodiversité\, jeu concours\, expositions.\nDétail du programme à venir prochainement !\nNous vous attendons nombreux sur cet événement qui clôturera l’ABC 2022.\nInscriptions aux randonnées obligatoire par mail ou par téléphone : biodiversite.yeres@orange.fr / 02 35 50 61 24
URL:https://www.tourisme-aumale-blangy.fr/agenda/restitution-de-latlas-de-la-biodiversite-communale-FMANOR076V51HWV9/
LOCATION:Ventes mésangères – LE CAULE-SAINTE-BEUVE\, Ventes mésangères\, LE CAULE-SAINTE-BEUVE\, 76390\, France
CATEGORIES:Atelier / Stage,Autre,Mise en avant sur l'accueil,Visite
ATTACH;FMTTYPE=image/jpg:https://www.tourisme-aumale-blangy.fr/wp-content/uploads/tourinsoft/Restitution-ABC - 2021.jpg
END:VEVENT
END:VCALENDAR