BEGIN:VCALENDAR
VERSION:2.0
PRODID:-//Office de tourisme Aumale blangy sur bresle - ECPv6.0.9//NONSGML v1.0//EN
CALSCALE:GREGORIAN
METHOD:PUBLISH
X-ORIGINAL-URL:https://www.tourisme-aumale-blangy.fr
X-WR-CALDESC:évènements pour Office de tourisme Aumale blangy sur bresle
REFRESH-INTERVAL;VALUE=DURATION:PT1H
X-Robots-Tag:noindex
X-PUBLISHED-TTL:PT1H
BEGIN:VTIMEZONE
TZID:Europe/Paris
BEGIN:DAYLIGHT
TZOFFSETFROM:+0100
TZOFFSETTO:+0200
TZNAME:CEST
DTSTART:20240331T010000
END:DAYLIGHT
BEGIN:STANDARD
TZOFFSETFROM:+0200
TZOFFSETTO:+0100
TZNAME:CET
DTSTART:20241027T010000
END:STANDARD
END:VTIMEZONE
BEGIN:VEVENT
DTSTART;TZID=Europe/Paris:20241019T103000
DTEND;TZID=Europe/Paris:20241019T163000
DTSTAMP:20260423T201452
CREATED:20240924T144909Z
LAST-MODIFIED:20241019T214907Z
UID:411434-1729333800-1729355400@www.tourisme-aumale-blangy.fr
SUMMARY:Foucarmont - Journées Nationales de l'Architecture
DESCRIPTION:Le CAUE 76 participe aux Journées Nationales de l’Architecture auprès des scolaires le vendredi\, et du grand public le samedi et le dimanche.  \nL’enjeu : favoriser l’accès à une éducation artistique et culturelle de qualité\, avec des actions spécifiques et dédiée au patrimoine sous toutes ses formes. L’occasion de dévoiler les richesses de l’architecture qui nous entoure à tous.. \nPour cette 9ème édition\, et dans le cadre du 80è anniversaire du Débarquement\, l’équipe du CAUE a choisi de mettre en avant l’architecture de la Reconstruction\, avec des visites originales à Foucarmont\, Yvetot\, Neufchâtel-en-Bray\, Dieppe et au CAUE de Petit-Quevilly. \nObjectifs :\n– Dévoiler au public les richesses de l’architecture contemporaine remarquable partout où elle se trouve\, de raconter l’histoire du bâti qui nous entoure\,\n– Éveiller les curiosités et les sensibilités artistiques\n– Valoriser l’apport culturel\, scientifique\, technique et social de l’architecture pour le bien-être de tous. \nLe grand public aura accès à l’intérieur de l’église pour 2 visites guidées inédites : 10h30 – 13h45\nVisites gratuites et ouvertes à tous.  \nInfos : 07 69 11 94 38 \n\n\n                                    \n                                   \n\n                                    \n                                   \n\n                                    \n                                   \n\n                                    \n                                   \n\n                                    \n                                   \n\n                                    \n                                   \n\n                                    \n                                   \nReservation : Obligatoire pour individuelObligatoire pour groupe
URL:https://www.tourisme-aumale-blangy.fr/agenda/foucarmont-journees-nationales-de-larchitecture-fmanor076v51z93d/
LOCATION:Place des Cateliers – Foucarmont\, Place des Cateliers\, FOUCARMONT\, 76340
CATEGORIES:Autre,Mise en avant sur l'accueil,Portes ouvertes,Visite
ATTACH;FMTTYPE=image/jpg:https://www.tourisme-aumale-blangy.fr/wp-content/uploads/tourinsoft/JNA_FORMATS RS.jpg
END:VEVENT
END:VCALENDAR