BEGIN:VCALENDAR
VERSION:2.0
PRODID:-//Office de tourisme Aumale blangy sur bresle - ECPv6.0.9//NONSGML v1.0//EN
CALSCALE:GREGORIAN
METHOD:PUBLISH
X-ORIGINAL-URL:https://www.tourisme-aumale-blangy.fr
X-WR-CALDESC:évènements pour Office de tourisme Aumale blangy sur bresle
REFRESH-INTERVAL;VALUE=DURATION:PT1H
X-Robots-Tag:noindex
X-PUBLISHED-TTL:PT1H
BEGIN:VTIMEZONE
TZID:Europe/Paris
BEGIN:DAYLIGHT
TZOFFSETFROM:+0100
TZOFFSETTO:+0200
TZNAME:CEST
DTSTART:20250330T010000
END:DAYLIGHT
BEGIN:STANDARD
TZOFFSETFROM:+0200
TZOFFSETTO:+0100
TZNAME:CET
DTSTART:20251026T010000
END:STANDARD
END:VTIMEZONE
BEGIN:VEVENT
DTSTART;TZID=Europe/Paris:20250709T140000
DTEND;TZID=Europe/Paris:20250709T170000
DTSTAMP:20260419T175403
CREATED:20210625T104704Z
LAST-MODIFIED:20250704T224907Z
UID:82169-1752069600-1752080400@www.tourisme-aumale-blangy.fr
SUMMARY:Découverte de la biodiversité en forêt d'Eu
DESCRIPTION:Rendez-vous à 14h00 à la maison forestière de Penthièvre – Caule Sainte Beuve – Durée : 3h00\nNous vous proposons un voyage à la découverte de la biodiversité en forêt d’Eu avec un parcours agrémenté de 9 étapes pour découvrir les missions des forestiers.\nAnimation gratuite et adaptées aux petits comme aux grands.\nPas plus de 20 personnes par groupe – Pas d’animaux de compagnie – Chaussures et vêtements adaptés.\nVisite animée par Romain BELLET\,  guide ONF\nInscription obligatoire sur l’ENS\nInfos : 02 35 71 61 09 \n\n\n                                    \n                                   \nReservation : Obligatoire pour individuelObligatoire pour groupe
URL:https://www.tourisme-aumale-blangy.fr/agenda/decouverte-de-la-biodiversite-en-foret-deu-fmanor076v51gf9s/
LOCATION:– LE CAULE-SAINTE-BEUVE\, LE CAULE-SAINTE-BEUVE\, 76390\, France
CATEGORIES:Atelier / Stage,Autre,Mise en avant sur l'accueil,Randonnées/Balades,Visite
ATTACH;FMTTYPE=image/jpg:https://www.tourisme-aumale-blangy.fr/wp-content/uploads/tourinsoft/Forêt d'Eu (2).jpg
END:VEVENT
END:VCALENDAR