BEGIN:VCALENDAR
VERSION:2.0
PRODID:-//Office de tourisme Aumale blangy sur bresle - ECPv6.0.9//NONSGML v1.0//EN
CALSCALE:GREGORIAN
METHOD:PUBLISH
X-ORIGINAL-URL:https://www.tourisme-aumale-blangy.fr
X-WR-CALDESC:évènements pour Office de tourisme Aumale blangy sur bresle
REFRESH-INTERVAL;VALUE=DURATION:PT1H
X-Robots-Tag:noindex
X-PUBLISHED-TTL:PT1H
BEGIN:VTIMEZONE
TZID:Europe/Paris
BEGIN:DAYLIGHT
TZOFFSETFROM:+0100
TZOFFSETTO:+0200
TZNAME:CEST
DTSTART:20250330T010000
END:DAYLIGHT
BEGIN:STANDARD
TZOFFSETFROM:+0200
TZOFFSETTO:+0100
TZNAME:CET
DTSTART:20251026T010000
END:STANDARD
END:VTIMEZONE
BEGIN:VEVENT
DTSTART;TZID=Europe/Paris:20250831T100000
DTEND;TZID=Europe/Paris:20250831T180000
DTSTAMP:20260419T161535
CREATED:20250822T084906Z
LAST-MODIFIED:20250822T224911Z
UID:529505-1756634400-1756663200@www.tourisme-aumale-blangy.fr
SUMMARY:Chasse au trésor à la mini ferme du Far West
DESCRIPTION:De 10h à 18h\nAu programme :\n> Tour de calèche en tracteur\n> Présence de la mascotte\n> Visite du parc\n> Chasse au trésor avec un cadeau pour les enfants en fin de parcours\n> Château gonflable et autres…\nRestauration sur place (repas et goûter) 6€\nAu menu :\nFrites saucisses et boissons fraîches\nEntrée 3€ – Gratuit jusqu’à 3 ans \n\n\n                                    \n                                   \n\n                                    \n                                   \n\n                                    \n                                   \n\n                                    \n                                   \nReservation : SansConseillée pour individuelConseillée pour groupe
URL:https://www.tourisme-aumale-blangy.fr/agenda/chasse-au-tresor-a-la-mini-ferme-du-far-west-fmanor076v5238ov/
LOCATION:4 IMPASSE MAURICE TOUSSAINT – DANCOURT\, 4 IMPASSE MAURICE TOUSSAINT\, DANCOURT\, 76340\, France
CATEGORIES:Contes et jeux,Mise en avant sur l'accueil,Portes ouvertes,Randonnées/Balades,Visite
ATTACH;FMTTYPE=image/jpg:https://www.tourisme-aumale-blangy.fr/wp-content/uploads/tourinsoft/chasse-au-trésor-2.jpg
END:VEVENT
END:VCALENDAR