BEGIN:VCALENDAR
VERSION:2.0
PRODID:-//Office de tourisme Aumale blangy sur bresle - ECPv6.0.9//NONSGML v1.0//EN
CALSCALE:GREGORIAN
METHOD:PUBLISH
X-WR-CALNAME:Office de tourisme Aumale blangy sur bresle
X-ORIGINAL-URL:https://www.tourisme-aumale-blangy.fr
X-WR-CALDESC:évènements pour Office de tourisme Aumale blangy sur bresle
REFRESH-INTERVAL;VALUE=DURATION:PT1H
X-Robots-Tag:noindex
X-PUBLISHED-TTL:PT1H
BEGIN:VTIMEZONE
TZID:Europe/Paris
BEGIN:DAYLIGHT
TZOFFSETFROM:+0100
TZOFFSETTO:+0200
TZNAME:CEST
DTSTART:20180325T010000
END:DAYLIGHT
BEGIN:STANDARD
TZOFFSETFROM:+0200
TZOFFSETTO:+0100
TZNAME:CET
DTSTART:20181028T010000
END:STANDARD
END:VTIMEZONE
BEGIN:VEVENT
DTSTART;VALUE=DATE:20180608
DTEND;VALUE=DATE:20180612
DTSTAMP:20260420T100100
CREATED:20170520T061333Z
LAST-MODIFIED:20180402T161057Z
UID:7380-1528423200-1528682399@www.tourisme-aumale-blangy.fr
SUMMARY:Voyage en Alsace - Personnes Agées de Rieux
DESCRIPTION:Proposé par l’Association des Personnes Agées de Rieux  \n4h00 – Départ vendredi de Rieux / Retour dimanche au environ de 15h00 à Rieux \nTous les repas : Petit déjeuner\, déjeuner et diner sont inclus au voyage ! \nAu programme :\nVisite d’une cristallerie\, d’une brasserie\, d’une cave vinicole\, de la ville de Kaysersberg\, d’une distillerie avec dégustation\, et enfin visite d’une confiturerie avec dégustation \nInclus « Soirée repas / spectacle » au Royal Palace le samedi soir + transport \nTarifs :\n370€/pers membre de l’association – 400€/non membre (150€ à la réservation) \nRéservations :\nM. BOULANGER Patrick : 02.35.93.32.61
URL:https://www.tourisme-aumale-blangy.fr/agenda/sortie-en-alsace/
CATEGORIES:Animations,Spectacle,Voyages / Sorties
END:VEVENT
BEGIN:VEVENT
DTSTART;VALUE=DATE:20180612
DTEND;VALUE=DATE:20180614
DTSTAMP:20260420T100100
CREATED:20180530T100415Z
LAST-MODIFIED:20180612T114236Z
UID:16752-1528768800-1528855199@www.tourisme-aumale-blangy.fr
SUMMARY:Voyage dans le Calvados - Amicale des Anciens Combattants
DESCRIPTION:Organisé par l’amicale des Anciens Combattants  \nDépart de Blangy-sur-Bresle \nVisite le matin d’une distillerie DROUIN et déjeuner au restaurant Les Tonneaux du père MAGLOIRE. \nPromenade en bateau dans l’estuaire de la Seine et passage sous les ponts de Tancarville et de Normandie. \nDégustation de fromages régionaux dans l’après-midi. \nTarifs : 50.00€/membre  et 60.00€/non-adhérent \nInfos : 06 13 61 32 42 \nAttention il ne reste plus que quelques places !! 
URL:https://www.tourisme-aumale-blangy.fr/agenda/voyage-dans-le-calvados/
CATEGORIES:Repas,Voyages / Sorties
ORGANIZER;CN="Anciens%20combattants%20de%20Blangy%2FBouttencourt":MAILTO:amgracias@orange.fr
END:VEVENT
END:VCALENDAR