BEGIN:VCALENDAR
VERSION:2.0
PRODID:-//Office de tourisme Aumale blangy sur bresle - ECPv6.0.9//NONSGML v1.0//EN
CALSCALE:GREGORIAN
METHOD:PUBLISH
X-ORIGINAL-URL:https://www.tourisme-aumale-blangy.fr
X-WR-CALDESC:évènements pour Office de tourisme Aumale blangy sur bresle
REFRESH-INTERVAL;VALUE=DURATION:PT1H
X-Robots-Tag:noindex
X-PUBLISHED-TTL:PT1H
BEGIN:VTIMEZONE
TZID:Europe/Paris
BEGIN:DAYLIGHT
TZOFFSETFROM:+0100
TZOFFSETTO:+0200
TZNAME:CEST
DTSTART:20180325T010000
END:DAYLIGHT
BEGIN:STANDARD
TZOFFSETFROM:+0200
TZOFFSETTO:+0100
TZNAME:CET
DTSTART:20181028T010000
END:STANDARD
END:VTIMEZONE
BEGIN:VEVENT
DTSTART;VALUE=DATE:20180824
DTEND;VALUE=DATE:20180903
DTSTAMP:20260420T051545
CREATED:20170725T053311Z
LAST-MODIFIED:20180402T161742Z
UID:10418-1535076000-1535853599@www.tourisme-aumale-blangy.fr
SUMMARY:Voyage au cœur du Périgord - Club de l'amitié Picarde
DESCRIPTION:Organisés par le Club de l’amitié Picarde de Bouillancourt-en-Séry \nVoyage au cœur du Périgord\, dans le Limousin à Cussac. \nDépart de Bouillancourt-en-Séry. \nInfos : 03 22 26 16 59 – 06 18 85 01 19 \n 
URL:https://www.tourisme-aumale-blangy.fr/agenda/voyage-dans-le-perigord-cussac/
CATEGORIES:Animations,Spectacle,Voyages / Sorties
END:VEVENT
END:VCALENDAR