BEGIN:VCALENDAR
VERSION:2.0
PRODID:-//Office de tourisme Aumale blangy sur bresle - ECPv6.0.9//NONSGML v1.0//EN
CALSCALE:GREGORIAN
METHOD:PUBLISH
X-ORIGINAL-URL:https://www.tourisme-aumale-blangy.fr
X-WR-CALDESC:évènements pour Office de tourisme Aumale blangy sur bresle
REFRESH-INTERVAL;VALUE=DURATION:PT1H
X-Robots-Tag:noindex
X-PUBLISHED-TTL:PT1H
BEGIN:VTIMEZONE
TZID:Europe/Paris
BEGIN:DAYLIGHT
TZOFFSETFROM:+0100
TZOFFSETTO:+0200
TZNAME:CEST
DTSTART:20180325T010000
END:DAYLIGHT
BEGIN:STANDARD
TZOFFSETFROM:+0200
TZOFFSETTO:+0100
TZNAME:CET
DTSTART:20181028T010000
END:STANDARD
END:VTIMEZONE
BEGIN:VEVENT
DTSTART;VALUE=DATE:20180903
DTEND;VALUE=DATE:20180912
DTSTAMP:20260420T051451
CREATED:20170131T123746Z
LAST-MODIFIED:20180613T102822Z
UID:5449-1535940000-1536631199@www.tourisme-aumale-blangy.fr
SUMMARY:Voyage en Autriche
DESCRIPTION:Du lundi 3 au 10 Septembre\nCircuit Couleur du Tyrol\n8 jours / 7 nuits en pension complète – Boissons incluses\nAu départ de Criquiers \nDécouvrez l’Autriche sous toutes ses couleurs : \nAu programme : circuit en pension complète / soirée tyrolienne / soirée dansante / dîner campagnard / promenade en train à vapeur / visite d’une distillerie / visite du monde de cristal Swarovski / une journée en Bavière … le tout accompagné d’un guide autrichien pendant tout le séjour. \nProgramme complet en téléchargement ici \nTarif : 1280€/personne (Acompte de réservation de 500€ + 780€ avant le 1er Août 2018) \nVoyage proposé par l’association Criquiers les mains vertes \nMICHEL Claude : Président et organisateur du voyage \nInscriptions et infos au : 02 35 94 22 33 /06 36 88 15 15 \nCOMPLET 
URL:https://www.tourisme-aumale-blangy.fr/agenda/voyage-en-autriche/
LOCATION:Salle des Fêtes de Criquiers\, 71 Rue Principale\, CRIQUIERS\, 76390\, France
CATEGORIES:Animations,Repas,Voyages / Sorties
END:VEVENT
END:VCALENDAR