BEGIN:VCALENDAR
VERSION:2.0
PRODID:-//Office de tourisme Aumale blangy sur bresle - ECPv6.0.9//NONSGML v1.0//EN
CALSCALE:GREGORIAN
METHOD:PUBLISH
X-ORIGINAL-URL:https://www.tourisme-aumale-blangy.fr
X-WR-CALDESC:évènements pour Office de tourisme Aumale blangy sur bresle
REFRESH-INTERVAL;VALUE=DURATION:PT1H
X-Robots-Tag:noindex
X-PUBLISHED-TTL:PT1H
BEGIN:VTIMEZONE
TZID:Europe/Paris
BEGIN:DAYLIGHT
TZOFFSETFROM:+0100
TZOFFSETTO:+0200
TZNAME:CEST
DTSTART:20180325T010000
END:DAYLIGHT
BEGIN:STANDARD
TZOFFSETFROM:+0200
TZOFFSETTO:+0100
TZNAME:CET
DTSTART:20181028T010000
END:STANDARD
END:VTIMEZONE
BEGIN:VEVENT
DTSTART;VALUE=DATE:20180918
DTEND;VALUE=DATE:20180927
DTSTAMP:20260420T051619
CREATED:20180525T072414Z
LAST-MODIFIED:20180525T072843Z
UID:7317-1537236000-1537927199@www.tourisme-aumale-blangy.fr
SUMMARY:Voyage en Espagne - Amicale des Anciens Combattants
DESCRIPTION:Direction l’Espagne – Costa Brava pour 8 jours / 7 nuits \nProposé par l’Amicale des Anciens Combattants \nDirection Lioret – Voyage en avion au départ de Beauvais. \nHôtel 4 étoiles près de la plage – Tout compris – Animations diverses \nOuvert à tous ! \nTarif adhérent : 496€/pers – Non adhérent : 550€/pers. \nInscriptions : 06 13 61 32 42
URL:https://www.tourisme-aumale-blangy.fr/agenda/voyage-en-espagne/
CATEGORIES:Animations,Repas,Voyages / Sorties
ORGANIZER;CN="Anciens%20combattants%20de%20Blangy%2FBouttencourt":MAILTO:amgracias@orange.fr
END:VEVENT
END:VCALENDAR