BEGIN:VCALENDAR
VERSION:2.0
PRODID:-//Office de tourisme Aumale blangy sur bresle - ECPv6.0.9//NONSGML v1.0//EN
CALSCALE:GREGORIAN
METHOD:PUBLISH
X-ORIGINAL-URL:https://www.tourisme-aumale-blangy.fr
X-WR-CALDESC:évènements pour Office de tourisme Aumale blangy sur bresle
REFRESH-INTERVAL;VALUE=DURATION:PT1H
X-Robots-Tag:noindex
X-PUBLISHED-TTL:PT1H
BEGIN:VTIMEZONE
TZID:Europe/Paris
BEGIN:DAYLIGHT
TZOFFSETFROM:+0100
TZOFFSETTO:+0200
TZNAME:CEST
DTSTART:20190331T010000
END:DAYLIGHT
BEGIN:STANDARD
TZOFFSETFROM:+0200
TZOFFSETTO:+0100
TZNAME:CET
DTSTART:20191027T010000
END:STANDARD
END:VTIMEZONE
BEGIN:VEVENT
DTSTART;VALUE=DATE:20190112
DTEND;VALUE=DATE:20190114
DTSTAMP:20260419T184145
CREATED:20181217T122637Z
LAST-MODIFIED:20190107T130404Z
UID:21158-1547254800-1547341199@www.tourisme-aumale-blangy.fr
SUMMARY:Journée à Paris - Mainières / Tilloy-Floriville
DESCRIPTION:Nous vous invitons à participer à une journée sur Paris qui aura lieu le 12 janvier. \nElle est ouverte à tous. \nTarifs : \n\n20.00€/Adhérent\n 25.00€/Non adhérent\n\nInclus transport Aller/Retour et quartier libre à Paris. \nOrganisée par Le Foyer Rural. \nInfos : 09 67 20 48 28
URL:https://www.tourisme-aumale-blangy.fr/agenda/journee-a-paris-mainieres-tilloy-floriville/
CATEGORIES:Animations,Voyages / Sorties
ATTACH;FMTTYPE=image/jpeg:https://www.tourisme-aumale-blangy.fr/wp-content/uploads/Paris-©-Pixabay.jpg
END:VEVENT
END:VCALENDAR