BEGIN:VCALENDAR
VERSION:2.0
PRODID:-//Office de tourisme Aumale blangy sur bresle - ECPv6.0.9//NONSGML v1.0//EN
CALSCALE:GREGORIAN
METHOD:PUBLISH
X-ORIGINAL-URL:https://www.tourisme-aumale-blangy.fr
X-WR-CALDESC:évènements pour Office de tourisme Aumale blangy sur bresle
REFRESH-INTERVAL;VALUE=DURATION:PT1H
X-Robots-Tag:noindex
X-PUBLISHED-TTL:PT1H
BEGIN:VTIMEZONE
TZID:Europe/Paris
BEGIN:DAYLIGHT
TZOFFSETFROM:+0100
TZOFFSETTO:+0200
TZNAME:CEST
DTSTART:20190331T010000
END:DAYLIGHT
BEGIN:STANDARD
TZOFFSETFROM:+0200
TZOFFSETTO:+0100
TZNAME:CET
DTSTART:20191027T010000
END:STANDARD
END:VTIMEZONE
BEGIN:VEVENT
DTSTART;VALUE=DATE:20190126
DTEND;VALUE=DATE:20190128
DTSTAMP:20260419T203017
CREATED:20180704T070920Z
LAST-MODIFIED:20180925T051445Z
UID:18030-1548464400-1548550799@www.tourisme-aumale-blangy.fr
SUMMARY:Sortie spectacle "Les Bodin's"
DESCRIPTION:Proposée par le comité des fêtes de Tilloy-Floriville \nDépart 17h45 de la salle des fêtes de Tilloy-Floriville \nSpectacle à 20h00 \nTarif : 56.00€ (Inclus transport+ spectacle) \nInfos : 06 10 40 48 41
URL:https://www.tourisme-aumale-blangy.fr/agenda/sortie-spectacle-bodins/
LOCATION:Salle des Fêtes de Tilloy-Floriville\, Rue des Tilleuls\, TILLOY FLORIVILLE\, 80220
CATEGORIES:Voyages / Sorties
END:VEVENT
END:VCALENDAR