BEGIN:VCALENDAR
VERSION:2.0
PRODID:-//Office de tourisme Aumale blangy sur bresle - ECPv6.0.9//NONSGML v1.0//EN
CALSCALE:GREGORIAN
METHOD:PUBLISH
X-ORIGINAL-URL:https://www.tourisme-aumale-blangy.fr
X-WR-CALDESC:évènements pour Office de tourisme Aumale blangy sur bresle
REFRESH-INTERVAL;VALUE=DURATION:PT1H
X-Robots-Tag:noindex
X-PUBLISHED-TTL:PT1H
BEGIN:VTIMEZONE
TZID:Europe/Paris
BEGIN:DAYLIGHT
TZOFFSETFROM:+0100
TZOFFSETTO:+0200
TZNAME:CEST
DTSTART:20230326T010000
END:DAYLIGHT
BEGIN:STANDARD
TZOFFSETFROM:+0200
TZOFFSETTO:+0100
TZNAME:CET
DTSTART:20231029T010000
END:STANDARD
BEGIN:DAYLIGHT
TZOFFSETFROM:+0100
TZOFFSETTO:+0200
TZNAME:CEST
DTSTART:20240331T010000
END:DAYLIGHT
BEGIN:STANDARD
TZOFFSETFROM:+0200
TZOFFSETTO:+0100
TZNAME:CET
DTSTART:20241027T010000
END:STANDARD
BEGIN:DAYLIGHT
TZOFFSETFROM:+0100
TZOFFSETTO:+0200
TZNAME:CEST
DTSTART:20250330T010000
END:DAYLIGHT
BEGIN:STANDARD
TZOFFSETFROM:+0200
TZOFFSETTO:+0100
TZNAME:CET
DTSTART:20251026T010000
END:STANDARD
BEGIN:DAYLIGHT
TZOFFSETFROM:+0100
TZOFFSETTO:+0200
TZNAME:CEST
DTSTART:20260329T010000
END:DAYLIGHT
BEGIN:STANDARD
TZOFFSETFROM:+0200
TZOFFSETTO:+0100
TZNAME:CET
DTSTART:20261025T010000
END:STANDARD
END:VTIMEZONE
BEGIN:VEVENT
DTSTART;VALUE=DATE:20231206
DTEND;VALUE=DATE:20260106
DTSTAMP:20260421T182159
CREATED:20231201T161211Z
LAST-MODIFIED:20251212T105758Z
UID:258545-1701820800-1767657599@www.tourisme-aumale-blangy.fr
SUMMARY:Les menus pour les fêtes de fin d'année
DESCRIPTION:Vous n’avez pas envie de cuisiner pour les fêtes de fin d’année ? \nLes restaurateurs et traiteurs du territoire vous proposent leur carte spéciale. \nLes idées menus :\n\n\n  \n\n  \nVous pouvez également commandez vos plateaux de fromages\, charcuteries\, fruits secs dans vos épiceries : Le grenier fromager de Blangy-sur-Bresle / Le bon marché Aumalois. \nRetrouvez toutes les cartes de menus\, desserts et autres accompagnements chez vos commerçants !
URL:https://www.tourisme-aumale-blangy.fr/agenda/menus-de-fin-dannee/
CATEGORIES:Adulte,Animations,Mise en avant sur l'accueil,Repas
ATTACH;FMTTYPE=image/jpeg:https://www.tourisme-aumale-blangy.fr/wp-content/uploads/2023/12/table-de-Noel-©Pixabay.jpg
END:VEVENT
BEGIN:VEVENT
DTSTART;TZID=Europe/Paris:20240404T000100
DTEND;TZID=Europe/Paris:20250531T235900
DTSTAMP:20260421T182159
CREATED:20211202T124704Z
LAST-MODIFIED:20250325T234907Z
UID:100435-1712188860-1748735940@www.tourisme-aumale-blangy.fr
SUMMARY:Joyeux anniversaire la BibOC
DESCRIPTION:Cette année\, la bibOC fête ses 20 ans\, et pour fêter l’évènement ensemble\, nous vous proposons une ou plusieurs animations spéciales chaque mois.\nCe mois-ci\, plongez dans une exposition inédite ! Vernissage : Vendredi 4 avril : 18h\nDécouvrez les temps forts de ces 20 dernières années\, portrait d’Odette CLERE\, les évolutions de la bibliothèque\, etc …\nA cette occasion\, un tirage au sort sera effectué du jeu concours : 20 abonnements offerts\nEntrée gratuite – Ouvert à tous aux horaires suivants :\n– Mardi 14h – 18h\n– Mercredi : 9h30 – 12h / 14h – 18h\n– Vendredi : 14h-19h\n– Samedi : 9h30 – 12h / 14h – 16h\nInfos : 02 35 93 23 31 \n\n\n                                    \n                                   \n\n                                    \n                                   \n\n                                    \n                                   \n\n                                    \n                                   \nReservation : Sans
URL:https://www.tourisme-aumale-blangy.fr/agenda/joyeux-anniversaire-la-biboc-fmanor076v51jk8i/
LOCATION:76340 Place Georges Durand – BLANGY-SUR-BRESLE\, 76340 Place Georges Durand\, BLANGY-SUR-BRESLE\, 76340\, France
CATEGORIES:Apéritif,Atelier / Stage,Contes et jeux,Exposition,Jeux de société,Mise en avant sur l'accueil
ATTACH;FMTTYPE=image/jpg:https://www.tourisme-aumale-blangy.fr/wp-content/uploads/tourinsoft/bibliothèque.jpg
ORGANIZER;CN="Biblioth%C3%A8que%20Odette%20Cl%C3%A9r%C3%A9":MAILTO:biboc76@gmail.com
END:VEVENT
BEGIN:VEVENT
DTSTART;TZID=Europe/Paris:20240414T113000
DTEND;TZID=Europe/Paris:20250414T173000
DTSTAMP:20260421T182159
CREATED:20200926T144704Z
LAST-MODIFIED:20250314T234905Z
UID:54230-1713094200-1744651800@www.tourisme-aumale-blangy.fr
SUMMARY:Sortie au Parc Canadien "Rêve de Bisons"
DESCRIPTION:Moment magique à Muchedent au parc « Rêve de bisons »  à découvrir à bord des camions miliaires ! \nDépart : 11h45 – Place Roger Thiebault / Retour vers 17h30\nCovoiturage \nTarifs « adhérent » : 16€/Adulte – Enfant à partir de 3 ans\nTarif « non adhérent » : + de 10 ans : 18€ / – de 10 ans : 11€\nPrévoir votre repas – Sortie ouverte à tous ! \nTel : 02 32 97 12 64 – accueil.latelier@outlook.fr \n\n\n                                    \n                                   \n\n                                    \n                                   \nReservation : Obligatoire pour individuelObligatoire pour groupe
URL:https://www.tourisme-aumale-blangy.fr/agenda/sortie-au-parc-canadien-reve-de-bisons-fmanor076v51eekv/
LOCATION:Place Roger Thiebault – BLANGY-SUR-BRESLE\, Place Roger Thiebault\, BLANGY-SUR-BRESLE\, 76340\, France
CATEGORIES:Autre,Spectacle
ATTACH;FMTTYPE=image/jpg:https://www.tourisme-aumale-blangy.fr/wp-content/uploads/tourinsoft/Muchedent.jpg
END:VEVENT
BEGIN:VEVENT
DTSTART;TZID=Europe/Paris:20250131T093000
DTEND;TZID=Europe/Paris:20250227T183000
DTSTAMP:20260421T182159
CREATED:20231023T074913Z
LAST-MODIFIED:20250227T224907Z
UID:250425-1738315800-1740681000@www.tourisme-aumale-blangy.fr
SUMMARY:Exposition Labyrinthorio à Foucarmont
DESCRIPTION:Dans le cadre du Projet Artistique et Culturel de Territoire mis en place en partenariat avec l’Atelier 231 de Sotteville-lès-Rouen\, l’association Mosaïques et la ville de Blangy-sur-Bresle\, Le Glaassssss organise des actions artistiques à l’échelle de la communauté de communes Aumale/Blangy-sur-Bresle. \nLe Glaassssss accueille l’exposition Labyrinthorio des artistes Amanda Pinto Da Silva et Daniel Mayar du collectif Dans La Forêt Hur Ben\, dans l’église de Foucarmont. \nVisite libre et gratuite tous les jours de  9h30 – 18h30 \nQuarante panneaux transparents\, de taille humaine\, peints et dessinés en partie pour se répondre les uns aux autres\, composent une structure labyrinthique. L’oeuvre invite le spectateur à parcourir l’espace\, à explorer différents angles et à entrer en résonnance avec l’installation. \nCette oeuvre a été créé après plusieurs semaines de résidence au sein de l’école primaire de Foucarmont.\nPlusieurs temps forts marqueront cette exposition avec des performances\, concerts et participations d’élèves\, d’enfants du centre de loisirs et autres surprises. \n A l’occasion du finissage du 28 février\, Daniel Mayar et Amanda Pinto Da Silva mettront en scène une performance dans le Labyrinthorio et feront une rétrospective vidéo sur les différentes interactions ayant eu lieu autour de la structure (tournage de clip\, visites musicales\, concerts…) \nOuvert à tous.  \nÉlodie : 06 74 46 66 76 ou Samuel : 06 80 73 76 78 \nProchaine(s) date(s) :  – 28/02/2025 à 18:30 \n\n\n                                    \n                                   \n\n                                    \n                                   \n\n                                    \n                                   \n\n                                    \n                                   \n\n                                    \n                                   \n\n                                    \n                                   \n\n                                    \n                                   \nReservation : Sans
URL:https://www.tourisme-aumale-blangy.fr/agenda/exposition-labyrinthorio-a-foucarmont-fmanor076v51uhs7/
LOCATION:Place des Cateliers – Foucarmont\, Place des Cateliers\, FOUCARMONT\, 76340
CATEGORIES:Autre,Exposition,Mise en avant sur l'accueil
ATTACH;FMTTYPE=image/jpg:https://www.tourisme-aumale-blangy.fr/wp-content/uploads/tourinsoft/Labyrinthorio.jpg
ORGANIZER;CN="Le%20Glaassssss":MAILTO:leglaassssss@gmail.com
END:VEVENT
BEGIN:VEVENT
DTSTART;VALUE=DATE:20250201
DTEND;VALUE=DATE:20250301
DTSTAMP:20260421T182159
CREATED:20250203T090517Z
LAST-MODIFIED:20250203T090517Z
UID:443398-1738368000-1740787199@www.tourisme-aumale-blangy.fr
SUMMARY:Les animations de la bibliothèque Odette Cléré
DESCRIPTION:Voici le programme des animations à venir :\n\n\nLa bibliothèque propose plus de 13 000 documents : romans\, documentaires\, bande-dessinées\, magazines etc… \nSix postes informatiques sont à disposition\, ainsi qu’un coin cafétéria pour la pause détente. \nLe réseau Wi-Fi est en accès libre et gratuit ! \nLES AFFICHES DU MOIS\n\n\n\nHORAIRES\n  \nLa bibliothèque est ouverte : \n\n Mardi de 14h à 18h\nMercredi de 9h30 à 12h et de 14h à 18h\nVendredi de 14h à 19h\nSamedi de 9h30 à 12h et de 14h à 16h\n\n  \nFermeture hebdomadaire : \n\nLundi\, jeudi et dimanche la journée\nMardi et vendredi matin\n\n  \nPour plus d’information\, veuillez contacter : 02 35 93 23 31 / biboc76@gmail.com
URL:https://www.tourisme-aumale-blangy.fr/agenda/les-animations-de-la-bibliotheque-odette-clere-2/
LOCATION:Bibliothèque Odette CLERE de Blangy-sur-Bresle\, 1 Place Georges DURAND\, Blangy-sur-Bresle\, 76340\, France
ATTACH;FMTTYPE=image/jpeg:https://www.tourisme-aumale-blangy.fr/wp-content/uploads/2024/10/©biboc.jpg
ORGANIZER;CN="Biblioth%C3%A8que%20Odette%20Cl%C3%A9r%C3%A9":MAILTO:biboc76@gmail.com
END:VEVENT
BEGIN:VEVENT
DTSTART;TZID=Europe/Paris:20250202T203000
DTEND;TZID=Europe/Paris:20250202T235900
DTSTAMP:20260421T182159
CREATED:20250128T144906Z
LAST-MODIFIED:20250131T234906Z
UID:442127-1738528200-1738540740@www.tourisme-aumale-blangy.fr
SUMMARY:Concert Antropia à Foucarmont
DESCRIPTION:Dans le cadre du Projet Artistique et Culturel de Territoire\, en partenariat avec l’Atelier 231\, l’association Mosaïques et la ville de Blangy-sur-Bresle\, le collectif Le Glaassssss invite le groupe de rock français rouennais Antropia à investir l’église Saint-Martin de Foucarmont pour y réaliser une live-session.\nCet événement\, qui s’inscrit dans la programmation de l’exposition Labyrinthorio conçue par\nAmanda Pinto Da Silva et Daniel Mayar promet une expérience immersive où musique\, arts plastiques et patrimoine se rencontrent. \nOriginaire de Rouen\, Antropia s’est forgé une identité musicale mêlant textes poétiques et énergie brute. Cette live-session s’inscrit dans le cadre de la sortie de son deuxième EP prévu fin 2025. Après avoir joué sur de nombreuses scènes\, comme celles du Murmure du son\, du 106 expérience ou du Bal à Blangy\, Antropia\nsouhaite renouer avec son amour du live et programme actuellement ses concerts 2025-2026. \nC’est un mélange de rock français\, d’art contemporain et de patrimoine qui déferle sur l’église Saint-Martin de Foucarmont. \nSamedi 1er février : Installation et présentation du tournage par l’équipe d’Antropia\nDimanche 2 février : Tournage de la live-session \nInfos : 06 11 14 74 87 – antropialegroupe@gmail.com \n\n\n                                    \n                                   \nReservation : Sans \n\n                             Communiqué de presse_Antropia_Église_Foucarmont_Live-session
URL:https://www.tourisme-aumale-blangy.fr/agenda/concert-antropia-a-foucarmont-fmanor076v5200ls/
LOCATION:Eglise Saint-Martin de Foucarmont – FOUCARMONT\, Eglise Saint-Martin de Foucarmont\, FOUCARMONT\, 76340\, France
CATEGORIES:Autre,Concert,Mise en avant sur l'accueil,Spectacle
ATTACH;FMTTYPE=image/jpg:https://www.tourisme-aumale-blangy.fr/wp-content/uploads/tourinsoft/.jpg
ORGANIZER;CN="Antropia":MAILTO:antropialegroupe@gmail.com
END:VEVENT
BEGIN:VEVENT
DTSTART;TZID=Europe/Paris:20250208T140000
DTEND;TZID=Europe/Paris:20250208T160000
DTSTAMP:20260421T182159
CREATED:20210331T114703Z
LAST-MODIFIED:20250203T234905Z
UID:68967-1739023200-1739030400@www.tourisme-aumale-blangy.fr
SUMMARY:Monopoly Blangeois
DESCRIPTION:La bibliothèque municipale Odette Cléré vous propose samedi 8 février de 14h à 15h50\, une après-midi « spécial jeu blangeois ».\nComme tout le monde le sait\, le jeu MONOPOLY permet aux joueurs de personnaliser entièrement le jeu. eL 2022\, lors de précédents « tickets culture »\, une équipe a crée un plateau\, des cartes chance\, et des pions spécial « Blangy-sur-Bresle » ! Le jeu intègre également des quiz sur la culture\, l’Histoire\, le sport\, la nature en lien avec les rues de Blangy-sur-Bresle. \nDésormais vous pouvez jouer au Monopoly de manière classique\, mais en essayant de récupérer peut-être même vos propres propriétés ! \nA partir de 12 ans \nTout au long de la semaine … empruntez un livre et faîtes un tour à la bibliothèque de Blangy aux horaires suivants :\nMardi : 14h-18h00 / Mercredi : 09h30-12h/ 14h-18h00 / Vendredi : 14h-19h00\nSamedi : 09h30-12h/ 14h-16h00. Fermée le lundi\, jeudi et dimanche au public\nInfos : 02 35 93 23 31- biboc76@gmail.com \n\n\n                                    \n                                   \nReservation : Conseillée pour individuelObligatoire pour groupe
URL:https://www.tourisme-aumale-blangy.fr/agenda/monopoly-blangeois-fmanor076v51fhzt/
LOCATION:Place Georges Durand – BLANGY-SUR-BRESLE\, Place Georges Durand\, BLANGY-SUR-BRESLE\, 76340\, France
CATEGORIES:Autre,Contes et jeux,Jeux de société,Mise en avant sur l'accueil
ATTACH;FMTTYPE=image/jpg:https://www.tourisme-aumale-blangy.fr/wp-content/uploads/tourinsoft/Visuels annonces Facebook - Animation de Janvier 205.jpg
ORGANIZER;CN="Biblioth%C3%A8que%20Odette%20Cl%C3%A9r%C3%A9":MAILTO:biboc76@gmail.com
END:VEVENT
BEGIN:VEVENT
DTSTART;TZID=Europe/Paris:20250208T190000
DTEND;TZID=Europe/Paris:20250208T235900
DTSTAMP:20260421T182159
CREATED:20250108T224908Z
LAST-MODIFIED:20250108T234907Z
UID:437438-1739041200-1739059140@www.tourisme-aumale-blangy.fr
SUMMARY:Soirée années 80 à Bouttencourt
DESCRIPTION:L’association LC Racing organise sa traditonnelle soirée dansante le samedi 8 février.\nRendez-vous à partir de 19h00 à la salle Eugène Nibas.\nMenu adulte : apéritif offert – croziflette ou crozets à la Digeonnaise (poulet et moutarde) – salade – fromage – dessert\nMenu enfant : boisson – croziflette ou crozets à la Digeonnaise (poulet et moutarde) – dessert\nSoirée animée par DJ Tonyo / Repas préparé par le Croc en bouche\nInfos : 06 29 52 07 56
URL:https://www.tourisme-aumale-blangy.fr/agenda/soiree-annees-80-a-bouttencourt-fmapic080v51iykw/
LOCATION:9 Avenue du Président Roosevelt – BOUTTENCOURT\, 9 Avenue du Président Roosevelt\, BOUTTENCOURT\, 80220\, France
CATEGORIES:Danse - Bal
ATTACH;FMTTYPE=image/jpg:https://www.tourisme-aumale-blangy.fr/wp-content/uploads/tourinsoft/rétro.jpg
END:VEVENT
BEGIN:VEVENT
DTSTART;TZID=Europe/Paris:20250209T110000
DTEND;TZID=Europe/Paris:20250209T235900
DTSTAMP:20260421T182159
CREATED:20231208T104905Z
LAST-MODIFIED:20250109T234907Z
UID:259642-1739098800-1739145540@www.tourisme-aumale-blangy.fr
SUMMARY:2ème Duathlon de la Glass Vallée Team Bike
DESCRIPTION:La Glass Vallée Team Bike organise son premier Duathlon ! \nPROGRAMME & TARIFS : \n–	Solo à partir de 16 ans :\nDépart 14h : 1 tour à pied / 2 tours en VTT / 1 tour à pied / 2 tours en VTT (circuit de 5km) 10€\n–	Duo à partir de 16 ans :\nDépart 14h : 1 tour à pied / 2 tours en VTT / 1 tour à pied / 2 tours en VTT (circuit de 5km) 16€ \n–	Duathlon jeune :\n6/10 ans -> Départ 11h : 1 tour à pied / 1 tours en VTT\n11/15 ans -> Départ 11h45 : 1 tour à pied / 2 tours en VTT / 1 tour à pied en duo (circuit de 5km) 10€ \nDeux types d’inscriptions possible  \nPar courrier :\nChèque à l’ordre de la Glass Vallée Team Bike accompagné du bulletin d’inscription.\nBecquet Rudy 5 Impasse des sources Rieux 76340 \nEn ligne :\nADEORUN \nPas d’inscription sur place\nCertificat médical pour les non licenciés\nRestauration sur place  \nInfos : 06 86 94 16 83 – 02 35 94 17 17 \n\n\n                                    \n                                   \nReservation : Obligatoire pour individuelObligatoire pour groupe
URL:https://www.tourisme-aumale-blangy.fr/agenda/2eme-duathlon-de-la-glass-vallee-team-bike-fmanor076v51uwgg/
LOCATION:Place Jean Moulin – BLANGY-SUR-BRESLE\, Place Jean Moulin\, BLANGY-SUR-BRESLE\, 76340\, France
CATEGORIES:Autre,Compétition sportive,Mise en avant sur l'accueil,Randonnées/Balades
ATTACH;FMTTYPE=image/jpg:https://www.tourisme-aumale-blangy.fr/wp-content/uploads/tourinsoft/VTT.jpg
ORGANIZER;CN="Glass%20vall%C3%A9e%20Team%20Bike":MAILTO:loic.desenclos@gmail.com
END:VEVENT
BEGIN:VEVENT
DTSTART;TZID=Europe/Paris:20250209T113000
DTEND;TZID=Europe/Paris:20250209T183000
DTSTAMP:20260421T182159
CREATED:20240119T084905Z
LAST-MODIFIED:20250120T234909Z
UID:274780-1739100600-1739125800@www.tourisme-aumale-blangy.fr
SUMMARY:Loto à Blangy-sur-Bresle
DESCRIPTION:Loto proposé par l’association des Parents d’élèves des écoles de Rieux\, Monchaux et Bazinval  : « Les p’tits loups de la vallée »\n11h30  : Ouverture de la salle des fêtes / Début des jeux 13h30 – Salle des fêtes – Animé par Nounou\nSpécial bon d’achat – 45 tirages\n1 bon de 600€ / 200€ / 150€ / 100€ /  bons de 50€ / 10 bons de 30€ / 10 bons de 20€ / 8 bons de 15€\nBuvette et restauration sur place\nInfos : 06 59 19 70 49 – 06 20 29 44 13 – lesptitsloups2024@gmail.com \n\n\n                                    \n                                   \nReservation : Obligatoire pour individuelObligatoire pour groupe
URL:https://www.tourisme-aumale-blangy.fr/agenda/loto-a-blangy-sur-bresle-fmanor076v51ovoo/
LOCATION:Rue Massé de Cormeilles – BLANGY-SUR-BRESLE\, Rue Massé de Cormeilles\, BLANGY-SUR-BRESLE\, 76340\, France
CATEGORIES:Autre
ATTACH;FMTTYPE=image/jpg:https://www.tourisme-aumale-blangy.fr/wp-content/uploads/tourinsoft/partie loto .jpg
END:VEVENT
BEGIN:VEVENT
DTSTART;TZID=Europe/Paris:20250209T120000
DTEND;TZID=Europe/Paris:20250209T190000
DTSTAMP:20260421T182159
CREATED:20230111T105339Z
LAST-MODIFIED:20250130T234907Z
UID:163631-1739102400-1739127600@www.tourisme-aumale-blangy.fr
SUMMARY:Loto à Conteville
DESCRIPTION:Salle des fêtes\n12h : Ouverture des portes – 14h : Début des jeux\n2 000€ en bons d’achat : 500€ – 300€ – 200€ – 40 tirages\nSpécial bons d’achats – Animé par Alain\nPrix des cartons : 2€ le carton – 20€ les 13\nTombola – Carton spécial-Jeu des 3 cartons\nInfos : 06 69 16 16 23 ou Mme PELLETIER : 06 87 53 28 35 \n\nReservation : Conseillée pour individuelConseillée pour groupe
URL:https://www.tourisme-aumale-blangy.fr/agenda/loto-a-conteville-fmanor076v51kapy/
LOCATION:– CONTEVILLE\, CONTEVILLE\, 76390\, France
CATEGORIES:Autre
ATTACH;FMTTYPE=image/jpg:https://www.tourisme-aumale-blangy.fr/wp-content/uploads/tourinsoft/Loto.jpg
END:VEVENT
BEGIN:VEVENT
DTSTART;VALUE=DATE:20250211
DTEND;VALUE=DATE:20250224
DTSTAMP:20260421T182159
CREATED:20250203T101747Z
LAST-MODIFIED:20250211T084801Z
UID:443446-1739232000-1740355199@www.tourisme-aumale-blangy.fr
SUMMARY:Que faire aux vacances d'Hiver ?
DESCRIPTION:Ce sont les vacances de Février … l’Office de Tourisme Aumale – Blangy-sur-Bresle vous proposent de nombreuses activités et sorties ! \nAu programme : Réouverture du Château de Rambures\, stages équitation\, structures gonflables… \nCoup d’œil sur le calendrier : \n\n  \nOu choisissez votre activité des vacances : \n 
URL:https://www.tourisme-aumale-blangy.fr/agenda/que-faire-aux-vacances-dhiver/
ATTACH;FMTTYPE=image/png:https://www.tourisme-aumale-blangy.fr/wp-content/uploads/2024/02/vacances-fevrier-2025.png
END:VEVENT
BEGIN:VEVENT
DTSTART;TZID=Europe/Paris:20250214T173000
DTEND;TZID=Europe/Paris:20250214T235900
DTSTAMP:20260421T182159
CREATED:20250113T104906Z
LAST-MODIFIED:20250113T234905Z
UID:438530-1739554200-1739577540@www.tourisme-aumale-blangy.fr
SUMMARY:Loto à Campneuseville
DESCRIPTION:Salle des fêtes\n17h30 : Ouverture des portes / 20h : Début des jeux\nAnimé par Richard – Spécial bons d’achat de 15€ à 500€ / 1 caddie de courses\nRestauration et buvette sur place\nInfos : 06 59 19 70 49 / 06 20 29 44 13 \n\nReservation : Conseillée pour individuel
URL:https://www.tourisme-aumale-blangy.fr/agenda/loto-a-campneuseville-fmanor076v51zy8a/
LOCATION:– CAMPNEUSEVILLE\, CAMPNEUSEVILLE\, 76340\, France
CATEGORIES:Autre
ATTACH;FMTTYPE=image/jpg:https://www.tourisme-aumale-blangy.fr/wp-content/uploads/tourinsoft/loto.jpg
END:VEVENT
BEGIN:VEVENT
DTSTART;TZID=Europe/Paris:20250215T170000
DTEND;TZID=Europe/Paris:20250215T233000
DTSTAMP:20260421T182159
CREATED:20230413T084909Z
LAST-MODIFIED:20250109T234906Z
UID:193458-1739638800-1739662200@www.tourisme-aumale-blangy.fr
SUMMARY:Loto à Richemont
DESCRIPTION:Loto proposé par le Comité des fêtes\nAu foyer rural – Animé par Stéphanie\n17h : Ouverture des portes / 19h : Début des jeux\n2 300€ en bons d’achat – Carton final à 500€\nBuvette et restauration sur place\nInfos :  07 68 55 74 01 \n\n\n                                    \n                                   \nReservation : Conseillée pour individuelConseillée pour groupe
URL:https://www.tourisme-aumale-blangy.fr/agenda/loto-a-richemont-fmanor076v51p86n/
LOCATION:Rue Centrale – RICHEMONT\, Rue Centrale\, RICHEMONT\, 76390\, France
CATEGORIES:Autre
ATTACH;FMTTYPE=image/jpg:https://www.tourisme-aumale-blangy.fr/wp-content/uploads/tourinsoft/loto.jpg
END:VEVENT
BEGIN:VEVENT
DTSTART;TZID=Europe/Paris:20250215T170000
DTEND;TZID=Europe/Paris:20250215T235900
DTSTAMP:20260421T182159
CREATED:20240315T164907Z
LAST-MODIFIED:20250113T234905Z
UID:311539-1739638800-1739663940@www.tourisme-aumale-blangy.fr
SUMMARY:Loto à Guerville
DESCRIPTION:Salle des fêtes\n17h00 : Ouverture des portes – 19h00 : Début des jeux\nAnimé par Nounou – Spécial bons d’achat de 15€ à 500€\nRestauration et buvette sur place\nInfos : 06 59 19 70 49 / 06 20 29 44 13 \n\nReservation : Conseillée pour individuelConseillée pour groupe
URL:https://www.tourisme-aumale-blangy.fr/agenda/loto-a-guerville-fmanor076v51u82g/
LOCATION:Route de Guerville – GUERVILLE\, Route de Guerville\, GUERVILLE\, 76340\, France
CATEGORIES:Autre
ATTACH;FMTTYPE=image/jpg:https://www.tourisme-aumale-blangy.fr/wp-content/uploads/tourinsoft/loto .jpg
END:VEVENT
BEGIN:VEVENT
DTSTART;TZID=Europe/Paris:20250216T130000
DTEND;TZID=Europe/Paris:20250216T235900
DTSTAMP:20260421T182159
CREATED:20250129T144906Z
LAST-MODIFIED:20250129T234906Z
UID:442321-1739710800-1739750340@www.tourisme-aumale-blangy.fr
SUMMARY:Concours de dominos à Saint-Léger aux Bois
DESCRIPTION:Equipes constituées sur place\nSalle des fêtes\nInscription à partir 13h00 – Début des jeux : 14h00\nTarif : 10.00 € l’inscription\nRécompenses :\n– 1er prix – 90€\n– 2ème prix – 60€\n– 3ème prix – 40€\n– 4ème prix – 20€\net un lot pour chaque participant (porc débité)\nRestauration  et buvette sur place\nInfos : 06 98 39 25 74\nProposé par le Comité des fêtes \n\n\n                                    \n                                   \nReservation : Conseillée pour individuel
URL:https://www.tourisme-aumale-blangy.fr/agenda/concours-de-dominos-a-saint-leger-aux-bois-fmanor076v5200wv/
LOCATION:2 D116 – SAINT-LEGER-AUX-BOIS\, 2 D116\, SAINT-LEGER-AUX-BOIS\, 76340\, France
CATEGORIES:Autre,Jeux de société
ATTACH;FMTTYPE=image/jpg:https://www.tourisme-aumale-blangy.fr/wp-content/uploads/tourinsoft/domino.jpg
END:VEVENT
BEGIN:VEVENT
DTSTART;TZID=Europe/Paris:20250221T190000
DTEND;TZID=Europe/Paris:20250222T003000
DTSTAMP:20260421T182159
CREATED:20200207T143203Z
LAST-MODIFIED:20241205T234905Z
UID:27281-1740164400-1740184200@www.tourisme-aumale-blangy.fr
SUMMARY:Loto à Blangy sur Bresle
DESCRIPTION:Salle des fêtes\n18h : Ouverture des portes / 20h : Début des jeux\nAnimé par Stéphanie – 2 500€ en bons d’achat – Carton final à 300€ et 500€\nBuvette – sandwich – gâteaux et crêpes en vente sur place\nInfos : 07 68 55 74 01 \n\n\n                                    \n                                   \nReservation : Conseillée pour individuel
URL:https://www.tourisme-aumale-blangy.fr/agenda/loto-a-blangy-sur-bresle-fmanor076v50z0jh/
LOCATION:Salle des fêtes – BLANGY-SUR-BRESLE\, Salle des fêtes\, BLANGY-SUR-BRESLE\, 76340\, France
CATEGORIES:Autre,Contes et jeux
ATTACH;FMTTYPE=image/jpg:https://www.tourisme-aumale-blangy.fr/wp-content/uploads/tourinsoft/loto4-Freepik.jpg
END:VEVENT
BEGIN:VEVENT
DTSTART;VALUE=DATE:20250223
DTEND;VALUE=DATE:20250228
DTSTAMP:20260421T182159
CREATED:20250127T135034Z
LAST-MODIFIED:20250127T135145Z
UID:441867-1740268800-1740700799@www.tourisme-aumale-blangy.fr
SUMMARY:Sorties au salon de l'agriculture
DESCRIPTION:Explorez les pavillons\, rencontrez les animaux et savourez les spécialités régionales ! Une expérience enrichissante pour petits et grands. 🎉 \nRéservez dès maintenant pour ne pas manquer cet événement incontournable. 🚍 \n2 dates :\n– Dimanche 23 Février\n– Jeudi 27 Février\n2 départs au choix :\n– 6h00 – Gare – Blangy\n– 6h30 – Gare – Aumale\nRéservations obligatoires – Places limitées\nInscription auprès de Blangy Loisirs : 06 86 88 78 25 \n \n  \n  \n  \n  \n  \n  \n  \n  \n  \n  \n  \n  \nSorties proposées par l’Association Blangy Loisirs
URL:https://www.tourisme-aumale-blangy.fr/agenda/sorties-au-salon-de-lagriculture/
ATTACH;FMTTYPE=image/jpeg:https://www.tourisme-aumale-blangy.fr/wp-content/uploads/2025/01/Salon-de-lagriculture-2025.jpg
END:VEVENT
BEGIN:VEVENT
DTSTART;TZID=Europe/Paris:20250223T090000
DTEND;TZID=Europe/Paris:20250223T153000
DTSTAMP:20260421T182159
CREATED:20250220T144908Z
LAST-MODIFIED:20250220T234909Z
UID:448141-1740301200-1740324600@www.tourisme-aumale-blangy.fr
SUMMARY:Rencontres de badminton à Blangy-sur-Bresle
DESCRIPTION:Badminton interclubs D4\nGymnase Maurice Fléchelle\nRencontre n°1 – 9h00 – Blangy /Boos\nRencontre n°2 – 12h00 :  Blangy / Bois-Guillaume 1\nEntrée gratuite\nVenez nombreux encourager votre équipe ! \n\nReservation : Sans
URL:https://www.tourisme-aumale-blangy.fr/agenda/rencontres-de-badminton-a-blangy-sur-bresle-fmanor076v5206jq/
LOCATION:Rue du Collège – BLANGY-SUR-BRESLE\, Rue du Collège\, BLANGY-SUR-BRESLE\, 76340\, France
CATEGORIES:Compétition sportive,Mise en avant sur l'accueil
ATTACH;FMTTYPE=image/jpg:https://www.tourisme-aumale-blangy.fr/wp-content/uploads/tourinsoft/badminton.jpg
ORGANIZER;CN="SEPBB%20Badminton":MAILTO:bcb.blangy.76@gmail.com
END:VEVENT
BEGIN:VEVENT
DTSTART;TZID=Europe/Paris:20250228T130000
DTEND;TZID=Europe/Paris:20250228T170000
DTSTAMP:20260421T182159
CREATED:20250213T164907Z
LAST-MODIFIED:20250221T234906Z
UID:445837-1740747600-1740762000@www.tourisme-aumale-blangy.fr
SUMMARY:Coinchée d'or au Caule sainte Beuve
DESCRIPTION:Championnat départemental de manille\nÉpreuve ouverte à tous – Sélection au Caule-Ste-Beuve\nRendez-vous à la salle\n13h15 : Inscriptions\n14h : Première partie\nParticipation : 8€\nInfos : 06 95 10 80 91 \n\n\n                                    \n                                   \n\n                                    \n                                   \nReservation : Sans
URL:https://www.tourisme-aumale-blangy.fr/agenda/coinchee-dor-au-caule-sainte-beuve-fmanor076v520491/
LOCATION:Salle des Fêtes – LE CAULE-SAINTE-BEUVE\, Salle des Fêtes\, LE CAULE-SAINTE-BEUVE\, 76390\, France
CATEGORIES:Autre,Jeux de société,Mise en avant sur l'accueil
ATTACH;FMTTYPE=image/jpg:https://www.tourisme-aumale-blangy.fr/wp-content/uploads/tourinsoft/Jeu de cartes-manille-2025.jpg
END:VEVENT
END:VCALENDAR